Workbook

Sheet TC 2.6 CHUAN TA
A1: UBND THẢNH PHỐ HỒ CHÍ MINH TRƯỜNG CAO ĐẲNG LÝ TỰ TRỌNG THÀNH PHỐ HỒ CHÍ MINH | AI1: CỘNG HÒA XÃ HỘI CHỦ NGHĨA VIỆT NAM Độc lập - Tự do - Hạnh phúc
A3: THỐNG KÊ TRÌNH ĐỘ NGOẠI NGỮ CỦA GIẢNG VIÊN
A5: STT | B5: Họ tên | C5: GV | D5: NV | E5: kiêm chức | F5: GV + kiêm chức | G5: Giới tính | H5: Ngày sinh | I5: Tháng sinh | J5: Năm sinh | K5: Nơi sinh | L5: Ngày/tháng/năm sinh | M5: Đơn vị | N5: Số hiệu công chức | O5: Số chứng mình nhân dân | P5: Ngày cấp Chứng minh nhân dân | Q5: Nơi cấp chứng minh nhân dân | R5: Dân tộc | S5: Tôn giáo | T5: Quốc tịch | U5: Quê quán | V5: Địa chỉ thường trú | W5: Nơi ở hiện nay | X5: Điện thoại DD | Y5: Email | Z5: Số sổ bảo hiểm xã hội | AA5: Ngày hợp đồng | AB5: Ngày tuyển dụng | AC5: Cơ quan tuyển dụng | AD5: Ngày về cơ quan hiện nay | AE5: Thuộc loại cán bộ | AF5: Công việc hiện nay | AG5: Ngày vào ngành giáo dục | AH5: Chức vụ/ Chức danh hiện tại (công thức) | AI5: Chức vụ/ Chức danh hiện tại | AJ5: Hệ số phụ cấp chức vụ | AK5: Ngày bổ nhiệm chức vụ hiện tại | AL5: Lần bổ nhiệm | AM5: Chức vụ CQ kiêm nhiệm | AN5: Chức vụ CQ cao nhất đã qua | AO5: Ngày vào đảng | AP5: Ngày vào đảng chính thức | AQ5: Đảng viên (công thức) | AR5: Chức vụ Đảng hiện tại | AS5: Học vấn phổ thông | AT5: Đã tốt nghiệp | AU5: Trình độ chuyên môn cao nhất (công thức) | AV5: (Ẩn) | AW5: Chuyên ngành đào tạo (Ẩn) | AX5: Chuyên ngành đào tạo | AY5: Nơi đào tạo | AZ5: Hình thức đào tạo | BA5: Năm tốt nghiệp | BB5: Chứng chỉ bồi dưỡng nghiệp vụ | BC5: Chứng chỉ khác | BD5: (Ẩn) | BE5: Kỹ năng nghề quốc gia | BF5: Bậc | BG5: Trình độ chuẩn | BH5: Trình độ lý luận chính trị (Ẩn) | BI5: Trình độ chuyên môn cao nhất | BJ5: Trình độ lý luận chính trị | BK5: Trình độ quản lý nhà nước | BL5: Trình độ quản lý giáo dục | BM5: Trình độ tin học (công thức) | BN5: Trình độ tin học | BO5: Trình độ IC3 | BP5: Ngoại ngữ | BQ5: Trình độ ngoại ngữ | BR5: Nơi cấp CC Ngoại ngữ | BS5: Theo khung NLNN 6 bậc | BT5: (Ẩn) | BU5: Ngạch công chức | BV5: Ngày bổ nhiệm vào ngạch | BW5: Bậc lương | BX5: Hệ số lương | BY5: Hưởng lương từ ngày | BZ5: % phụ cấp thâm niên vượt khung | CA5: Mốc tính lương lần sau | CB5: Phụ cấp thâm niên nghề nghiệp (%) | CC5: Ngày hưởng pc thâm niên nghề | CD5: Chênh lệch bảo lưu lương | CE5: Phụ cấp ưu đãi(%) | CF5: Hệ số phụ cấp khu vực | CG5: Phụ cấp đặc biệt(%) | CH5: Hệ số phụ cấp lưu động | CI5: Phụ cấp kiêm nhiệm(%) | CJ5: Phụ cấp thu hút(%) | CK5: Hệ số phụ cấp độc hại nguy hiểm | CL5: Phụ cấp đặc thù(%) | CM5: Hệ số phụ cấp trách nhiệm | CN5: Hệ số phụ cấp khác | CO5: Phụ cấp công vụ (%) | CP5: Trừ Bảo hiểm thất nghiệp | CQ5: 85% (thử việc) | CR5: Tột khung | CS5: Ngày nghỉ việc | CT5: Lý do nghỉ việc | CU5: Ghi chú | CV5: Trình độ ngoại ngữ | CW5: CHƯA ĐỦ CHUẨN | CX5: Thời điểm cấp chứng chỉ | CY5: Ghi chú
A6: 01 | B6: 02 | L6: 03 | M6: 04 | AU6: 05 | AX6: 06 | BQ6: 07 | CX6: 08 | CY6: 09
A7: 01 | B7: Nguyễn Anh Tuấn | C7: X | F7: X | G7: Nam | H7: =LEFT(L7,2) -> 06 | I7: =MID(L7,4,2) -> 11 | J7: =RIGHT(L7,4) -> 1981 | K7: TP.HCM | L7: 06/11/1981 | M7: Khoa Động lực | O7: 079081001334 | P7: 27/04/2016 | Q7: Cục cảnh sát đăng ký quản lý cư trú | R7: Kinh | S7: Không | U7: Thành phố Hồ Chí Minh | V7: 95 Rạch Cát, Bến Lức, P7, Q8 | X7: 0903660165 | Y7: anhtuanspkt@gmail.com | Z7: 0205363670 | AB7: 01/09/2005 | AC7: Sở GDĐT TPHCM | AD7: 01/09/2005 | AE7: Hợp đồng không thời hạn | AG7: 01/09/2005 | AH7: Trưởng Khoa | AI7: Trưởng Khoa | AK7: 01/08/2015 | AS7: 12/12 | AT7: THPT | AU7: Tiến sỹ | AV7: =INDEX([1]DATA!$W$10:$W$285,MATCH(B7,[1]DATA!$C$10:$C$285,0)) -> Tiến sĩ | AW7: =INDEX([1]DATA!$X$10:$X$285,MATCH(B7,[1]DATA!$C$10:$C$285,0)) -> Kỹ thuật Cơ khí Động lực | AX7: Kỹ thuật Cơ khí động lực | AY7: - Trường ĐH GTVT - Trường ĐH Hàng Hải Việt Nam | BB7: SP Bậc 2 - Chứng chỉ nghề bậc 3/7 - NVSP cho GV ĐH, CĐ | BC7: - Bồi dưỡng CDNN giảng viên cao cấp (hạng I) - BD GV chính | BD7: - ĐHSPKT - Bậc 2 - NVSP dành cho GV CĐ, ĐH | BE7: Nghề Công nghệ Ô tô | BF7: 3 | BH7: =INDEX([1]DATA!$Z$10:$Z$285,MATCH(B7,[1]DATA!$C$10:$C$285,0)) -> Trung cấp | BI7: - Tiến sỹ - Đại học | BJ7: Trung cấp | BL7: CBQL các Khoa, Phòng, Ban trường ÐH | BM7: UD CNTT CB | BN7: UD CNTT CB | BQ7: C1 | BT7: =INDEX([1]DATA!$O$10:$O$285,MATCH(B7,[1]DATA!$C$10:$C$285,0)) -> V.07.01.03 | BU7: V.07.01.03 | BW7: 6 | BX7: 3.99 | BY7: 01/09/2018 | CA7: 01/09/2018 | CV7: - B2 - Đại học | CW7: 3/19 | CX7: 21/05/2019
A8: 02 | B8: Võ Đắc Thịnh | C8: X | F8: X | G8: Nam | H8: =LEFT(L8,2) -> 16 | I8: =MID(L8,4,2) -> 01 | J8: =RIGHT(L8,4) -> 1979 | K8: Thành phố Hồ Chí Minh | L8: 16/01/1979 | M8: Khoa Động lực | O8: 079079003245 | P8: 18/12/2018 | Q8: Cục cảnh sát đăng ký quản lý cư trú | R8: Kinh | S8: Không | U8: Tỉnh Bình Dương | V8: 204 Tầng 3 Lô G Chung cư Bàu Cát II, Phường 10, Quận Tân Bình, TPHCM | X8: 0903869052 | Y8: vodacthinhoto79@gmail.com | Z8: 0202201607 | AB8: 01/09/2002 | AC8: Sở GDĐT TPHCM | AD8: 01/09/2002 | AE8: Biên chế | AG8: 01/09/2002 | AH8: Phó Trưởng Khoa | AI8: Phó Trưởng Khoa | AK8: 01/08/2015 | AP8: 20/12/2007 | AQ8: X | AS8: 12/12 | AT8: THPT | AU8: Thạc sỹ | AV8: =INDEX([1]DATA!$W$10:$W$285,MATCH(B8,[1]DATA!$C$10:$C$285,0)) -> Thạc sĩ | AW8: =INDEX([1]DATA!$X$10:$X$285,MATCH(B8,[1]DATA!$C$10:$C$285,0)) -> Kỹ thuật Ô tô, máy kéo | AX8: Kỹ thuật ô tô, máy kéo | BB8: SP Bậc 2 - Chứng chỉ nghề bậc 3/7 | BC8: - BD GV chính | BD8: ĐHSPKT | BE8: Nghề Công nghệ Ô tô | BF8: 3 | BH8: =INDEX([1]DATA!$Z$10:$Z$285,MATCH(B8,[1]DATA!$C$10:$C$285,0)) -> Trung cấp | BI8: Thạc sỹ | BJ8: Trung cấp | BL8: CBQL các Khoa, Phòng, Ban trường ÐH | BM8: UD CNTT CB | BN8: UD CNTT CB | BQ8: B1 | BT8: =INDEX([1]DATA!$O$10:$O$285,MATCH(B8,[1]DATA!$C$10:$C$285,0)) -> V.07.01.03 | BU8: V.07.01.03 | BW8: 7 | BX8: 4.32 | BY8: 01/09/2018 | CA8: 01/09/2018 | CV8: B1 Toefl | CX8: 28/08/2012
A9: 03 | B9: Hà Quốc Bảo | C9: X | F9: X | G9: Nam | H9: =LEFT(L9,2) -> 02 | I9: =MID(L9,4,2) -> 02 | J9: =RIGHT(L9,4) -> 1987 | K9: Kiên Giang | L9: 02/02/1987 | M9: Khoa Động lực | O9: 024578348 | P9: 11/08/2006 | Q9: CA. TPHCM | R9: Kinh | S9: Thiên chúa | U9: Tỉnh Thái Bình | V9: 114/34 Phú Thọ Hòa, P. Phú Thọ Hòa, Q. Tân Phú | X9: 0933651943 | Y9: haquocbao22@yahoo.com.vn | Z9: 7914159577 | AB9: 01/09/2013 | AC9: Sở GDĐT TPHCM | AD9: 01/09/2013 | AE9: Hợp đồng không thời hạn | AG9: 01/09/2013 | AH9: Trưởng Bộ môn | AI9: Trưởng bộ môn Điện ô tô | AK9: 01/01/2019 | AS9: 12/12 | AT9: THPT | AU9: Thạc sỹ | AV9: =INDEX([1]DATA!$W$10:$W$285,MATCH(B9,[1]DATA!$C$10:$C$285,0)) -> Thạc sĩ | AW9: =INDEX([1]DATA!$X$10:$X$285,MATCH(B9,[1]DATA!$C$10:$C$285,0)) -> Kỹ thuật Cơ khí Động lực | AX9: Kỹ thuật Cơ khí Động lực | BB9: SP Bậc 2 - Chứng chỉ nghề bậc 3/7 | BC9: - BD GV chính | BD9: ĐHSPKT | BF9: 3/7 | BH9: =INDEX([1]DATA!$Z$10:$Z$285,MATCH(B9,[1]DATA!$C$10:$C$285,0)) | BI9: Thạc sỹ | BM9: A | BN9: A | BQ9: B1 | BT9: =INDEX([1]DATA!$O$10:$O$285,MATCH(B9,[1]DATA!$C$10:$C$285,0)) -> V.07.01.03 | BU9: V.07.01.03 | BW9: 2 | BX9: 2.67 | CA9: 01/09/2016 | CV9: B1 | CX9: 30/08/2015
A10: 04 | B10: Nguyễn Hữu Mạnh | C10: X | F10: X | G10: Nam | H10: =LEFT(L10,2) -> 04 | I10: =MID(L10,4,2) -> 03 | J10: =RIGHT(L10,4) -> 1980 | K10: Lào Cai | L10: 04/03/1980 | M10: Khoa Động lực | O10: 023655683 | P10: 26/06/2013 | Q10: CA TPHCM | R10: Kinh | S10: Không | U10: Xã An Quí, Huyện Quỳnh Phụ, Tỉnh Thái Bình | V10: 428 Hoàng Hữu Nam, KP Giãn Dân, phường Long Thạnh Mỹ, Q9 | X10: 0983888291 | Y10: manhnguyenckd@gmail.com | Z10: 0206414710 | AB10: 01/09/2006 | AC10: Sở GDĐT TPHCM | AD10: 01/09/2006 | AE10: Hợp đồng không thời hạn | AG10: 01/09/2006 | AH10: Trưởng Bộ môn | AI10: Trưởng Bộ môn | AK10: 01/09/2015 | AS10: 12/12 | AT10: THPT | AU10: - Thạc sỹ - Đại học | AV10: =INDEX([1]DATA!$W$10:$W$285,MATCH(B10,[1]DATA!$C$10:$C$285,0)) -> Thạc sĩ | AW10: =INDEX([1]DATA!$X$10:$X$285,MATCH(B10,[1]DATA!$C$10:$C$285,0)) -> Kỹ thuật Cơ khí Động lực | AX10: - Kỹ thuật Cơ khí Động lực - Ngôn ngữ Anh | BB10: SP Bậc 2 - Chứng chỉ nghề bậc 3/7 | BC10: - BD GV chính | BD10: ĐHSPKT | BF10: 3/7 | BH10: =INDEX([1]DATA!$Z$10:$Z$285,MATCH(B10,[1]DATA!$C$10:$C$285,0)) -> Sơ cấp | BI10: Thạc sỹ | BJ10: Trung cấp | BM10: B | BN10: Trình độ B (2004) | BQ10: C1 | BT10: =INDEX([1]DATA!$O$10:$O$285,MATCH(B10,[1]DATA!$C$10:$C$285,0)) -> V.07.01.03 | BU10: V.07.01.03 | BW10: 5 | BX10: 3.66 | CA10: 01/09/2018 | CV10: B1 | CX10: 25/03/2019
A11: 05 | B11: Triệu Phú Nguyên | C11: X | F11: X | G11: Nam | H11: =LEFT(L11,2) -> 12 | I11: =MID(L11,4,2) -> 03 | J11: =RIGHT(L11,4) -> 1980 | K11: TPHCM | L11: 12/03/1980 | M11: Khoa Động lực | O11: 023523303 | P11: 18/04/2008 | Q11: CA TPHCM | R11: Hoa | S11: Không | U11: Trung Quốc | V11: 121A/13A Hậu Giang, P5, Q6 | X11: 0908368347 | Y11: nguyentrieuphu@yahoo.com | Z11: 7909078910 | AB11: 01/09/2008 | AC11: Sở GDĐT TPHCM | AD11: 01/09/2008 | AE11: Hợp đồng không thời hạn | AG11: 01/09/2008 | AH11: Trưởng Bộ môn | AI11: Trưởng Bộ môn | AK11: 01/12/2017 | AS11: 12/12 | AT11: THPT | AU11: Thạc sỹ | AV11: =INDEX([1]DATA!$W$10:$W$285,MATCH(B11,[1]DATA!$C$10:$C$285,0)) -> Thạc sĩ | AW11: =INDEX([1]DATA!$X$10:$X$285,MATCH(B11,[1]DATA!$C$10:$C$285,0)) -> Kỹ sư Cơ khí động lực | AX11: Kỹ thuật Cơ khí Động lực | BB11: SP Bậc 2 - Chứng chỉ nghề bậc 3/7 | BC11: - BD GV chính | BD11: ĐHSPKT | BF11: 3/7 | BH11: =INDEX([1]DATA!$Z$10:$Z$285,MATCH(B11,[1]DATA!$C$10:$C$285,0)) -> Sơ cấp | BI11: Thạc sỹ | BJ11: Trung cấp | BM11: A | BN11: Trình độ A | BQ11: B1 | BT11: =INDEX([1]DATA!$O$10:$O$285,MATCH(B11,[1]DATA!$C$10:$C$285,0)) -> V.07.01.03 | BU11: V.07.01.03 | BW11: 4 | BX11: 3.33 | CA11: 01/09/2016 | CV11: B1 | CX11: 09/05/2013
A12: 06 | B12: Hồ Văn Hóa | C12: X | F12: X | G12: Nam | H12: =LEFT(L12,2) -> 29 | I12: =MID(L12,4,2) -> 06 | J12: =RIGHT(L12,4) -> 1987 | K12: TPHCM | L12: 29/06/1987 | M12: Khoa Động lực | O12: 024292308 | P12: 14/07/2004 | Q12: CA. TPHCM | R12: Kinh | S12: Không | U12: Xã Bình Mỹ, Huyện Củ Chi, Thành phố Hồ Chí Minh | V12: Tổ 8, ấp 7, xã Bình Mỹ, Huyện Củ Chi, TP.HCM | X12: 0906660312 | Y12: vanhoaspkt@gmail.com | Z12: #N/A | AB12: 01/09/2012 | AC12: Sở GDĐT TPHCM | AD12: 20/08/2012 | AE12: Hợp đồng không thời hạn | AG12: 20/08/2012 | AH12: Giảng viên | AS12: 12/12 | AT12: THPT | AU12: - Thạc sỹ | AV12: =INDEX([1]DATA!$W$10:$W$285,MATCH(B12,[1]DATA!$C$10:$C$285,0)) -> Thạc sĩ | AW12: =INDEX([1]DATA!$X$10:$X$285,MATCH(B12,[1]DATA!$C$10:$C$285,0)) -> Kỹ sư Cơ khí Động lực | AX12: - Kỹ thuật Cơ khí động lực | BB12: SP Bậc 2 - Chứng chỉ nghề bậc 3/7 | BD12: ĐHSPKT | BE12: Công nghệ Ô tô | BF12: 3 | BH12: =INDEX([1]DATA!$Z$10:$Z$285,MATCH(B12,[1]DATA!$C$10:$C$285,0)) -> Sơ cấp | BI12: - Thạc sỹ - Đại học | BJ12: Sơ cấp | BM12: B | BN12: Trình độ B | BQ12: B1 | BT12: =INDEX([1]DATA!$O$10:$O$285,MATCH(B12,[1]DATA!$C$10:$C$285,0)) -> V.07.01.03 | BU12: V.07.01.03 | BW12: 3 | BX12: 3 | CA12: 01/09/2018 | CB12: 0.05 | CC12: 01/09/2018 | CV12: - B1 | CX12: 28/08/2013
A13: 07 | B13: Đặng Thái Sơn | C13: X | F13: X | G13: Nam | H13: =LEFT(L13,2) -> 06 | I13: =MID(L13,4,2) -> 08 | J13: =RIGHT(L13,4) -> 1984 | K13: Kiên Giang | L13: 06/08/1984 | M13: Khoa Động lực | O13: 024761501 | P13: 20/12/2013 | Q13: CA TPHCM | R13: Kinh | S13: Thiên chúa | U13: Xã Tân An, Huyện Tân Hiệp, Tỉnh Kiên Giang | V13: Tổ 22 Ấp Đình, xã Tân Phú Trung, Củ Chi | X13: 0937681703 | Y13: thaisonltt@gmail.com | Z13: 7910171254 | AB13: 01/09/2009 | AC13: Sở GDĐT TPHCM | AD13: 01/09/2009 | AE13: Hợp đồng không thời hạn | AG13: 01/09/2009 | AH13: Giảng viên | AS13: 12/12 | AT13: THPT | AU13: Thạc sỹ | AV13: =INDEX([1]DATA!$W$10:$W$285,MATCH(B13,[1]DATA!$C$10:$C$285,0)) -> Thạc sĩ | AW13: =INDEX([1]DATA!$X$10:$X$285,MATCH(B13,[1]DATA!$C$10:$C$285,0)) -> Kỹ thuật Ô tô, máy kéo | AX13: Kỹ thuật ô tô, máy kéo | BB13: SP Bậc 2 - Chứng chỉ nghề bậc 3/7 | BC13: - BD GV chính | BD13: Bậc 2 (2003) | BE13: Công nghệ Ô tô | BF13: 3 | BH13: =INDEX([1]DATA!$Z$10:$Z$285,MATCH(B13,[1]DATA!$C$10:$C$285,0)) | BI13: Thạc sỹ | BJ13: Trung cấp | BQ13: B1 | BS13: B1 | BT13: =INDEX([1]DATA!$O$10:$O$285,MATCH(B13,[1]DATA!$C$10:$C$285,0)) -> V.07.01.03 | BU13: V.07.01.03 | BW13: 4 | BX13: 3.33 | CA13: 01/09/2018 | CV13: Toeic 520 | CX13: 09/12/2012
A14: 08 | B14: Hoàng Phúc Bảo | C14: X | F14: X | G14: Nam | H14: =LEFT(L14,2) -> 28 | I14: =MID(L14,4,2) -> 01 | J14: =RIGHT(L14,4) -> 1984 | K14: TPHCM | L14: 28/01/1984 | M14: Khoa Động lực | O14: 079084011850 | P14: 23/07/2018 | Q14: Cục cảnh sát đăng ký quản lý cư trú | R14: Kinh | S14: Không | U14: Tỉnh Tiền Giang | V14: 20/2 Phạm Văn Hùng, Phường 10, Quận 8, TPHCM | X14: 0968774325 | Y14: hoangphucbaockd@gmail.com | Z14: 7914159576 | AB14: 01/09/2013 | AC14: Sở GDĐT TPHCM | AD14: 01/09/2013 | AE14: Hợp đồng không thời hạn | AG14: 01/09/2013 | AH14: Giảng viên | AS14: 12/12 | AT14: THPT | AU14: Đại học | AV14: =INDEX([1]DATA!$W$10:$W$285,MATCH(B14,[1]DATA!$C$10:$C$285,0)) -> Đại học | AW14: =INDEX([1]DATA!$X$10:$X$285,MATCH(B14,[1]DATA!$C$10:$C$285,0)) -> Cơ khí Động lực | AX14: Cơ khí động lực | BB14: SP Bậc 2 - Chứng chỉ nghề bậc 3/7 | BD14: ĐHSPKT | BE14: Công nghệ Ô tô | BF14: 3 | BH14: =INDEX([1]DATA!$Z$10:$Z$285,MATCH(B14,[1]DATA!$C$10:$C$285,0)) | BI14: Đại học | BM14: A | BN14: A | BQ14: A2 | BS14: A2 | BT14: =INDEX([1]DATA!$O$10:$O$285,MATCH(B14,[1]DATA!$C$10:$C$285,0)) -> V.07.01.03 | BU14: V.07.01.03 | BW14: 2 | BX14: 2.67 | CA14: 01/09/2016 | CV14: TOEIC 400 | CX14: 2016
A15: 09 | B15: Kiều Trung Tín | C15: X | F15: X | G15: Nam | H15: =LEFT(L15,2) -> 08 | I15: =MID(L15,4,2) -> 04 | J15: =RIGHT(L15,4) -> 1982 | K15: TPHCM | L15: 08/04/1982 | M15: Khoa Động lực | O15: 023493630 | P15: 15/06/2012 | Q15: CA.TPHCM | R15: Kinh | S15: Không | U15: Xã Bình Chánh, Huyện Bình Chánh, Thành phố Hồ Chí Minh | V15: C12/23 ấp 3 xã Bình Chánh, huyện Bình Chánh, TPHCM | X15: 01226148847 | Y15: ttin182@yahoo.com.vn | Z15: 0204354426 | AB15: 01/09/2010 | AC15: Sở GDĐT TPHCM | AD15: 01/09/2010 | AE15: Hợp đồng không thời hạn | AG15: 01/03/2009 | AH15: Giảng viên | AS15: 12/12 | AT15: THPT | AU15: Đại học | AV15: =INDEX([1]DATA!$W$10:$W$285,MATCH(B15,[1]DATA!$C$10:$C$285,0)) -> Kỹ sư | AW15: =INDEX([1]DATA!$X$10:$X$285,MATCH(B15,[1]DATA!$C$10:$C$285,0)) -> Kỹ thuật Ô tô - Máy động lực | AX15: Kỹ thuật Ô tô - Máy động lực | BB15: - SP dạy nghề - Chứng chỉ nghề bậc 3/7 | BC15: - BD GV chính | BD15: CĐSP | BF15: 3/7 | BH15: =INDEX([1]DATA!$Z$10:$Z$285,MATCH(B15,[1]DATA!$C$10:$C$285,0)) | BI15: Đại học | BM15: CĐ | BN15: Cao Đẳng | BQ15: A2 | BS15: A2 | BT15: =INDEX([1]DATA!$O$10:$O$285,MATCH(B15,[1]DATA!$C$10:$C$285,0)) -> V.07.01.03 | BU15: V.07.01.03 | BV15: 01/09/2011 | BW15: 3 | BX15: 3 | BY15: 01/09/2017 | CA15: 01/09/2017 | CB15: 9% | CC15: 01/05/2019 | CV15: TOEFL 433 | CX15: 25/05/2014
A16: 10 | B16: Nguyễn Minh Thái | C16: X | F16: X | G16: Nam | H16: =LEFT(L16,2) -> 02 | I16: =MID(L16,4,2) -> 09 | J16: =RIGHT(L16,4) -> 1984 | K16: TPHCM | L16: 02/09/1984 | M16: Khoa Động lực | O16: 023727322 | P16: 29/07/2013 | Q16: CA THPCM | R16: Kinh | S16: Không | U16: Xã Tân Thới Nhì, Huyện Hóc Môn, Thành phố Hồ Chí Minh | V16: 66/1B ấp Dân Thắng 1, xã Tân Thới Nhì, huyện Hóc Môn, TPHCM | X16: 0904444491 | Y16: nguyenminhthailtt@gmail.com | Z16: 7910171253 | AB16: 01/09/2009 | AC16: Sở GDĐT TPHCM | AD16: 01/09/2009 | AE16: Hợp đồng không thời hạn | AG16: 01/09/2009 | AH16: Giảng viên | AS16: 12/12 | AT16: THPT | AU16: Đại học | AV16: =INDEX([1]DATA!$W$10:$W$285,MATCH(B16,[1]DATA!$C$10:$C$285,0)) -> Kỹ sư | AW16: =INDEX([1]DATA!$X$10:$X$285,MATCH(B16,[1]DATA!$C$10:$C$285,0)) -> Cơ khí động lực | AX16: Cơ khí động lực | BB16: SP Bậc 2 - Chứng chỉ nghề bậc 3/7 | BC16: - BD GV chính | BD16: ĐHSPKT | BE16: Công nghệ Ô tô | BF16: 3 | BH16: =INDEX([1]DATA!$Z$10:$Z$285,MATCH(B16,[1]DATA!$C$10:$C$285,0)) | BI16: Đại học | BQ16: B1 | BT16: =INDEX([1]DATA!$O$10:$O$285,MATCH(B16,[1]DATA!$C$10:$C$285,0)) -> V.07.01.03 | BU16: V.07.01.03 | BW16: 4 | BX16: 3.33 | CA16: 01/09/2018 | CV16: B1 | CX16: 29/01/2018
A17: 11 | B17: Nguyễn Thái Bình | C17: X | F17: X | G17: Nam | H17: =LEFT(L17,2) -> 02 | I17: =MID(L17,4,2) -> 01 | J17: =RIGHT(L17,4) -> 1973 | K17: TPHCM | L17: 02/01/1973 | M17: Khoa Động lực | O17: 022958396 | P17: 18/03/2010 | Q17: CA TPHCM | R17: Kinh | S17: Không | U17: Phường Tăng Nhơn Phú A, Quận 9, Thành phố Hồ Chí Minh | V17: 637 Lê Văn Việt, KP5, Tăng Nhơn Phú A, Q.9 | X17: 0906414482 | Y17: binhnguyenthai60@gmail.com | Z17: 7910171256 | AB17: 01/09/2009 | AC17: Sở GDĐT TPHCM | AD17: 01/09/2009 | AE17: Hợp đồng không thời hạn | AG17: 01/09/2009 | AH17: Giảng viên | AS17: 12/12 | AT17: THPT | AU17: Thạc sỹ | AV17: =INDEX([1]DATA!$W$10:$W$285,MATCH(B17,[1]DATA!$C$10:$C$285,0)) -> Thạc sĩ | AW17: =INDEX([1]DATA!$X$10:$X$285,MATCH(B17,[1]DATA!$C$10:$C$285,0)) -> Kỹ thuật ô tô, máy kéo | AX17: Kỹ thuật ô tô, máy kéo | BB17: SP Bậc 2 - Chứng chỉ nghề bậc 3/7 | BC17: - BD GV chính | BD17: ĐHSPKT | BE17: Công nghệ Ô tô | BF17: 3 | BH17: =INDEX([1]DATA!$Z$10:$Z$285,MATCH(B17,[1]DATA!$C$10:$C$285,0)) -> Sơ cấp | BI17: Thạc sỹ | BJ17: Sơ cấp | BM17: B | BN17: Trình độ B | BQ17: C1 | BT17: =INDEX([1]DATA!$O$10:$O$285,MATCH(B17,[1]DATA!$C$10:$C$285,0)) -> V.07.01.03 | BU17: V.07.01.03 | BW17: 4 | BX17: 3.33 | CA17: 01/09/2018 | CV17: Đại học Tiếng Anh | CX17: 15/02/2002
A18: 12 | B18: Nguyễn Thành Đức | C18: X | F18: X | G18: Nam | H18: =LEFT(L18,2) -> 14 | I18: =MID(L18,4,2) -> 10 | J18: =RIGHT(L18,4) -> 1978 | K18: Đồng Tháp | L18: 14/10/1978 | M18: Khoa Động lực | O18: 024520146 | P18: 16/09/2014 | Q18: CA TPHCM | R18: Kinh | S18: Không | U18: Tỉnh Ðồng Tháp | V18: 10/13 Kênh Nước Đen, P.Bình Hưng Hòa A, Q.Bình Tân | X18: 0903170567 | Y18: ng_th_duc@yahoo.com.vn | Z18: 7909078911 | AB18: 01/09/2008 | AC18: Sở GDĐT TPHCM | AD18: 01/09/2008 | AE18: Hợp đồng không thời hạn | AG18: 01/09/2008 | AH18: Giảng viên | AS18: 12/12 | AT18: THPT | AU18: Thạc sỹ | AV18: =INDEX([1]DATA!$W$10:$W$285,MATCH(B18,[1]DATA!$C$10:$C$285,0)) -> Thạc sĩ | AW18: =INDEX([1]DATA!$X$10:$X$285,MATCH(B18,[1]DATA!$C$10:$C$285,0)) -> Kỹ thuật Cơ khí Động lực | AX18: Kỹ thuật Cơ khí Động lực | BB18: SP Bậc 2 - Chứng chỉ nghề bậc 3/7 | BD18: ĐHSPKT | BF18: 3/7 | BH18: =INDEX([1]DATA!$Z$10:$Z$285,MATCH(B18,[1]DATA!$C$10:$C$285,0)) | BI18: Thạc sỹ | BQ18: B1 | BT18: =INDEX([1]DATA!$O$10:$O$285,MATCH(B18,[1]DATA!$C$10:$C$285,0)) -> V.07.01.03 | BU18: V.07.01.03 | BW18: 4 | BX18: 3.33 | CA18: 01/09/2018 | CV18: B1 | CX18: 09/05/2013
A19: 13 | B19: Nguyễn Thanh Hùng | C19: X | F19: X | G19: Nam | H19: =LEFT(L19,2) -> 03 | I19: =MID(L19,4,2) -> 09 | J19: =RIGHT(L19,4) -> 1982 | K19: CA. TP.HCM | L19: 03/09/1982 | M19: Khoa Động lực | O19: 079082002097 | P19: 13/06/2016 | Q19: CA. TPHCM | R19: Kinh | S19: Không | U19: Thành phố Hồ Chí Minh | V19: 020 Lô Y CC Ngô Gia Tự, Phường 2, Quận 10, TP.HCM | X19: 0938958210 | Y19: thanhhungspkt05@gmail.com | Z19: 7910002854 | AB19: 01/10/2012 | AC19: Sở GDĐT TPHCM | AD19: 01/10/2012 | AE19: Hợp đồng không thời hạn | AG19: 01/10/2012 | AH19: Giảng viên | AS19: 12/12 | AT19: THPT | AU19: Thạc sỹ | AV19: =INDEX([1]DATA!$W$10:$W$285,MATCH(B19,[1]DATA!$C$10:$C$285,0)) -> Thạc sĩ | AW19: =INDEX([1]DATA!$X$10:$X$285,MATCH(B19,[1]DATA!$C$10:$C$285,0)) -> Kỹ thuật ô tô máy kéo | AX19: Kỹ thuật ô tô, máy kéo | BB19: Bồi dưỡng NVSP cho GV ĐH, CĐ | BC19: SP Bậc 2 - Chứng chỉ nghề bậc 3/7 - BD GV chính | BD19: ĐHSPKT | BE19: Công nghệ Ô tô | BF19: 3 | BH19: =INDEX([1]DATA!$Z$10:$Z$285,MATCH(B19,[1]DATA!$C$10:$C$285,0)) | BI19: Thạc sỹ | BM19: UD CNTT CB | BN19: Ứng dụng CNTT cơ bản | BQ19: B2 | BS19: B2 | BT19: =INDEX([1]DATA!$O$10:$O$285,MATCH(B19,[1]DATA!$C$10:$C$285,0)) -> V.07.01.03 | BU19: V.07.01.03 | BW19: 3 | BX19: 3 | CA19: 01/10/2018 | CB19: 5% | CC19: 01/10/2018 | CV19: TOEIC 600 | CX19: 25/01/2019
A20: 14 | B20: Phan Anh Tuấn Kiệt | C20: X | F20: X | G20: Nam | H20: =LEFT(L20,2) -> 28 | I20: =MID(L20,4,2) -> 10 | J20: =RIGHT(L20,4) -> 1983 | K20: TPHCM | L20: 28/10/1983 | M20: Khoa Động lực | O20: 079083003103 | P20: 15/07/2016 | Q20: Cục cảnh sát đăng ký quản lý cư trú | R20: Kinh | S20: Thiên chúa | U20: Tỉnh Bình Ðịnh | V20: 16/1 Cách Mạng, P.Tân Thành, Q.Tân Phú | X20: 0938250452 | Y20: kiettool07@yahoo.com | Z20: 7908079140 | AB20: 01/09/2007 | AC20: Sở GDĐT TPHCM | AD20: 01/09/2007 | AE20: Hợp đồng không thời hạn | AG20: 01/09/2007 | AH20: Giảng viên | AS20: 12/12 | AT20: THPT | AU20: Thạc sỹ | AV20: =INDEX([1]DATA!$W$10:$W$285,MATCH(B20,[1]DATA!$C$10:$C$285,0)) -> Thạc sĩ | AW20: =INDEX([1]DATA!$X$10:$X$285,MATCH(B20,[1]DATA!$C$10:$C$285,0)) -> Kỹ thuật Cơ khí động lực | AX20: Kỹ thuật Cơ khí Động lực | BB20: SP Bậc 2 - Chứng chỉ nghề bậc 3/7 | BC20: - BD GV chính | BD20: ĐHSPKT | BF20: 3/7 | BH20: =INDEX([1]DATA!$Z$10:$Z$285,MATCH(B20,[1]DATA!$C$10:$C$285,0)) -> Sơ cấp | BI20: Thạc sỹ | BJ20: Trung cấp | BM20: UD CNTT CB | BN20: TH UDCB | BQ20: B1 | BT20: =INDEX([1]DATA!$O$10:$O$285,MATCH(B20,[1]DATA!$C$10:$C$285,0)) -> V.07.01.03 | BU20: V.07.01.03 | BW20: 5 | BX20: 3.66 | BY20: 43344 | CA20: 01/09/2018 | CV20: B1 | CX20: 09/05/2013
A21: 15 | B21: Trần Minh Tuấn | C21: X | F21: X | G21: Nam | H21: =LEFT(L21,2) -> 17 | I21: =MID(L21,4,2) -> 11 | J21: =RIGHT(L21,4) -> 1986 | K21: Quảng Ngãi | L21: 17/11/1986 | M21: Khoa Động lực | O21: 051086000128 | P21: 12/04/2017 | Q21: Cục cảnh sát đăng ký quản lý cư trú | R21: Kinh | S21: Không | U21: Xã Nghĩa Trung, Huyện Tư Nghĩa, Tỉnh Quảng Ngãi | V21: 151 Đường số 8, Phường 11, Quận Gò Vấp, TPHCM | X21: 0903870724 | Y21: tranminhtuan31@gmail.com | Z21: 7911094457 | AB21: 01/09/2010 | AC21: Sở GDĐT TPHCM | AD21: 01/09/2010 | AE21: Hợp đồng không thời hạn | AG21: 01/09/2010 | AH21: Giảng viên | AS21: 12/12 | AT21: THPT | AU21: Thạc sỹ | AV21: =INDEX([1]DATA!$W$10:$W$285,MATCH(B21,[1]DATA!$C$10:$C$285,0)) -> Thạc sĩ | AW21: =INDEX([1]DATA!$X$10:$X$285,MATCH(B21,[1]DATA!$C$10:$C$285,0)) -> Khai thác và bảo trì ô tô, máy kéo | AX21: Kỹ thuật Cơ khí Động lực | BB21: SP Bậc 2 - Chứng chỉ nghề bậc 3/7 | BD21: ĐHSPKT | BE21: Công nghệ Ô tô | BF21: 3 | BH21: =INDEX([1]DATA!$Z$10:$Z$285,MATCH(B21,[1]DATA!$C$10:$C$285,0)) -> Sơ cấp | BI21: Thạc sỹ | BJ21: Sơ cấp | BM21: UD CNTT CB | BN21: TH UDCB | BQ21: B1 | BT21: =INDEX([1]DATA!$O$10:$O$285,MATCH(B21,[1]DATA!$C$10:$C$285,0)) -> V.07.01.03 | BU21: V.07.01.03 | BW21: 3 | BX21: 3 | CA21: 01/09/2016 | CV21: B1 | CX21: 08/03/2012
A22: 16 | B22: Trần Quốc Duy | C22: X | F22: X | G22: Nam | H22: =LEFT(L22,2) | I22: =MID(L22,4,2) | J22: =RIGHT(L22,4) | K22: TPHCM | M22: Khoa Động lực | O22: 079085009956 | P22: 29/08/2017 | Q22: Cục cảnh sát đăng ký quản lý cư trú | R22: Kinh | S22: Thiên chúa | U22: Tỉnh Ðồng Nai | V22: 74/1/3 Tân Kỳ Tân Quý, Phường Tây Thạnh, Quận Tân Phú, TPHCM | X22: 0935 129 573 | Y22: quocduy_ckoto@yahoo.com.vn | Z22: 7911311169 | AB22: 01/03/2011 | AC22: Sở GDĐT TPHCM | AD22: 14/02/2011 | AE22: Hợp đồng không thời hạn | AG22: 14/02/2011 | AH22: Giảng viên | AS22: 12/12 | AT22: THPT | AU22: Thạc sỹ | AV22: =INDEX([1]DATA!$W$10:$W$285,MATCH(B22,[1]DATA!$C$10:$C$285,0)) -> Thạc sĩ | AW22: =INDEX([1]DATA!$X$10:$X$285,MATCH(B22,[1]DATA!$C$10:$C$285,0)) -> Kỹ thuật Cơ khí động lực | AX22: Kỹ thuật Cơ khí Động lực | BB22: SP Bậc 2 - Chứng chỉ nghề bậc 3/7 | BC22: - BD GV chính | BD22: Bậc 2 (2011) | BE22: Công nghệ Ô tô | BF22: 3 | BH22: =INDEX([1]DATA!$Z$10:$Z$285,MATCH(B22,[1]DATA!$C$10:$C$285,0)) | BI22: Thạc sỹ | BM22: A | BN22: A | BQ22: B1 | BS22: B1 | BT22: =INDEX([1]DATA!$O$10:$O$285,MATCH(B22,[1]DATA!$C$10:$C$285,0)) -> V.07.01.03 | BU22: V.07.01.03 | BW22: 3 | BX22: 3 | CA22: 01/03/2018 | CV22: TOEFL 467 | CX22: 11/03/2018
A23: 17 | B23: Trần Thế Sơn | C23: X | F23: X | G23: Nam | H23: =LEFT(L23,2) -> 18 | I23: =MID(L23,4,2) -> 06 | J23: =RIGHT(L23,4) -> 1990 | K23: Đồng Nai | L23: 18/06/1990 | M23: Khoa Động lực | O23: 271927461 | P23: 01/7/2016 | Q23: CA.Đồng Nai | R23: Kinh | S23: Không | U23: Xã La Ngà, Huyện Định Quán, Tỉnh Ðồng Nai | V23: Ấp 4, La Ngà, Định Quán, Đồng Nai | X23: 0974532823 | Z23: #N/A | AB23: 01/10/2018 | AC23: Sở GDĐT TPHCM | AD23: 01/10/2018 | AE23: Hợp đồng không thời hạn | AG23: 01/10/2018 | AH23: Giảng viên | AS23: 12/12 | AT23: THPT | AU23: Đại học | AV23: =INDEX([1]DATA!$W$10:$W$285,MATCH(B23,[1]DATA!$C$10:$C$285,0)) -> Đại học | AW23: =INDEX([1]DATA!$X$10:$X$285,MATCH(B23,[1]DATA!$C$10:$C$285,0)) -> Công nghệ kỹ thuật ô tô | AX23: Công nghệ Kỹ thuật Ô tô | BB23: - NVSP dành cho GV CĐ, ĐH | BC23: - BD GV chính | BD23: - NVSP dành cho GV CĐ, ĐH | BE23: Công nghệ Ô tô | BF23: 3 | BH23: =INDEX([1]DATA!$Z$10:$Z$285,MATCH(B23,[1]DATA!$C$10:$C$285,0)) | BI23: Đại học | BM23: A | BN23: A | BQ23: B1 | BT23: =INDEX([1]DATA!$O$10:$O$285,MATCH(B23,[1]DATA!$C$10:$C$285,0)) -> V.07.01.03 | BU23: V.07.01.03 | BW23: 1 | BX23: 2.34 | CV23: C | CX23: 15/11/2012
A24: 18 | B24: Nguyễn Lương Tâm | C24: X | F24: X | G24: Nam | H24: =LEFT(L24,2) -> 01 | I24: =MID(L24,4,2) -> 10 | J24: =RIGHT(L24,4) -> 1970 | K24: Qui Nhơn | L24: 01/10/1970 | M24: Khoa Động lực | O24: 022093185 | P24: 05/02/2010 | Q24: CA.TPHCM | R24: Kinh | S24: Không | U24: Tỉnh Thừa Thiên - Huế | V24: 143 CMT8, P12, Quận Tân Bình, TPHCM | X24: 0909511055 | Z24: #N/A | AB24: 01/10/2018 | AC24: Sở GDĐT TPHCM | AD24: 01/10/2018 | AE24: Hợp đồng không thời hạn | AG24: 1994 | AH24: Giảng viên | AS24: 12/12 | AT24: THPT | AU24: Đại học | AV24: =INDEX([1]DATA!$W$10:$W$285,MATCH(B24,[1]DATA!$C$10:$C$285,0)) -> Kỹ sư | AW24: =INDEX([1]DATA!$X$10:$X$285,MATCH(B24,[1]DATA!$C$10:$C$285,0)) -> Cơ khí | AX24: Kỹ sư Cơ khí | BB24: NVSP dành cho GV CĐ, ĐH | BC24: - BD GV chính | BD24: NVSP dành cho GV CĐ, ĐH | BE24: Công nghệ Ô tô | BF24: 3 | BH24: =INDEX([1]DATA!$Z$10:$Z$285,MATCH(B24,[1]DATA!$C$10:$C$285,0)) | BI24: Đại học | BM24: UD CNTT CB | BN24: ƯD CNTT cơ bản | BQ24: A2 | BT24: =INDEX([1]DATA!$O$10:$O$285,MATCH(B24,[1]DATA!$C$10:$C$285,0)) -> V.07.01.03 | BU24: V.07.01.03 | BW24: 1 | BX24: 2.34 | CV24: B | CX24: 22/01/2018
A25: 19 | B25: Trần Văn Đông | C25: X | F25: X | G25: Nam | H25: =LEFT(L25,2) -> 12 | I25: =MID(L25,4,2) -> 12 | J25: =RIGHT(L25,4) -> 1990 | K25: Bình Định | L25: 12/12/1990 | M25: Khoa Động lực | O25: 215223184 | P25: 29/01/2011 | Q25: CA.Bình Định | R25: Kinh | S25: Không | U25: Xã Mỹ An, Huyện Phù Mỹ, Tỉnh Bình Ðịnh | V25: 100/08 Quang Trung, P. Tăng Nhơn Phú B, Quận 9, TPHCM | X25: 0964345549 | Z25: #N/A | AB25: 01/01/2019 | AC25: Sở GDĐT TPHCM | AD25: 01/01/2019 | AE25: Tập sự | AG25: 01/01/2019 | AH25: Giảng viên | AS25: 12/12 | AT25: THPT | AU25: Thạc sỹ | AV25: =INDEX([1]DATA!$W$10:$W$285,MATCH(B25,[1]DATA!$C$10:$C$285,0)) -> Thạc sĩ | AW25: =INDEX([1]DATA!$X$10:$X$285,MATCH(B25,[1]DATA!$C$10:$C$285,0)) -> Kỹ thuật Cơ khí Động lực | AX25: Kỹ thuật Cơ khí Động lực | BB25: NVSP dành cho GV CĐ, ĐH | BC25: =- BD GV chính -> #NAME? | BD25: NVSP dành cho GV CĐ, ĐH | BH25: =INDEX([1]DATA!$Z$10:$Z$285,MATCH(B25,[1]DATA!$C$10:$C$285,0)) | BI25: Thạc sỹ | BM25: UD CNTT CB | BN25: UD CNTT CB | BQ25: A2 | BT25: =INDEX([1]DATA!$O$10:$O$285,MATCH(B25,[1]DATA!$C$10:$C$285,0)) -> V.07.01.03 | BU25: V.07.01.03 | BW25: 2 | BX25: 2.67 | CV25: B | CX25: 40379
A26: 20 | B26: Tạ Minh Cường | C26: X | F26: X | G26: Nam | H26: =LEFT(L26,2) -> 01 | I26: =MID(L26,4,2) -> 07 | J26: =RIGHT(L26,4) -> 1965 | K26: Tân Hiệp, Kiên Giang | L26: 01/07/1965 | M26: Khoa Điện - Điện tử | O26: 091065000076 | P26: 12/06/2019 | Q26: Cục Cảnh sát QLHC về TTXH | R26: Kinh | S26: Thiên chúa | U26: Xã Trực Hùng, Huyện Trực Ninh, Tỉnh Nam Ðịnh | V26: 73/9 Nguyễn Thượng Hiền, P5, Bình Thạnh | X26: 0903043765 | Y26: taminhcuong@gmail.com | Z26: 5396009947 | AB26: 01/09/2003 | AC26: Sở GDĐT TPHCM | AD26: 01/09/2003 | AE26: Biên chế | AG26: 08/03/1992 | AH26: Trưởng Khoa | AI26: - Phó Trưởng Khoa - Phụ trách khoa | AJ26: 0.35 | AK26: 01/01/2014 01/05/2019 | AS26: 12/12 | AT26: THPT | AU26: Thạc sỹ | AV26: =INDEX([1]DATA!$W$10:$W$285,MATCH(B26,[1]DATA!$C$10:$C$285,0)) -> Thạc sĩ | AW26: =INDEX([1]DATA!$X$10:$X$285,MATCH(B26,[1]DATA!$C$10:$C$285,0)) -> Thiết bị mạng và nhà máy điện | AX26: Thiết bị, mạng và nhà máy điện | BB26: Chứng chỉ nghề bậc 3/7 | BC26: - BD Kiến thức quốc phòng và an ninh đối tượng 3 - BD GV chính | BD26: KSGD | BF26: 3/7a | BH26: =INDEX([1]DATA!$Z$10:$Z$285,MATCH(B26,[1]DATA!$C$10:$C$285,0)) -> Sơ cấp | BI26: Thạc sỹ | BJ26: Trung cấp | BL26: CBQL các Khoa, Phòng, Ban trường ÐH | BM26: B | BN26: Trình độ B (1998) | BQ26: B1 | BT26: =INDEX([1]DATA!$O$10:$O$285,MATCH(B26,[1]DATA!$C$10:$C$285,0)) -> V.07.01.03 | BU26: V.07.01.03 | BW26: 6 | BX26: 3.99 | CA26: 01/09/2017 | CV26: B1 | CW26: 1/44 | CX26: 2012
A27: 21 | B27: Huỳnh Ngọc Mai | C27: X | F27: X | G27: Nam | H27: =LEFT(L27,2) -> 09 | I27: =MID(L27,4,2) -> 04 | J27: =RIGHT(L27,4) -> 1972 | K27: Sài Gòn | L27: 09/04/1972 | M27: Khoa Điện - Điện tử | O27: 023230246 | P27: 21/08/2009 | Q27: CA TPHCM | R27: Kinh | S27: Phật | U27: Phường An Khánh, Quận 2, Thành phố Hồ Chí Minh | V27: 395/2 Tân Thới Hiệp 21, Tổ 19, KP1, P.Tân Thới Hiệp, Q.12 | X27: 0908155383 | Y27: huynhngocmailtt@gmail.com | Z27: 0296241665 | AB27: 18/05/1996 | AC27: Sở GDĐT TPHCM | AD27: 18/05/1996 | AE27: Biên chế | AG27: 18/05/1996 | AH27: Phó Trưởng Khoa | AI27: - Trưởng Bộ môn - Phó Trưởng Khoa | AJ27: 0.25 0.35 | AK27: - 01/09/2015 - 10/06/2019 | AP27: 01/04/2009 | AQ27: X | AS27: 12/12 | AT27: THPT | AU27: Thạc sỹ | AV27: =INDEX([1]DATA!$W$10:$W$285,MATCH(B27,[1]DATA!$C$10:$C$285,0)) -> Thạc sĩ | AW27: =INDEX([1]DATA!$X$10:$X$285,MATCH(B27,[1]DATA!$C$10:$C$285,0)) -> Tự động hóa | AX27: Tự động hoá | BB27: SP Bậc 2 - Chứng chỉ nghề bậc 3/7 | BC27: - BD GV chính | BD27: ĐHSPKT | BF27: 3/7 | BH27: =INDEX([1]DATA!$Z$10:$Z$285,MATCH(B27,[1]DATA!$C$10:$C$285,0)) -> Sơ cấp | BI27: Thạc sỹ | BJ27: Trung cấp | BM27: ĐH | BN27: Đại học | BQ27: A2 | BT27: =INDEX([1]DATA!$O$10:$O$285,MATCH(B27,[1]DATA!$C$10:$C$285,0)) -> V.07.01.03 | BU27: V.07.01.03 | BV27: 18/05/1998 | BW27: 9 | BX27: 4.98 | BY27: 01/05/2017 | CA27: 01/05/2017 | CB27: 21% | CC27: 01/05/2019 | CV27: B | CX27: 16/12/1997
A28: 22 | B28: Quách Minh Thử | C28: X | F28: X | G28: Nam | H28: =LEFT(L28,2) -> 14 | I28: =MID(L28,4,2) -> 05 | J28: =RIGHT(L28,4) -> 1979 | K28: Long Định - Bình Đại - Bến Tre | L28: 14/05/1979 | M28: Khoa Điện - Điện tử | O28: 024610718 | P28: 07/08/2006 | Q28: CA TPHCM | R28: Kinh | S28: Không | U28: Xã Long Định, Huyện Bình Đại, Tỉnh Bến Tre | V28: 11/31/10 KP3, đường Tân Thới Hiệp 08, Phường Tân Thới Hiệp, Quận 12 | X28: 0979701817 | Y28: thuquachminhlytc@gmail.com | Z28: 0206414708 | AB28: 01/09/2006 | AC28: Sở GDĐT TPHCM | AD28: 01/09/2006 | AE28: Hợp đồng không thời hạn | AG28: 01/09/2006 | AH28: Trưởng Bộ môn | AI28: Trưởng Bộ môn | AK28: 01/09/2015 | AS28: 12/12 | AT28: THPT | AU28: Thạc sỹ | AV28: =INDEX([1]DATA!$W$10:$W$285,MATCH(B28,[1]DATA!$C$10:$C$285,0)) -> Thạc sĩ | AW28: =INDEX([1]DATA!$X$10:$X$285,MATCH(B28,[1]DATA!$C$10:$C$285,0)) -> Thiết bị mạng và nhà máy điện | AX28: Thiết bị, mạng và nhà máy điện | BB28: SP Bậc 2 - Chứng chỉ nghề bậc 3/7 | BD28: ĐHSPKT | BF28: 3/7 | BH28: =INDEX([1]DATA!$Z$10:$Z$285,MATCH(B28,[1]DATA!$C$10:$C$285,0)) -> Sơ cấp | BI28: Thạc sỹ | BJ28: Trung cấp | BM28: UD CNTT CB | BN28: TH UDCB | BQ28: B1 | BT28: =INDEX([1]DATA!$O$10:$O$285,MATCH(B28,[1]DATA!$C$10:$C$285,0)) -> V.07.01.03 | BU28: V.07.01.03 | BW28: 5 | BX28: 3.66 | CA28: 01/09/2017 | CV28: B1 | CX28: 11/04/2012
A29: 23 | B29: Võ Cường | C29: X | F29: X | G29: Nam | H29: =LEFT(L29,2) -> 16 | I29: =MID(L29,4,2) -> 11 | J29: =RIGHT(L29,4) -> 1966 | K29: Thành phố Hồ Chí Minh | L29: 16/11/1966 | M29: Khoa Điện - Điện tử | O29: 079066001159 | P29: 12/04/2016 | Q29: CA TPHCM | R29: Kinh | S29: Phật | U29: Huyện Phú Vang, Tỉnh Thừa Thiên - Huế | V29: 512A C/c Gia Phú, P. Bình Hưng Hòa, Q. Bình Tân | X29: 0903634753 | Y29: mailboxcuong@gmail.com | Z29: 0202201604 | AB29: 01/09/2002 | AC29: Sở GDĐT TPHCM | AD29: 01/09/2002 | AE29: Biên chế | AG29: 01/09/2002 | AH29: Trưởng Bộ môn | AI29: Trưởng Bộ môn | AK29: 01/09/2015 | AS29: 12/12 | AT29: THPT | AU29: Thạc sỹ | AV29: =INDEX([1]DATA!$W$10:$W$285,MATCH(B29,[1]DATA!$C$10:$C$285,0)) -> Thạc sĩ | AW29: =INDEX([1]DATA!$X$10:$X$285,MATCH(B29,[1]DATA!$C$10:$C$285,0)) -> Kỹ thuật Cơ Điện tử | AX29: Kỹ thuật điện và điện tử | BB29: SP Bậc 2 | BC29: - BD GV chính | BD29: ĐHSPKT | BE29: Điện tử công nghiệp | BF29: 3 | BH29: =INDEX([1]DATA!$Z$10:$Z$285,MATCH(B29,[1]DATA!$C$10:$C$285,0)) -> Trung cấp | BI29: Thạc sỹ | BJ29: Trung cấp | BM29: UD CNTT CB | BN29: TH UDCB | BQ29: B1 | BT29: =INDEX([1]DATA!$O$10:$O$285,MATCH(B29,[1]DATA!$C$10:$C$285,0)) -> V.07.01.03 | BU29: V.07.01.03 | BW29: 6 | BX29: 3.99 | CA29: 01/09/2016 | CV29: B1 | CX29: 19/01/2013
A30: 24 | B30: Cao Văn Tuấn | C30: X | F30: X | G30: Nam | H30: =LEFT(L30,2) -> 02 | I30: =MID(L30,4,2) -> 12 | J30: =RIGHT(L30,4) -> 1988 | K30: Quảng Ngãi | L30: 02/12/1988 | M30: Khoa Điện - Điện tử | O30: 051088000077 | P30: 10/2/2017 | Q30: CA TPHCM | R30: Kinh | S30: Thiên chúa | U30: Xã Đức Minh, Huyện Mộ Đức, Tỉnh Quảng Ngãi | V30: 242/2/5 Bà Hom, Phường 13, Quận 6, TPHCM | X30: 0907907093 | Z30: #N/A | AB30: 01/04/2018 | AC30: Sở GDĐT TPHCM | AD30: 01/4/2018 | AE30: Hợp đồng không thời hạn | AG30: 01/4/2018 | AH30: Giảng viên | AS30: THPT | AT30: 12/12 | AU30: Thạc sỹ | AV30: =INDEX([1]DATA!$W$10:$W$285,MATCH(B30,[1]DATA!$C$10:$C$285,0)) -> Thạc sĩ | AW30: =INDEX([1]DATA!$X$10:$X$285,MATCH(B30,[1]DATA!$C$10:$C$285,0)) -> Kỹ thuật điện | AX30: Kỹ thuật điện | BB30: NVSP dành cho GV CĐ, ĐH | BC30: - BD GV chính | BD30: NVSP dành cho GV CĐ, ĐH | BF30: 3/7a | BH30: =INDEX([1]DATA!$Z$10:$Z$285,MATCH(B30,[1]DATA!$C$10:$C$285,0)) | BI30: Thạc sỹ | BM30: UD CNTT CB | BN30: TH UDCB | BQ30: B1 | BT30: =INDEX([1]DATA!$O$10:$O$285,MATCH(B30,[1]DATA!$C$10:$C$285,0)) -> V.07.01.03 | BU30: V.07.01.03 | BV30: 01/04/2019 | BW30: 2 | BX30: 2.67 | BY30: 01/04/2019 | CA30: 01/04/2019 | CV30: B | CX30: 29/01/2016
A31: 25 | B31: Đặng Đức Minh | C31: X | F31: X | G31: Nam | H31: =LEFT(L31,2) -> 10 | I31: =MID(L31,4,2) -> 06 | J31: =RIGHT(L31,4) -> 1974 | K31: Hà Nội | L31: 10/06/1974 | M31: Khoa Điện - Điện tử | O31: 022765460 | P31: 18/08/2009 | Q31: CA TPHCM | R31: Kinh | S31: Không | U31: Xã Phổ Ninh, Huyện Đức Phổ, Tỉnh Quảng Ngãi | V31: 25 Cư xá Nguyễn Cảnh Chân, P Nguyễn Cư Trinh, Q1 | X31: 0989212633 | Z31: 0203318105 | AB31: 01/09/2003 | AC31: Sở GDĐT TPHCM | AD31: 01/09/2003 | AE31: Biên chế | AG31: 01/09/2003 | AH31: Giảng viên | AS31: 12/12 | AT31: THPT | AU31: Thạc sỹ | AV31: =INDEX([1]DATA!$W$10:$W$285,MATCH(B31,[1]DATA!$C$10:$C$285,0)) -> Thạc sĩ | AW31: =INDEX([1]DATA!$X$10:$X$285,MATCH(B31,[1]DATA!$C$10:$C$285,0)) -> Kỹ thuật điện tử | AX31: Kỹ thuật điện tử | BB31: - SP Bậc 2 - Chứng chỉ nghề bậc 5/7 | BC31: - BD GV chính | BD31: ĐH SPKT | BF31: 5/7 | BH31: =INDEX([1]DATA!$Z$10:$Z$285,MATCH(B31,[1]DATA!$C$10:$C$285,0)) -> Sơ cấp | BI31: Thạc sỹ | BJ31: Sơ cấp | BM31: B | BN31: Trình độ B | BQ31: B1 | BT31: =INDEX([1]DATA!$O$10:$O$285,MATCH(B31,[1]DATA!$C$10:$C$285,0)) -> V.07.01.03 | BU31: V.07.01.03 | BW31: 6 | BX31: 3.99 | CA31: 01/09/2017 | CV31: B1 | CX31: 03/10/2013
A32: 26 | B32: Đỗ Huỳnh Thanh Phong | C32: X | F32: X | G32: Nam | H32: =LEFT(L32,2) -> 02 | I32: =MID(L32,4,2) -> 02 | J32: =RIGHT(L32,4) -> 1983 | K32: Bến Tre | L32: 02/02/1983 | M32: Khoa Điện - Điện tử | O32: 025764174 | P32: 22/05/2013 | Q32: CA TPHCM | R32: Kinh | S32: Không | U32: Phường 7, Thành phố Mỹ Tho, Tỉnh Tiền Giang | V32: 08 Hiền Vương, Phú Thạnh, Tân Phú, TPHCM | X32: 0937 365 910 | Y32: thanhphong20082008@yahoo.com.vn | Z32: 7911094452 | AB32: 01/09/2010 | AC32: Sở GDĐT TPHCM | AD32: 01/09/2010 | AE32: Hợp đồng không thời hạn | AG32: 01/09/2010 | AH32: Giảng viên | AS32: 12/12 | AT32: THPT | AU32: Thạc sỹ | AV32: =INDEX([1]DATA!$W$10:$W$285,MATCH(B32,[1]DATA!$C$10:$C$285,0)) -> Thạc sĩ | AW32: =INDEX([1]DATA!$X$10:$X$285,MATCH(B32,[1]DATA!$C$10:$C$285,0)) -> Kỹ thuật điện | AX32: Kỹ thuật điện | BB32: SP Bậc 2 - Chứng chỉ nghề bậc 3/7 | BC32: - BD GV chính | BD32: ĐHSPKT | BF32: 3/7 | BH32: =INDEX([1]DATA!$Z$10:$Z$285,MATCH(B32,[1]DATA!$C$10:$C$285,0)) -> Sơ cấp | BI32: Thạc sỹ | BJ32: Sơ cấp | BM32: UD CNTT CB | BN32: TH UDCB | BQ32: B1 | BT32: =INDEX([1]DATA!$O$10:$O$285,MATCH(B32,[1]DATA!$C$10:$C$285,0)) -> V.07.01.03 | BU32: V.07.01.03 | BW32: 3 | BX32: 3 | CA32: 01/09/2017 | CV32: B1 | CX32: 28/08/2012
A33: 27 | B33: Lê Thế Huân | C33: X | F33: X | G33: Nam | H33: =LEFT(L33,2) -> 23 | I33: =MID(L33,4,2) -> 08 | J33: =RIGHT(L33,4) -> 1965 | K33: TPHCM | L33: 23/08/1965 | M33: Khoa Điện - Điện tử | O33: 021710558 | P33: 16/12/2003 | Q33: CA TPHCM | R33: Kinh | S33: Phật | U33: Quận Hải An, Thành phố Hải Phòng | V33: 453/25 Nguyễn Kiệm, P9, Q.Phú Nhuận | X33: 0985956872 | Y33: thehuanle@gmail.com | Z33: 0203318109 | AB33: 01/09/2003 | AC33: Sở GDĐT TPHCM | AD33: 01/09/2003 | AE33: Biên chế | AG33: 01/09/2003 | AH33: Giảng viên | AS33: 12/12 | AT33: THPT | AU33: Đại học | AV33: =INDEX([1]DATA!$W$10:$W$285,MATCH(B33,[1]DATA!$C$10:$C$285,0)) -> Đại học | AW33: =INDEX([1]DATA!$X$10:$X$285,MATCH(B33,[1]DATA!$C$10:$C$285,0)) -> Điện khí hóa và cung cấp điện | AX33: Điện khí hóa và cung cấp điện | BB33: Chứng chỉ nghề bậc 3/7 | BC33: - BD GV chính | BD33: KSGD | BF33: 3/7 | BH33: =INDEX([1]DATA!$Z$10:$Z$285,MATCH(B33,[1]DATA!$C$10:$C$285,0)) -> Sơ cấp | BI33: Đại học | BJ33: Sơ cấp | BM33: UD CNTT CB | BN33: TH UDCB | BQ33: A2 | BT33: =INDEX([1]DATA!$O$10:$O$285,MATCH(B33,[1]DATA!$C$10:$C$285,0)) -> V.07.01.03 | BU33: V.07.01.03 | BW33: 5 | BX33: 3.66 | CA33: 01/09/2016 | CV33: B (2019) | CX33: 07/05/2019
A34: 28 | B34: Lê Tiến Đạt | C34: X | F34: X | G34: Nam | H34: =LEFT(L34,2) -> 13 | I34: =MID(L34,4,2) -> 03 | J34: =RIGHT(L34,4) -> 1976 | K34: Đồng Nai | L34: 13/03/1976 | M34: Khoa Điện - Điện tử | O34: 022999157 | P34: 14/01/2005 | Q34: CA.TPHCM | R34: Kinh | S34: Thiên chúa | U34: Tỉnh Hà Nam | V34: 453/47 KA Lê Văn Sĩ, P12, Q3 | X34: 0909888219 | Z34: 0203318106 | AB34: 01/09/2003 | AC34: Sở GDĐT TPHCM | AD34: 01/09/2003 | AE34: Biên chế | AG34: 01/09/2003 | AH34: Giảng viên | AS34: 12/12 | AT34: THPT | AU34: Thạc sỹ | AV34: =INDEX([1]DATA!$W$10:$W$285,MATCH(B34,[1]DATA!$C$10:$C$285,0)) -> Thạc sĩ | AW34: =INDEX([1]DATA!$X$10:$X$285,MATCH(B34,[1]DATA!$C$10:$C$285,0)) -> Kỹ thuật Điều khiển và Tự động hóa | AX34: Kỹ thuật điều khiển và Tự động hóa | BB34: SP Bậc 2 - Chứng chỉ nghề bậc 3/7 | BC34: - BD GV chính | BD34: ĐHSPKT | BF34: 3/7 | BH34: =INDEX([1]DATA!$Z$10:$Z$285,MATCH(B34,[1]DATA!$C$10:$C$285,0)) | BI34: Thạc sỹ | BM34: UD CNTT CB | BN34: UD CNTT CB | BQ34: B1 | BT34: =INDEX([1]DATA!$O$10:$O$285,MATCH(B34,[1]DATA!$C$10:$C$285,0)) -> V.07.01.03 | BU34: V.07.01.03 | BW34: 6 | BX34: 3.99 | CA34: 01/09/2017 | CV34: B | CX34: 11/10/2019
A35: 29 | B35: Mạnh Lê Hoàn | C35: X | F35: X | G35: Nam | H35: =LEFT(L35,2) -> 14 | I35: =MID(L35,4,2) -> 10 | J35: =RIGHT(L35,4) -> 1979 | K35: Phú Yên | L35: 14/10/1979 | M35: Khoa Điện - Điện tử | O35: 023205612 | P35: 23/03/2008 | Q35: CA TPHCM | R35: Kinh | S35: Không | U35: Huyện Đồng Xuân, Tỉnh Phú Yên | V35: 200/41 Hoàng Hoa Thám P5, Q.Bình Thạnh | X35: 01272777707 | Y35: manhlehoan@gmail.com | Z35: #N/A | AB35: 01/09/2003 | AC35: Sở GDĐT TPHCM | AD35: 18/07/2007 | AE35: Biên chế | AG35: 31/08/2004 | AH35: Giảng viên | AS35: 12/12 | AT35: THPT | AU35: Thạc sỹ | AV35: =INDEX([1]DATA!$W$10:$W$285,MATCH(B35,[1]DATA!$C$10:$C$285,0)) -> Thạc sĩ | AW35: =INDEX([1]DATA!$X$10:$X$285,MATCH(B35,[1]DATA!$C$10:$C$285,0)) -> Kỹ thuật điều khiển và Tự động hóa | AX35: Kỹ thuật điều khiển và Tự động hóa | BB35: LLDH & GD Sư phạm dạy nghề Chứng chỉ nghề bậc 3/7 | BD35: Sư phạm dạy nghề | BF35: 3/7 | BH35: =INDEX([1]DATA!$Z$10:$Z$285,MATCH(B35,[1]DATA!$C$10:$C$285,0)) | BI35: Thạc sỹ | BQ35: B1 | BT35: =INDEX([1]DATA!$O$10:$O$285,MATCH(B35,[1]DATA!$C$10:$C$285,0)) -> V.07.01.03 | BU35: V.07.01.03 | BW35: 5 | BX35: 3.66 | CA35: 01/09/2016 | CV35: B1 | CX35: 17/04/2002
A36: 30 | B36: Ngô Hoàng Anh | C36: X | F36: X | G36: Nam | H36: =LEFT(L36,2) -> 20 | I36: =MID(L36,4,2) -> 10 | J36: =RIGHT(L36,4) -> 1976 | K36: Quảng Hoà - Quảng Trạch - Quảng Bình | L36: 20/10/1976 | M36: Khoa Điện - Điện tử | O36: 024951998 | P36: 10/01/2009 | Q36: CA. TPHCM | R36: Kinh | S36: Không | U36: Xã Quảng Hòa, Huyện Quảng Trạch, Tỉnh Quảng Bình | V36: 51 Đường số 6, P. Bình An, Q.2 | X36: 0903966016 | Y36: thshoanganh@gmail.com | Z36: 0201155205 | AB36: 01/09/2001 | AC36: Sở GDĐT TPHCM | AD36: 01/09/2000 | AE36: Biên chế | AG36: 01/09/2000 | AH36: Giảng viên | AS36: 12/12 | AT36: THPT | AU36: Thạc sỹ | AV36: =INDEX([1]DATA!$W$10:$W$285,MATCH(B36,[1]DATA!$C$10:$C$285,0)) -> Thạc sĩ | AW36: =INDEX([1]DATA!$X$10:$X$285,MATCH(B36,[1]DATA!$C$10:$C$285,0)) -> Thiết bị, mạng và nhà máy Điện | AX36: Thiết bị, mạng và nhà máy điện | BB36: SP Bậc 2 - Chứng chỉ nghề bậc 3/7 | BD36: ĐHSPKT | BF36: 3/7 | BH36: =INDEX([1]DATA!$Z$10:$Z$285,MATCH(B36,[1]DATA!$C$10:$C$285,0)) -> Sơ cấp | BI36: Thạc sỹ | BJ36: Sơ cấp | BM36: UD CNTT CB | BN36: TH UDCB | BQ36: A2 | BT36: =INDEX([1]DATA!$O$10:$O$285,MATCH(B36,[1]DATA!$C$10:$C$285,0)) -> V.07.01.03 | BU36: V.07.01.03 | BW36: 6 | BX36: 3.99 | CA36: 01/09/2016 | CV36: B | CX36: 20/06/2000
A37: 31 | B37: Ngô Phong Cường | C37: X | F37: X | G37: Nam | H37: =LEFT(L37,2) -> 20 | I37: =MID(L37,4,2) -> 09 | J37: =RIGHT(L37,4) -> 1968 | K37: Thừa Thiên Huế | L37: 20/09/1968 | M37: Khoa Điện - Điện tử | O37: 046068000245 | P37: 06/02/2018 | Q37: Cục Cảnh sát Đăng ký quản lý cư trú | R37: Kinh | S37: Không | U37: Huyện Hương Thủy, Tỉnh Thừa Thiên - Huế | V37: 737/46 Lạc Long Quân, Phường 10, Quận Tân Bình, TPHCM | X37: 0918196341 | Y37: phongcuong04@yahoo.com.vn | Z37: 0204124288 | AB37: 01/09/2007 | AC37: Sở GDĐT TPHCM | AD37: 01/09/2007 | AE37: Hợp đồng không thời hạn | AG37: 01/09/2007 | AH37: Giảng viên | AS37: 12/12 | AT37: THPT | AU37: Thạc sỹ | AV37: =INDEX([1]DATA!$W$10:$W$285,MATCH(B37,[1]DATA!$C$10:$C$285,0)) -> Thạc sĩ | AW37: =INDEX([1]DATA!$X$10:$X$285,MATCH(B37,[1]DATA!$C$10:$C$285,0)) -> Kỹ thuật Cơ Điện tử | AX37: Kỹ thuật Cơ Điện tử | BB37: SP Bậc 2 - Chứng chỉ nghề bậc 3/7 | BD37: ĐHSPKT | BF37: 3/7 | BH37: =INDEX([1]DATA!$Z$10:$Z$285,MATCH(B37,[1]DATA!$C$10:$C$285,0)) -> Sơ cấp | BI37: Thạc sỹ | BJ37: Sơ cấp | BM37: UD CNTT CB | BN37: UD CNTT CB | BQ37: B1 | BT37: =INDEX([1]DATA!$O$10:$O$285,MATCH(B37,[1]DATA!$C$10:$C$285,0)) -> V.07.01.03 | BU37: V.07.01.03 | BW37: 5 | BX37: 3.66 | CA37: 01/12/2018 | CV37: B1 | CX37: 19/01/2013
A38: 32 | B38: Nguyễn Anh Tăng | C38: X | F38: X | G38: Nam | H38: =LEFT(L38,2) -> 31 | I38: =MID(L38,4,2) -> 08 | J38: =RIGHT(L38,4) -> 1967 | K38: TPHCM | L38: 31/08/1967 | M38: Khoa Điện - Điện tử | O38: 023624194 | P38: 19/03/2013 | Q38: CA TPHCM | R38: Kinh | S38: Không | U38: Xã Đại Hòa, Huyện Đại Lộc, Tỉnh Quảng Nam | V38: 350/18/46 Lê Đức Thọ, Phường 6, Quận Gò Vấp, TPHCM | X38: 0916675678 | Y38: nguyenanhtang@yahoo.com | Z38: 0201155204 | AB38: 01/09/2001 | AC38: Sở GDĐT TPHCM | AD38: 01/09/2001 | AE38: Biên chế | AG38: 01/09/2001 | AH38: Giảng viên | AS38: 12/12 | AT38: THPT | AU38: Thạc sỹ | AV38: =INDEX([1]DATA!$W$10:$W$285,MATCH(B38,[1]DATA!$C$10:$C$285,0)) -> Thạc sĩ | AW38: =INDEX([1]DATA!$X$10:$X$285,MATCH(B38,[1]DATA!$C$10:$C$285,0)) -> Mạng và hệ thống điện | AX38: Mạng và hệ thống điện | BB38: SP Bậc 2 - Chứng chỉ nghề bậc 3/7 | BC38: - BD GV chính | BD38: ĐHSPKT | BF38: 3/7 | BH38: =INDEX([1]DATA!$Z$10:$Z$285,MATCH(B38,[1]DATA!$C$10:$C$285,0)) -> Sơ cấp | BI38: Thạc sỹ | BJ38: Sơ cấp | BM38: UD CNTT CB | BN38: TH UDCB | BQ38: B2 | BS38: B2 | BT38: =INDEX([1]DATA!$O$10:$O$285,MATCH(B38,[1]DATA!$C$10:$C$285,0)) -> V.07.01.03 | BU38: V.07.01.03 | BW38: 7 | BX38: 4.32 | CA38: 01/09/2018 | CV38: - C - Toeic 625 | CX38: 24/02/2019
A39: 33 | B39: Nguyễn Hồng Đức | C39: X | F39: X | G39: Nam | H39: =LEFT(L39,2) -> 21 | I39: =MID(L39,4,2) -> 02 | J39: =RIGHT(L39,4) -> 1971 | K39: Sai gon | L39: 21/02/1971 | M39: Khoa Điện - Điện tử | O39: 022228240 | P39: 09/08/2005 | Q39: CA TPHCM | R39: Kinh | S39: Không | U39: Xã Bình Phú, Huyện Cai Lậy, Tỉnh Tiền Giang | V39: 219/3/1 Lê Quang Định, P7, Bình Thạnh | X39: 0903833923 | Y39: hongduc2102@yahoo.com | Z39: 0296241670 | AB39: 01/01/1996 | AC39: Sở GDĐT TPHCM | AD39: 31/12/1990 | AE39: Biên chế | AG39: 30/12/1990 | AH39: Giảng viên | AS39: 12/12 | AT39: THPT | AU39: Đại học | AV39: =INDEX([1]DATA!$W$10:$W$285,MATCH(B39,[1]DATA!$C$10:$C$285,0)) -> Kỹ sư | AW39: =INDEX([1]DATA!$X$10:$X$285,MATCH(B39,[1]DATA!$C$10:$C$285,0)) -> Điện công nghiệp | AX39: Điện công nghiệp | BB39: SP Bậc 2 - Chứng chỉ nghề bậc 3/7 | BC39: - BV GV chính | BD39: ĐHSPKT | BF39: 3/7 | BH39: =INDEX([1]DATA!$Z$10:$Z$285,MATCH(B39,[1]DATA!$C$10:$C$285,0)) -> Sơ cấp | BI39: Đại học | BJ39: Sơ cấp | BM39: UD CNTT CB | BN39: TH UDCB | BQ39: A2 | BT39: =INDEX([1]DATA!$O$10:$O$285,MATCH(B39,[1]DATA!$C$10:$C$285,0)) -> V.07.01.03 | BU39: V.07.01.03 | BW39: 9 | BX39: 4.98 | BY39: 01/01/2019 | BZ39: 7% | CA39: 01/01/2019 | CV39: B (2019) | CX39: 07/05/2019
A40: 34 | B40: Nguyễn Minh Đức | C40: X | F40: X | G40: Nam | H40: =LEFT(L40,2) -> 19 | I40: =MID(L40,4,2) -> 02 | J40: =RIGHT(L40,4) -> 1960 | K40: Đà Lạt | L40: 19/02/1960 | M40: Khoa Điện - Điện tử | O40: 068060000066 | P40: 05/01/2019 | Q40: Cục Cảnh sát Đăng ký quản lý cư trú | R40: Kinh | S40: Thiên chúa | U40: Huyện Lương Tài, Tỉnh Bắc Ninh | V40: 438 Điện Biên Phủ, P17, Bình Thạnh | X40: 0908 042 421 | Y40: nguyenminh_do@yahoo.com | Z40: #N/A | AB40: 01/10/1987 | AC40: Sở GDĐT TPHCM | AD40: 01/10/1987 | AE40: Biên chế | AG40: 01/10/1987 | AH40: Giảng viên | AS40: 12/12 | AT40: THPT | AU40: Đại học | AX40: Điện tử công nghiệp | BB40: Chứng chỉ nghề bậc 3/7 | BD40: KSGD | BF40: THCN | BH40: =INDEX([1]DATA!$Z$10:$Z$285,MATCH(B40,[1]DATA!$C$10:$C$285,0)) -> Sơ cấp | BI40: Đại học | BJ40: Sơ cấp | BM40: UD CNTT CB | BN40: TH UDCB | BQ40: A2 | BT40: =INDEX([1]DATA!$O$10:$O$285,MATCH(B40,[1]DATA!$C$10:$C$285,0)) -> V.07.01.03 | BU40: V.07.01.03 | BW40: 9 | BX40: 4.98 | BZ40: 12 | CA40: 01/10/2018 | CV40: B | CX40: 09/05/1994
A41: 35 | B41: Nguyễn Minh Đức | C41: X | F41: X | G41: Nam | H41: =LEFT(L41,2) -> 03 | I41: =MID(L41,4,2) -> 12 | J41: =RIGHT(L41,4) -> 1966 | K41: Gia Định | L41: 03/12/1966 | M41: Khoa Điện - Điện tử | O41: 021684792 | P41: 27/05/2015 | Q41: CA TPHCM | R41: Kinh | S41: Thiên chúa | U41: Huyện Lương Tài, Tỉnh Bắc Ninh | V41: 511/6 Tổ 115, Đường Thống Nhất, Phường 16, Quận Gò Vấp, TPHCM | X41: 0988896877 | Y41: ducsavie2003@yahoo.com | Z41: #N/A | AB41: 01/09/1998 | AC41: Sở GDĐT TPHCM | AD41: 01/09/1998 | AE41: Biên chế | AG41: 01/09/1998 | AH41: Giảng viên | AS41: 12/12 | AT41: THPT | AU41: Đại học | AX41: Điều khiển tự động | BB41: - Sư phạm dạy nghề - Chứng chỉ nghề bậc 3/7 | BD41: Sư phạm dạy nghề | BF41: 3/7 | BH41: =INDEX([1]DATA!$Z$10:$Z$285,MATCH(B41,[1]DATA!$C$10:$C$285,0)) -> Sơ cấp | BI41: Đại học | BJ41: Sơ cấp | BM41: UD CNTT CB | BN41: TH UDCB | BQ41: B1 | BT41: =INDEX([1]DATA!$O$10:$O$285,MATCH(B41,[1]DATA!$C$10:$C$285,0)) -> V.07.01.03 | BU41: V.07.01.03 | BW41: 8 | BX41: 4.65 | CA41: 01/10/2016 | CV41: Trung cấp - B(2019) | CX41: 07/05/2019
A42: 36 | B42: Nguyễn Minh Đức Cường | C42: X | F42: X | G42: Nam | H42: =LEFT(L42,2) -> 19 | I42: =MID(L42,4,2) -> 01 | J42: =RIGHT(L42,4) -> 1985 | K42: Kiên Giang | L42: 19/01/1985 | M42: Khoa Điện - Điện tử | O42: 025633696 | P42: 20/06/2012 | Q42: CA. TPHCM | R42: Kinh | S42: Thiên chúa | U42: Quận 3, Thành phố Hồ Chí Minh | V42: 10/6A ấp Mỹ Hòa 3, xã Tân Xuân, huyện Hóc Môn, TPHCM | X42: 0988847874 | Y42: duccuong852002@yahoo.com | Z42: 7911094459 | AB42: 01/09/2010 | AC42: Sở GDĐT TPHCM | AD42: 01/09/2010 | AE42: Hợp đồng không thời hạn | AG42: 01/09/2010 | AH42: Giảng viên | AS42: 12/12 | AT42: THPT | AU42: Thạc sỹ | AV42: =INDEX([1]DATA!$W$10:$W$285,MATCH(B42,[1]DATA!$C$10:$C$285,0)) -> Thạc sĩ | AW42: =INDEX([1]DATA!$X$10:$X$285,MATCH(B42,[1]DATA!$C$10:$C$285,0)) -> Kỹ thuật Điện | AX42: Kỹ thuật điện | BB42: SP Bậc 2 - Chứng chỉ nghề bậc 3/7 | BC42: - BD GV chính | BD42: ĐHSPKT | BF42: 3/7 | BH42: =INDEX([1]DATA!$Z$10:$Z$285,MATCH(B42,[1]DATA!$C$10:$C$285,0)) -> Sơ cấp | BI42: Thạc sỹ | BJ42: Trung cấp | BM42: UD CNTT CB | BN42: TH UDCB | BQ42: B1 | BT42: =INDEX([1]DATA!$O$10:$O$285,MATCH(B42,[1]DATA!$C$10:$C$285,0)) -> V.07.01.03 | BU42: V.07.01.03 | BW42: 3 | BX42: 3 | CA42: 01/09/2017 | CV42: B1 | CX42: 28/08/2012
A43: 37 | B43: Nguyễn Thị Ngọc Hiền | C43: X | F43: X | G43: Nữ | H43: =LEFT(L43,2) -> 22 | I43: =MID(L43,4,2) -> 10 | J43: =RIGHT(L43,4) -> 1978 | K43: Xã Giao Long, Châu Thành, Bến Tre | L43: 22/10/1978 | M43: Khoa Điện - Điện tử | O43: 024346476 | P43: 16/03/2005 | Q43: CA TPHCM | R43: Kinh | S43: Không | U43: Xã Qưới Sơn, Huyện Châu Thành, Tỉnh Bến Tre | V43: 51/10/12 Cao Thắng, P3, Q3 | X43: 0919422710 | Y43: ngochien782003@yahoo.com | Z43: 0203318107 | AB43: 01/09/2003 | AC43: Sở GDĐT TPHCM | AD43: 01/09/2003 | AE43: Biên chế | AG43: 01/09/2003 | AH43: Giảng viên | AS43: 12/12 | AT43: THPT | AU43: Đại học | AV43: =INDEX([1]DATA!$W$10:$W$285,MATCH(B43,[1]DATA!$C$10:$C$285,0)) -> Đại học | AW43: =INDEX([1]DATA!$X$10:$X$285,MATCH(B43,[1]DATA!$C$10:$C$285,0)) -> Vật Lý | AX43: Vật lý | BB43: SP Bậc 2 - Chứng chỉ nghề bậc 3/7 | BD43: Bậc 2 (2005) | BF43: 3/7 | BH43: =INDEX([1]DATA!$Z$10:$Z$285,MATCH(B43,[1]DATA!$C$10:$C$285,0)) -> Sơ cấp | BI43: Đại học | BJ43: Sơ cấp | BM43: UD CNTT CB | BN43: TH UDCB | BQ43: C1 | BT43: =INDEX([1]DATA!$O$10:$O$285,MATCH(B43,[1]DATA!$C$10:$C$285,0)) -> V.07.01.03 | BU43: V.07.01.03 | BW43: 6 | BX43: 3.99 | CA43: 01/09/2017 | CV43: Đại học | CX43: 26/04/2013
A44: 38 | B44: Nguyễn Thị Tố Nga | C44: X | F44: X | G44: Nữ | H44: =LEFT(L44,2) -> 02 | I44: =MID(L44,4,2) -> 01 | J44: =RIGHT(L44,4) -> 1980 | K44: Biên Hòa | L44: 02/01/1980 | M44: Khoa Điện - Điện tử | O44: 025602565 | P44: 15/05/2012 | Q44: CA. TPHCM | R44: Kinh | S44: Không | U44: Nam Định | V44: 159/97/5 Trần Văn Đang, P11, Q3 | X44: 0984540244 | Y44: tongaltt@yahoo.com | Z44: 0203318103 | AB44: 01/09/2003 | AC44: Sở GDĐT TPHCM | AD44: 01/09/2003 | AE44: Biên chế | AG44: 01/09/2003 | AH44: Giảng viên | AS44: 12/12 | AT44: THPT | AU44: Thạc sỹ | AV44: =INDEX([1]DATA!$W$10:$W$285,MATCH(B44,[1]DATA!$C$10:$C$285,0)) -> Thạc sĩ | AW44: =INDEX([1]DATA!$X$10:$X$285,MATCH(B44,[1]DATA!$C$10:$C$285,0)) -> Tự động hóa | AX44: Tự động hoá | BB44: SP Bậc 2 - Chứng chỉ nghề bậc 5/7 | BC44: - BD GV chính | BD44: ĐHSPKT | BF44: 5/7 | BH44: =INDEX([1]DATA!$Z$10:$Z$285,MATCH(B44,[1]DATA!$C$10:$C$285,0)) -> Sơ cấp | BI44: Thạc sỹ | BJ44: Sơ cấp | BM44: B | BN44: B | BQ44: B1 | BR44: 03/10/2013 | BT44: =INDEX([1]DATA!$O$10:$O$285,MATCH(B44,[1]DATA!$C$10:$C$285,0)) -> V.07.01.03 | BU44: V.07.01.03 | BW44: 6 | BX44: 3.99 | CA44: 01/09/2017 | CV44: B | CX44: 03/10/2013
A45: 39 | B45: Nguyễn Thùy Linh | C45: X | F45: X | G45: Nữ | H45: =LEFT(L45,2) -> 03 | I45: =MID(L45,4,2) -> 02 | J45: =RIGHT(L45,4) -> 1986 | K45: TPHCM | L45: 03/02/1986 | M45: Khoa Điện - Điện tử | O45: 079186007086 | P45: 03/04/2017 | Q45: Cục Cảnh sát đăng ký quản lý cư trú | R45: Kinh | S45: Không | U45: Xã Yên Trung, Huyện Ý Yên, Tỉnh Nam Ðịnh | V45: 238/15 hoàng Văn Thụ, Phường 4, Quận Tân Bình, TPHCM | X45: 0909323207 | Z45: 7910171247 | AB45: 01/09/2009 | AC45: Sở GDĐT TPHCM | AD45: 01/09/2009 | AE45: Hợp đồng không thời hạn | AG45: 01/09/2009 | AH45: Giảng viên | AS45: 12/12 | AT45: THPT | AU45: Thạc sỹ | AV45: =INDEX([1]DATA!$W$10:$W$285,MATCH(B45,[1]DATA!$C$10:$C$285,0)) -> Thạc sĩ | AW45: =INDEX([1]DATA!$X$10:$X$285,MATCH(B45,[1]DATA!$C$10:$C$285,0)) -> Kỹ thuật Điện | AX45: Kỹ thuật điện | BB45: SP Bậc 2 - Chứng chỉ nghề bậc 3/7 | BC45: - BD GV chính | BD45: ĐHSPKT | BE45: Điện công nghiệp | BF45: 3/7 | BH45: =INDEX([1]DATA!$Z$10:$Z$285,MATCH(B45,[1]DATA!$C$10:$C$285,0)) -> Sơ cấp | BI45: Thạc sỹ | BJ45: Sơ cấp | BM45: UD CNTT CB | BN45: TH UDCB | BQ45: B1 | BT45: =INDEX([1]DATA!$O$10:$O$285,MATCH(B45,[1]DATA!$C$10:$C$285,0)) -> V.07.01.03 | BU45: V.07.01.03 | BW45: 3 | BX45: 3 | CA45: 01/09/2016 | CV45: B1 | CX45: 28/08/2012
A46: 40 | B46: Nguyễn Trần Thanh Nhàn | C46: X | F46: X | G46: Nữ | H46: =LEFT(L46,2) -> 15 | I46: =MID(L46,4,2) -> 07 | J46: =RIGHT(L46,4) -> 1979 | K46: TP.HCM | L46: 15/07/1979 | M46: Khoa Điện - Điện tử | O46: 023273100 | P46: 15/11/2011 | Q46: CA TPHCM | R46: Kinh | S46: Không | U46: Tỉnh Nam Ðịnh | V46: 166/21 Hồ Bá Kiện, Phường 15, Quận 10 | X46: 0908832047 | Y46: hainhan66@yahoo.com | Z46: 0202201605 | AB46: 01/09/2002 | AC46: Sở GDĐT TPHCM | AD46: 01/09/2002 | AE46: Biên chế | AG46: 01/09/2002 | AH46: Giảng viên | AS46: 12/12 | AT46: THPT | AU46: Đại học | AV46: =INDEX([1]DATA!$W$10:$W$285,MATCH(B46,[1]DATA!$C$10:$C$285,0)) -> Kỹ sư | AW46: =INDEX([1]DATA!$X$10:$X$285,MATCH(B46,[1]DATA!$C$10:$C$285,0)) -> Kỹ thuật điện - Điện tử | AX46: Điện - điện tử | BB46: SP Bậc 2 - Chứng chỉ nghề bậc 3/7 | BD46: ĐHSPKT | BF46: 3/7 | BH46: =INDEX([1]DATA!$Z$10:$Z$285,MATCH(B46,[1]DATA!$C$10:$C$285,0)) -> Sơ cấp | BI46: Đại học | BJ46: Sơ cấp | BM46: A | BN46: Trình độ A | BQ46: A2 | BT46: =INDEX([1]DATA!$O$10:$O$285,MATCH(B46,[1]DATA!$C$10:$C$285,0)) -> V.07.01.03 | BU46: V.07.01.03 | BW46: 6 | BX46: 3.99 | CA46: 01/09/2018 | CV46: Tiếng anh B | CX46: 28/07/2008
A47: 41 | B47: Nguyễn Văn Yên | C47: X | F47: X | G47: Nam | H47: =LEFT(L47,2) -> 25 | I47: =MID(L47,4,2) -> 06 | J47: =RIGHT(L47,4) -> 1973 | K47: TPHCM | L47: 25/06/1973 | M47: Khoa Điện - Điện tử | O47: 079073005167 | P47: 27/04/2017 | Q47: Cục Cảnh sát đăng ký quản lý cư trú | R47: Kinh | S47: Không | U47: Xã Trung Lập Thượng, Huyện Củ Chi, Thành phố Hồ Chí Minh | V47: Tổ 7, ấp Vân Hàn, Xã Trung Lập Thượng, Củ Chi, TPHCM | X47: 0918059147 | Y47: ngvanyenltt@yahoo.com | Z47: 0299118225 | AB47: 01/09/1999 | AC47: Sở GDĐT TPHCM | AD47: 01/09/1999 | AE47: Biên chế | AG47: 01/08/2010 | AH47: Giảng viên | AP47: 19/05/2009 | AQ47: X | AS47: 12/12 | AT47: THPT | AU47: Thạc sỹ | AV47: =INDEX([1]DATA!$W$10:$W$285,MATCH(B47,[1]DATA!$C$10:$C$285,0)) -> Thạc sĩ | AW47: =INDEX([1]DATA!$X$10:$X$285,MATCH(B47,[1]DATA!$C$10:$C$285,0)) -> Thiết bị mạng và nhà máy điện | AX47: Thiết bị, mạng và nhà máy điện | BB47: SP Bậc 2 - Chứng chỉ nghề bậc 3/7 | BC47: - BD GV chính | BD47: Sư phạm dạy nghề | BF47: 3/7 | BH47: =INDEX([1]DATA!$Z$10:$Z$285,MATCH(B47,[1]DATA!$C$10:$C$285,0)) -> Sơ cấp | BI47: Thạc sỹ | BJ47: Trung cấp | BM47: UD CNTT CB | BN47: TH UDCB | BQ47: B1 | BT47: =INDEX([1]DATA!$O$10:$O$285,MATCH(B47,[1]DATA!$C$10:$C$285,0)) -> V.07.01.03 | BU47: V.07.01.03 | BW47: 8 | BX47: 4.65 | CA47: 01/09/2016 | CV47: C | CX47: 24/03/1998
A48: 42 | B48: Tăng Cẩm Huê | C48: X | F48: X | G48: Nữ | H48: =LEFT(L48,2) -> 07 | I48: =MID(L48,4,2) -> 11 | J48: =RIGHT(L48,4) -> 1977 | K48: Trung Quốc | L48: 07/11/1977 | M48: Khoa Điện - Điện tử | O48: 023179583 | P48: 12/11/2008 | Q48: CA TPHCM | R48: Hoa | S48: Không | U48: Trung Quốc | V48: 689 Âu Cơ, P.Tân Thành, Q.Tân Phú | X48: 0906649728 | Y48: 2engjinhua@yahoo.com | Z48: 0201036366 | AB48: 01/09/2002 | AC48: Sở GDĐT TPHCM | AD48: 01/09/2002 | AE48: Biên chế | AG48: 01/09/2002 | AH48: Giảng viên | AS48: 12/12 | AT48: THPT | AU48: Đại học | AV48: =INDEX([1]DATA!$W$10:$W$285,MATCH(B48,[1]DATA!$C$10:$C$285,0)) -> Đại học | AW48: =INDEX([1]DATA!$X$10:$X$285,MATCH(B48,[1]DATA!$C$10:$C$285,0)) -> Kỹ thuật Điện - Điện tử | AX48: Kỹ thuật điện và điện tử | BB48: SP Bậc 2 - Chứng chỉ nghề bậc 3/7 | BD48: ĐHSPKT | BF48: 3/7 | BH48: =INDEX([1]DATA!$Z$10:$Z$285,MATCH(B48,[1]DATA!$C$10:$C$285,0)) -> Sơ cấp | BI48: Đại học | BJ48: Sơ cấp | BM48: UD CNTT CB | BN48: TH UDCB | BQ48: A2 | BT48: =INDEX([1]DATA!$O$10:$O$285,MATCH(B48,[1]DATA!$C$10:$C$285,0)) -> V.07.01.03 | BU48: V.07.01.03 | BW48: 6 | BX48: 3.99 | CA48: 01/09/2018 | CV48: Tiếng anh B | CX48: 23/02/2019
A49: 43 | B49: Trần Công Tiến | C49: X | F49: X | G49: Nam | H49: =LEFT(L49,2) -> 10 | I49: =MID(L49,4,2) -> 08 | J49: =RIGHT(L49,4) -> 1972 | K49: TPHCM | L49: 10/08/1972 | M49: Khoa Điện - Điện tử | O49: 079072000577 | P49: 05/02/2016 | Q49: CA TPHCM | R49: Kinh | S49: Không | U49: Xã Thạnh Trị, Huyện Gò Công Tây, Tỉnh Tiền Giang | V49: 51/10/12 Cao Thắng, P3, Q3 | X49: 0913710780 | Y49: trancongtien72@yahoo.com | Z49: 0296241664 | AB49: 18/05/1996 | AC49: Sở GDĐT TPHCM | AD49: 18/05/1996 | AE49: Biên chế | AG49: 02/09/1995 | AH49: Giảng viên | AS49: 12/12 | AT49: THPT | AU49: Đại học | AV49: =INDEX([1]DATA!$W$10:$W$285,MATCH(B49,[1]DATA!$C$10:$C$285,0)) -> Kỹ sư | AW49: =INDEX([1]DATA!$X$10:$X$285,MATCH(B49,[1]DATA!$C$10:$C$285,0)) -> Kỹ thuật điện - Điện tử | AX49: Kỹ thuật điện và điện tử | BB49: SP Bậc 2 - Chứng chỉ nghề bậc 3/7 | BD49: ĐHSPKT | BF49: 3/7 | BH49: =INDEX([1]DATA!$Z$10:$Z$285,MATCH(B49,[1]DATA!$C$10:$C$285,0)) -> Sơ cấp | BI49: Đại học | BJ49: Sơ cấp | BM49: UD CNTT CB | BN49: TH UDCB | BQ49: A2 | BT49: =INDEX([1]DATA!$O$10:$O$285,MATCH(B49,[1]DATA!$C$10:$C$285,0)) -> V.07.01.03 | BU49: V.07.01.03 | BV49: 18/05/1998 | BW49: 9 | BX49: 4.98 | BY49: 01/05/2017 | CA49: 01/05/2017 | CB49: 21% | CC49: 01/05/2019 | CV49: B (2019) | CX49: 07/05/2019
A50: 44 | B50: Trần Hiếu Trinh | C50: X | F50: X | G50: Nữ | H50: =LEFT(L50,2) -> 17 | I50: =MID(L50,4,2) -> 12 | J50: =RIGHT(L50,4) -> 1977 | K50: Thành phố Hồ Chí Minh | L50: 17/12/1977 | M50: Khoa Điện - Điện tử | O50: 023070412 | P50: 04/05/2011 | Q50: CA TPHCM | R50: Kinh | S50: Không | U50: Tỉnh Long An | V50: 17/8/7 Đường số 2, KP 22, Phường Bình Hưng Hòa A, Quận Bình Tân, TPHCM | X50: 0973705860 | Y50: htrinhltt@yahoo.com | Z50: 0203318104 | AB50: 01/09/2003 | AC50: Sở GDĐT TPHCM | AD50: 01/09/2003 | AE50: Biên chế | AG50: 01/09/2003 | AH50: Giảng viên | AS50: 12/12 | AT50: THPT | AU50: Đại học | AV50: =INDEX([1]DATA!$W$10:$W$285,MATCH(B50,[1]DATA!$C$10:$C$285,0)) -> Đại học | AW50: =INDEX([1]DATA!$X$10:$X$285,MATCH(B50,[1]DATA!$C$10:$C$285,0)) -> Vật lý điện tử | AX50: Vật lý điện tử | BB50: SP Bậc 2 | BD50: Bậc 2 (2005) | BF50: 3/7a | BH50: =INDEX([1]DATA!$Z$10:$Z$285,MATCH(B50,[1]DATA!$C$10:$C$285,0)) -> Sơ cấp | BI50: Đại học | BJ50: Sơ cấp | BM50: UD CNTT CB | BN50: UD CNTT CB | BQ50: A2 | BT50: =INDEX([1]DATA!$O$10:$O$285,MATCH(B50,[1]DATA!$C$10:$C$285,0)) -> V.07.01.03 | BU50: V.07.01.03 | BW50: 6 | BX50: 3.99 | CA50: 01/09/2017 | CV50: B | CX50: 04/04/2001
A51: 45 | B51: Trần Nam Anh | C51: X | F51: X | G51: Nam | H51: =LEFT(L51,2) -> 13 | I51: =MID(L51,4,2) -> 04 | J51: =RIGHT(L51,4) -> 1989 | K51: TPHCM | L51: 13/04/1989 | M51: Khoa Điện - Điện tử | O51: 024255580 | P51: 31/03/2011 | Q51: CA TPHCM | R51: Kinh | S51: Không | U51: Xã An Nhơn Tây, Huyện Củ Chi, Thành phố Hồ Chí Minh | V51: Số 1233, Tỉnh lộ 7, Ấp Xóm Trại, Xã An Nhơn Tây, Huyện Củ Chi, Thành phố Hồ Chí Minh | X51: 0934051615 | Z51: #N/A | AB51: 01/04/2018 | AC51: Sở GDĐT TPHCM | AD51: 01/4/2018 | AE51: Hợp đồng không thời hạn | AG51: 0/01/2015 | AH51: Giảng viên | AS51: THPT | AT51: 12/12 | AU51: Thạc sỹ | AV51: =INDEX([1]DATA!$W$10:$W$285,MATCH(B51,[1]DATA!$C$10:$C$285,0)) -> Đại học | AW51: =INDEX([1]DATA!$X$10:$X$285,MATCH(B51,[1]DATA!$C$10:$C$285,0)) -> Công nghệ Kỹ thuật Điện - Điện tử | AX51: - Kỹ thuật Điện - Công nghệ kỹ thuật điện - điện tử | BB51: Sư phạm dạy nghề | BC51: - BD GV chính | BD51: Sư phạm dạy nghề | BF51: 3/7a | BH51: =INDEX([1]DATA!$Z$10:$Z$285,MATCH(B51,[1]DATA!$C$10:$C$285,0)) | BI51: - Thạc sỹ - Đại học | BM51: UD CNTT CB | BN51: TH UDCB | BQ51: B1 | BT51: =INDEX([1]DATA!$O$10:$O$285,MATCH(B51,[1]DATA!$C$10:$C$285,0)) -> V.07.01.03 | BU51: V.07.01.03 | BV51: 01/04/2019 | BW51: 1 | BX51: 2.34 | BY51: 01/04/2019 | CA51: 01/04/2019 | CV51: B1 | CX51: 24/08/2018
A52: 46 | B52: Trần Nguyên Bảo Trân | C52: X | F52: X | G52: Nam | H52: =LEFT(L52,2) -> 02 | I52: =MID(L52,4,2) -> 04 | J52: =RIGHT(L52,4) -> 1977 | K52: Thừa Thiên Huế | L52: 02/04/1977 | M52: Khoa Điện - Điện tử | O52: 046077000191 | P52: 25/09/2017 | Q52: Cục Cảnh sát đăng ký quản lý cư trú | R52: Kinh | S52: Phật | U52: Tỉnh Thừa Thiên - Huế | V52: 34/3 Đường Cống Lở, Phường 15, Quận Tân Bình, TPHCM | X52: 0908225475 | Z52: 0203083819 | AB52: 01/09/2015 | AC52: Sở GDĐT TPHCM | AD52: 01/09/2015 | AE52: Hợp đồng không thời hạn | AG52: 01/09/2015 | AH52: Giảng viên | AS52: 12/12 | AT52: THPT | AU52: Thạc sỹ | AV52: =INDEX([1]DATA!$W$10:$W$285,MATCH(B52,[1]DATA!$C$10:$C$285,0)) -> Thạc sĩ | AW52: =INDEX([1]DATA!$X$10:$X$285,MATCH(B52,[1]DATA!$C$10:$C$285,0)) -> Điều khiển học kỹ thuật | AX52: Điều khiển học kỹ thuật | BB52: - Sư phạm dạy nghề - Chứng chỉ nghề bậc 3/7 | BC52: - BD GV chính | BD52: Sư phạm dạy nghề | BF52: 3/7a | BH52: =INDEX([1]DATA!$Z$10:$Z$285,MATCH(B52,[1]DATA!$C$10:$C$285,0)) -> Sơ cấp | BI52: Thạc sỹ | BJ52: Sơ cấp | BM52: A | BN52: Trình độ A | BQ52: B1 | BT52: =INDEX([1]DATA!$O$10:$O$285,MATCH(B52,[1]DATA!$C$10:$C$285,0)) -> V.07.01.03 | BU52: V.07.01.03 | BW52: 2 | BX52: 2.67 | CA52: 01/09/2016 | CV52: C | CX52: 13/10/1999
A53: 47 | B53: Trần Trung Hiếu | C53: X | F53: X | G53: Nam | H53: =LEFT(L53,2) -> 28 | I53: =MID(L53,4,2) -> 02 | J53: =RIGHT(L53,4) -> 1978 | K53: TP. Hồ Chí Minh | L53: 28/02/1978 | M53: Khoa Điện - Điện tử | O53: 023172993 | P53: 28/04/2009 | Q53: CA TPHCM | R53: Kinh | S53: Không | U53: Phường Tân Thành, Quận Tân Phú, Thành phố Hồ Chí Minh | V53: 05 Ngô Quyền, P.Tân Thành, Q.Tân Phú | X53: 0919490816 | Y53: IRIS_th2006@yahoo.com | Z53: 0202201602 | AB53: 01/09/2002 | AC53: Sở GDĐT TPHCM | AD53: 01/09/2002 | AE53: Biên chế | AG53: 01/09/2002 | AH53: Giảng viên | AS53: 12/12 | AT53: THPT | AU53: Đại học | AV53: =INDEX([1]DATA!$W$10:$W$285,MATCH(B53,[1]DATA!$C$10:$C$285,0)) -> Kỹ sư | AW53: =INDEX([1]DATA!$X$10:$X$285,MATCH(B53,[1]DATA!$C$10:$C$285,0)) -> Điện khí hóa & Cung cấp điện | AX53: Điện khí hóa và cung cấp điện | BB53: SP Bậc 2 - Chứng chỉ nghề bậc 3/7 | BC53: - Thiết kế điện hợp chuẩn nâng cao Building Electrical Design, Accordinh to Recent Standard - Phương pháp nghiên cứu khoa học | BD53: ĐHSPKT | BF53: 3/7 | BH53: =INDEX([1]DATA!$Z$10:$Z$285,MATCH(B53,[1]DATA!$C$10:$C$285,0)) -> Sơ cấp | BI53: Đại học | BJ53: Sơ cấp | BM53: UD CNTT CB | BN53: UD CNTT CB | BQ53: A2 | BT53: =INDEX([1]DATA!$O$10:$O$285,MATCH(B53,[1]DATA!$C$10:$C$285,0)) -> V.07.01.03 | BU53: V.07.01.03 | BW53: 6 | BX53: 3.99 | CA53: 01/09/2018 | CV53: Tiếng anh B | CX53: 23/02/2019
A54: 48 | B54: Vũ Hạnh Chiêu | C54: X | F54: X | G54: Nữ | H54: =LEFT(L54,2) -> 10 | I54: =MID(L54,4,2) -> 03 | J54: =RIGHT(L54,4) -> 1982 | K54: TPHCM | L54: 10/03/1982 | M54: Khoa Điện - Điện tử | O54: 024280248 | P54: 03/11/2005 | Q54: CA.TPHCM | R54: Kinh | S54: Thiên chúa | U54: Thành phố Hải Phòng | V54: 52/12A Nguyễn Sỹ Sách, Phường 15, Quận Tân Bình, TPHCM | X54: 0909305082 | Y54: chieuhanhvu@yahoo.com | Z54: 0205361857 | AB54: 01/09/2005 | AC54: Sở GDĐT TPHCM | AD54: 01/09/2008 | AE54: Hợp đồng không thời hạn | AG54: 01/09/2005 | AH54: Giảng viên | AS54: 12/12 | AT54: THPT | AU54: Thạc sỹ | AV54: =INDEX([1]DATA!$W$10:$W$285,MATCH(B54,[1]DATA!$C$10:$C$285,0)) -> Thạc sĩ | AW54: =INDEX([1]DATA!$X$10:$X$285,MATCH(B54,[1]DATA!$C$10:$C$285,0)) -> Thiết bị mạng và nhà máy điện | AX54: Thiết bị, mạng và nhà máy điện | BB54: - Sư phạm dạy nghề - Chứng chỉ nghề bậc 3/7 | BC54: - BD GV chính | BD54: Sư phạm dạy nghề | BF54: 3/7 | BH54: =INDEX([1]DATA!$Z$10:$Z$285,MATCH(B54,[1]DATA!$C$10:$C$285,0)) -> Sơ cấp | BI54: Thạc sỹ | BJ54: Sơ cấp | BM54: UD CNTT CB | BN54: Tin học UDCB | BQ54: C1 | BT54: =INDEX([1]DATA!$O$10:$O$285,MATCH(B54,[1]DATA!$C$10:$C$285,0)) -> V.07.01.03 | BU54: V.07.01.03 | BW54: 5 | BX54: 3.66 | CA54: 01/09/2018 | CV54: Đại học | CX54: 11/11/2011
A55: 49 | B55: Trần Giang Nam | C55: X | F55: X | G55: Nam | H55: =LEFT(L55,2) -> 06 | I55: =MID(L55,4,2) -> 09 | J55: =RIGHT(L55,4) -> 1985 | K55: Củ Chi, TPHCM | L55: 06/09/1985 | M55: Khoa Điện - Điện tử | O55: 079085003003 | P55: 22/05/2018 | Q55: Cục Cảnh sát đăng ký quản lý cư trú | R55: Kinh | S55: Không | U55: Xã An Nhơn Tây, Huyện Củ Chi, Thành phố Hồ Chí Minh | V55: 442/91/51/96A Quốc lộ 1A, P. An Phú Đông, Quận 12, TPHCM | X55: 0903371549 | Z55: #N/A | AB55: 01/01/2019 | AC55: Sở GDĐT TPHCM | AD55: 01/01/2019 | AE55: Tập sự | AG55: 01/01/2019 | AH55: Giảng viên | AS55: 12/12 | AT55: THPT | AU55: Đại học | AV55: =INDEX([1]DATA!$W$10:$W$285,MATCH(B55,[1]DATA!$C$10:$C$285,0)) -> Đại học | AW55: =INDEX([1]DATA!$X$10:$X$285,MATCH(B55,[1]DATA!$C$10:$C$285,0)) -> Công nghệ Điện tử viễn thông | AX55: Điện tử viễn thông | BB55: NVSP dành cho GV TC nghề, CĐ nghề | BD55: NVSP dành cho GV TC nghề, CĐ nghề | BH55: =INDEX([1]DATA!$Z$10:$Z$285,MATCH(B55,[1]DATA!$C$10:$C$285,0)) | BI55: Đại học | BM55: B | BN55: Trình độ B | BQ55: B1 | BT55: =INDEX([1]DATA!$O$10:$O$285,MATCH(B55,[1]DATA!$C$10:$C$285,0)) -> V.07.01.03 | BU55: V.07.01.03 | BW55: 1 | BX55: 2.34 | BY55: 43466 | CV55: B | CX55: 15/03/2005
A56: 50 | B56: Phạm Hữu Lộc | E56: X | F56: X | G56: Nam | H56: =LEFT(L56,2) -> 25 | I56: =MID(L56,4,2) -> 02 | J56: =RIGHT(L56,4) -> 1966 | K56: Xã Phú Hòa Đông, Huyện Củ Chi, Thành phố Hồ Chí Minh | L56: 25/02/1966 | M56: Khoa Điện - Điện tử | O56: 022874945 | P56: 04/06/2013 | Q56: CA. TPHCM | R56: Kinh | S56: Không | U56: Xã Phú Hòa Đông, Huyện Củ Chi, Thành phố Hồ Chí Minh | V56: 332/70B Đường 26/3, Phường 5, Q. Gò Vấp, TPHCM | X56: 0903828252 | Y56: phamhulocltt@gmail.com | Z56: 0296207891 | AB56: 16/11/1987 | AC56: Sở GDĐT TPHCM | AD56: 01/09/2014 | AE56: Biên chế | AG56: 16/11/1987 | AH56: Hiệu trưởng | AI56: Hiệu trưởng | AK56: 01/09/2014 | AP56: 16/06/2001 | AQ56: X | AS56: 12/12 | AT56: THPT | AU56: - Thạc sỹ - Đại học | AV56: =INDEX([1]DATA!$W$10:$W$285,MATCH(B56,[1]DATA!$C$10:$C$285,0)) -> Thạc sĩ | AW56: =INDEX([1]DATA!$X$10:$X$285,MATCH(B56,[1]DATA!$C$10:$C$285,0)) -> Giáo dục học | AX56: - Giáo dục học - Điện - Điện tử | BB56: - NVSP cho GV ĐH, CĐ | BC56: - NVSP cho GV ĐH, CĐ - BD GV chính - QLNN ngạch CV chính | BH56: =INDEX([1]DATA!$Z$10:$Z$285,MATCH(B56,[1]DATA!$C$10:$C$285,0)) -> Cao cấp | BI56: Thạc sỹ | BJ56: Cao cấp | BK56: CV chính | BL56: BD kỹ năng và nghiệp vụ QL GDNN | BM56: UD CNTT CB | BN56: UD CNTT CB | BQ56: C1 | BT56: =INDEX([1]DATA!$O$10:$O$285,MATCH(B56,[1]DATA!$C$10:$C$285,0)) -> V.07.01.03 | BU56: V.07.01.03 | BW56: 9 | BX56: 4.98 | BZ56: 9 | CA56: 01/08/2018 | CB56: 32% | CC56: 01/12/2018 | CV56: B2 | CX56: 21/05/2019
A57: 51 | B57: Lâm Viết Dũng | E57: X | F57: X | G57: Nam | H57: =LEFT(L57,2) -> 26 | I57: =MID(L57,4,2) -> 06 | J57: =RIGHT(L57,4) -> 1976 | K57: Xã Phú Hòa Đông, Huyện Củ Chi, Thành phố Hồ Chí Minh | L57: 26/06/1976 | M57: Khoa Điện - Điện tử | O57: 079076001426 | P57: 25/04/2016 | Q57: Cục cảnh sát đăng ký quản lý cư trú | R57: Kinh | S57: Không | U57: Xã Phú Hòa Đông, Huyện Củ Chi, Thành phố Hồ Chí Minh | V57: Số 20 Đường 435 Tổ 52, ấp Phú Lợi, xã Phú Hòa Đông, huyện Củ Chi, TPHCM | X57: 0902484979 | Y57: lamvietdung@lttc.edu.vn | Z57: 0202026053 | AB57: 01/09/2001 | AC57: Sở GDĐT TPHCM | AD57: 15/07/2015 | AE57: Biên chế | AG57: 01/09/2001 | AH57: Trưởng phòng | AI57: Trưởng phòng | AK57: 01/01/2019 | AP57: 19/01/2010 | AQ57: X | AS57: 12/12 | AT57: THPT | AU57: - Thạc sỹ - Đại học | AV57: =INDEX([1]DATA!$W$10:$W$285,MATCH(B57,[1]DATA!$C$10:$C$285,0)) -> Thạc sĩ | AX57: - Quản lý khoa học và công nghệ - Điện - Điện tử | BB57: - SP Bậc 2 - Chứng chỉ nghề bậc 3/7 - CC QLGD - NVSP dành cho GV ĐH, CĐ | BC57: - Chương trình đấu thầu cơ bản - Đào tạo, bồi dưỡng CBQL GDNN - Năm 2018 - BD GV chính | BD57: Bậc 2 (2000) | BF57: 3/7 | BH57: =INDEX([1]DATA!$Z$10:$Z$285,MATCH(B57,[1]DATA!$C$10:$C$285,0)) -> Trung cấp | BI57: Thạc sỹ | BJ57: Trung cấp | BL57: CBQL các Khoa, Phòng, Ban trường ÐH | BM57: A | BN57: A | BQ57: B1 | BT57: =INDEX([1]DATA!$O$10:$O$285,MATCH(B57,[1]DATA!$C$10:$C$285,0)) -> V.07.01.03 | BU57: V.07.01.03 | BW57: 8 | BX57: 4.65 | CA57: 01/09/2017 | CV57: B1 | CX57: 02/07/2014
A58: 52 | B58: Châu Văn Bảo | E58: X | F58: X | G58: Nam | H58: =LEFT(L58,2) -> 06 | I58: =MID(L58,4,2) -> 07 | J58: =RIGHT(L58,4) -> 1974 | K58: xã Nhơn An, huyện An Nhơn, tỉnh Bình Định | L58: 06/07/1974 | M58: Khoa Điện - Điện tử | O58: 025661153 | P58: 03/10/2012 | Q58: CA. TPHCM | R58: Kinh | S58: Không | U58: Xã Nhơn An, Huyện An Nhơn, Tỉnh Bình Ðịnh | V58: G1C Trường Sơn, Phường 15, Quận 10, TPHCM | X58: 0906677068 | Z58: 0202167287 | AB58: 01/04/2005 | AC58: Sở GDĐT TPHCM | AD58: 02/01/2015 | AE58: Biên chế | AG58: 01/04/2005 | AH58: Phó Hiệu trưởng | AI58: Phó Hiệu trưởng | AJ58: 0.7 | AK58: 15/04/2019 | AL58: 1 | AO58: 09/02/2015 | AP58: 09/02/2016 | AQ58: X | AS58: 12/12 | AT58: THPT | AU58: Thạc sỹ | AV58: =INDEX([1]DATA!$W$10:$W$285,MATCH(B58,[1]DATA!$C$10:$C$285,0)) -> Thạc sĩ | AW58: =INDEX([1]DATA!$X$10:$X$285,MATCH(B58,[1]DATA!$C$10:$C$285,0)) -> Tự động hóa và điều khiển các quy trình công nghệ và sản xuất | AX58: Tự động hoá và điều khiển các quy trình CN&SX | BB58: SP Bậc 2 - Chứng chỉ nghề bậc 3/7 - NVSP cho GV ĐH, CĐ | BC58: - Bồi dưỡng CDNN Giảng viên cao cấp (hạng I) - NVSP cho GV ĐH, CĐ - BD GV chính | BD58: Bậc 2 (1999) | BF58: 3/7 | BH58: =INDEX([1]DATA!$Z$10:$Z$285,MATCH(B58,[1]DATA!$C$10:$C$285,0)) -> Trung cấp | BI58: Thạc sỹ | BJ58: Trung cấp | BK58: Nghiệp vụ quản lý cơ sở GDNN | BL58: CBQL các Khoa, Phòng, Ban trường ÐH | BM58: UD CNTT CB | BN58: UD CNTT CB | BP58: Tiếng Anh | BQ58: C1 | BT58: =INDEX([1]DATA!$O$10:$O$285,MATCH(B58,[1]DATA!$C$10:$C$285,0)) -> V.07.01.03 | BU58: V.07.01.03 | BW58: 7 | BX58: 4.32 | BY58: 01/04/2019 | CA58: 01/04/2019 | CB58: 0.16 | CC58: 01/09/2018 | CV58: - B1 - Cử nhân (2019) | CX58: 25/03/2019
A59: 53 | B59: Phan Đức Long | E59: X | F59: X | G59: Nam | H59: =LEFT(L59,2) -> 17 | I59: =MID(L59,4,2) -> 07 | J59: =RIGHT(L59,4) -> 1974 | K59: TPHCM | L59: 17/07/1974 | M59: Khoa Điện - Điện tử | O59: 022688264 | P59: 21/03/2011 | Q59: CA.TPHCM | R59: Kinh | S59: Thiên chúa | U59: Xã Xuân Phương, Huyện Xuân Trường, Tỉnh Nam Ðịnh | V59: 78/31 Chấn Hưng, P.6, Q.Tân Bình | X59: 0989064265 | Z59: 0200134239 | AB59: 01/09/2000 | AC59: Sở GDĐT TPHCM | AD59: 01/12/1999 | AE59: Biên chế | AG59: 01/12/1999 | AH59: Tổ trưởng | AI59: Tổ Trưởng chuyên môn | AK59: 15/09/2015 | AP59: 2017 | AQ59: X | AS59: 12/12 | AT59: THPT | AU59: Đại học | AV59: =INDEX([1]DATA!$W$10:$W$285,MATCH(B59,[1]DATA!$C$10:$C$285,0)) -> Kỹ sư | AW59: =INDEX([1]DATA!$X$10:$X$285,MATCH(B59,[1]DATA!$C$10:$C$285,0)) -> Kỹ thuật điện - Điện tử | AX59: Kỹ thuật điện và điện tử | BB59: - Sư phạm dạy nghề - Chứng chỉ nghề bậc 3/7 | BC59: - BD GV chính | BD59: - ĐHSPKT - SPDN DÀNH CHO CĐ, ĐH | BF59: 3/7 | BH59: =INDEX([1]DATA!$Z$10:$Z$285,MATCH(B59,[1]DATA!$C$10:$C$285,0)) -> Trung cấp | BI59: Đại học | BJ59: Trung cấp | BM59: UD CNTT CB | BN59: Tin học Ứng dụng cơ bản | BQ59: A2 | BT59: =INDEX([1]DATA!$O$10:$O$285,MATCH(B59,[1]DATA!$C$10:$C$285,0)) -> V.07.01.03 | BU59: V.07.01.03 | BW59: 8 | BX59: 4.65 | CA59: 01/09/2017 | CV59: B | CX59: 15/05/1999
A60: 54 | B60: Nguyễn Văn Thành | E60: X | F60: X | G60: Nam | H60: =LEFT(L60,2) -> 30 | I60: =MID(L60,4,2) -> 12 | J60: =RIGHT(L60,4) -> 1974 | K60: Sài Gòn | L60: 30/12/1974 | M60: Khoa Điện - Điện tử | O60: 079074000549 | P60: 17/02/2016 | Q60: Cục Cảnh sát Đăng ký quản lý cư trú | R60: Kinh | S60: Phật | U60: Xã Bình Khương, Huyện Bình Sơn, Tỉnh Quảng Ngãi | V60: 78 Đường Cửu Long Cư xá Bắc Hải P15, Q.10 | X60: 0903149897 | Y60: thanhcodien13@gmail.com | Z60: 0296241671 | AB60: 01/12/1993 | AC60: Sở GDĐT TPHCM | AD60: 01/12/1993 | AE60: Biên chế | AG60: 01/12/1993 | AH60: Phó Trưởng phòng | AI60: Phó Trưởng phòng | AK60: 01/06/2014 | AS60: 12/12 | AT60: THPT | AU60: - Thạc sỹ - Đại học | AV60: =INDEX([1]DATA!$W$10:$W$285,MATCH(B60,[1]DATA!$C$10:$C$285,0)) -> Thạc sĩ | AW60: =INDEX([1]DATA!$X$10:$X$285,MATCH(B60,[1]DATA!$C$10:$C$285,0)) -> Quản lý Khoa học và Công nghệ | AX60: - Quản lý khoa học và công nghệ - Điện - Điện tử | BB60: - SP Bậc 2 - Chứng chỉ nghề bậc 3/7 | BC60: - BD GV chính | BD60: Bậc 1 (2001) Bậc 2 (2005) | BF60: 3/7 | BH60: =INDEX([1]DATA!$Z$10:$Z$285,MATCH(B60,[1]DATA!$C$10:$C$285,0)) -> Trung cấp | BI60: Thạc sỹ | BJ60: Trung cấp | BL60: CBQL các Khoa, Phòng, Ban trường ÐH | BM60: A | BN60: Trình độ A (1995) | BQ60: B1 | BT60: =INDEX([1]DATA!$O$10:$O$285,MATCH(B60,[1]DATA!$C$10:$C$285,0)) -> V.07.01.03 | BU60: V.07.01.03 | BW60: 9 | BX60: 4.98 | CA60: 01/12/2018 | CV60: B1 | CX60: 11/08/2014
A61: 55 | B61: Nguyễn Thùy Dương | E61: X | F61: X | G61: Nữ | H61: =LEFT(L61,2) -> 24 | I61: =MID(L61,4,2) -> 05 | J61: =RIGHT(L61,4) -> 1980 | K61: Thái Bình | L61: 24/05/1980 | M61: Khoa Điện - Điện tử | O61: 025638694 | P61: 15/05/2012 | Q61: CA. TPHCM | R61: Kinh | S61: Không | U61: Xã Tân Lập, Huyện Vũ Thư, Tỉnh Thái Bình | V61: Số 9, Đường 16, Khu phố 6, Phường Hiệp Bình Chánh, Quận Thủ Đức,TPHCM | X61: 01886896369 | Y61: thuyduongnhc@yahoo.com | Z61: #N/A | AB61: 01/09/2005 | AC61: Sở GDĐT TPHCM | AD61: 20/08/2012 | AE61: Hợp đồng không thời hạn | AG61: 01/12/2004 | AH61: Nhân viên | AS61: 12/12 | AT61: THPT | AU61: Đại học | AV61: =INDEX([1]DATA!$W$10:$W$285,MATCH(B61,[1]DATA!$C$10:$C$285,0)) -> Đại học | AW61: =INDEX([1]DATA!$X$10:$X$285,MATCH(B61,[1]DATA!$C$10:$C$285,0)) -> Điện - Điện tử | AX61: Điện - điện tử | BB61: SP Bậc 2 - Chứng chỉ nghề bậc 3/7 | BC61: - BD GV chính | BD61: ĐHSPKT | BF61: 3/7 | BH61: =INDEX([1]DATA!$Z$10:$Z$285,MATCH(B61,[1]DATA!$C$10:$C$285,0)) -> Sơ cấp | BI61: Đại học | BJ61: Sơ cấp | BM61: B | BN61: Trình độ B | BQ61: B1 | BT61: =INDEX([1]DATA!$O$10:$O$285,MATCH(B61,[1]DATA!$C$10:$C$285,0)) -> 15.113 | BU61: 15113Giáo viên trung học | BW61: 5 | BX61: 3.66 | CA61: 01/09/2018 | CV61: C | CX61: 04/07/2001
A62: 56 | B62: Phạm Minh Nghĩa | E62: X | F62: X | G62: Nam | H62: =LEFT(L62,2) -> 09 | I62: =MID(L62,4,2) -> 08 | J62: =RIGHT(L62,4) -> 1964 | K62: TP. Hồ Chí Minh | L62: 09/08/1964 | M62: Khoa Điện - Điện tử | O62: 079064008054 | P62: 17/08/2018 | Q62: Cục Cảnh sát Đăng ký quản lý cư trú | R62: Kinh | S62: Không | U62: Thành phố Hồ Chí Minh | V62: 100/3/5C Miếu Gò Xoài, Phường Bình Hưng Hòa A, Quận Bình Tân | X62: 0903348055 | Y62: minhnghialtt@gmail.com | Z62: 0296241626 | AB62: 01/10/1987 | AC62: Sở GDĐT TPHCM | AD62: 01/10/1987 | AE62: Biên chế | AG62: 01/10/1987 | AH62: Phó Trưởng phòng | AI62: Phó Trưởng phòng | AJ62: 0.35 | AK62: 01/10/2016 | AP62: 25/08/2009 | AQ62: X | AS62: 12/12 | AT62: THPT | AU62: - Thạc sỹ - Đại học | AV62: =INDEX([1]DATA!$W$10:$W$285,MATCH(B62,[1]DATA!$C$10:$C$285,0)) -> Thạc sĩ | AW62: =INDEX([1]DATA!$X$10:$X$285,MATCH(B62,[1]DATA!$C$10:$C$285,0)) -> Quản lý giáo dục | AX62: - Quản lý giáo dục - Điện - Điện tử | BB62: Chứng chỉ nghề bậc 3/7 | BC62: - BD GV chính | BD62: KSGD | BF62: 3/7 | BH62: =INDEX([1]DATA!$Z$10:$Z$285,MATCH(B62,[1]DATA!$C$10:$C$285,0)) -> Sơ cấp | BI62: Thạc sỹ | BJ62: Trung cấp | BL62: Thạc sỹ QLGD | BM62: UD CNTT CB | BN62: TH UDCB | BQ62: B1 | BT62: =INDEX([1]DATA!$O$10:$O$285,MATCH(B62,[1]DATA!$C$10:$C$285,0)) -> V.07.01.03 | BU62: V.07.01.03 | BW62: 9 | BX62: 4.98 | BZ62: 11.00 | CA62: 01/10/2018 | CV62: B1 | CX62: 11/03/2013
A63: 127 | B63: Nguyễn Văn Tấn | E63: X | F63: X | G63: Nam | H63: =LEFT(L63,2) -> 19 | I63: =MID(L63,4,2) -> 05 | J63: =RIGHT(L63,4) -> 1962 | K63: Thành phố Hồ Chí Minh | L63: 19/05/1962 | M63: Khoa Điện - Điện tử | O63: 020505708 | P63: 09/09/2005 | Q63: CA TPHCM | R63: Kinh | S63: Không | U63: Thành phố Hà Nội | V63: 1/7 Công Trường Tự Do, P19, Bình Thạnh | X63: 0908114770 | Y63: nvtan0908@yahoo.com.sg | Z63: 0296241607 | AB63: 01/10/1987 | AC63: Sở GDĐT TPHCM | AD63: 30/09/1987 | AE63: Biên chế | AG63: 30/09/1987 | AH63: Phó Trưởng phòng | AI63: Phó Trưởng phòng | AK63: 01/11/2016 | AP63: 09/11/2007 | AQ63: X | AS63: 12/12 | AT63: THPT | AU63: - Thạc sỹ - Đại học | AV63: =INDEX([1]DATA!$W$10:$W$285,MATCH(B63,[1]DATA!$C$10:$C$285,0)) -> Thạc sĩ | AW63: =INDEX([1]DATA!$X$10:$X$285,MATCH(B63,[1]DATA!$C$10:$C$285,0)) -> Quản lý giáo dục | AX63: - Quản lý giáo dục - Điện - Điện tử | BB63: Bồi dưỡng CBCCNN ngành GD-ĐT | BC63: - BD GV chính | BH63: =INDEX([1]DATA!$Z$10:$Z$285,MATCH(B63,[1]DATA!$C$10:$C$285,0)) -> Cao cấp | BI63: - Thạc sỹ - Đại học | BJ63: Cao cấp | BL63: - Thạc sỹ QLGD - Điện công nghiệp | BM63: UD CNTT CB | BN63: UD CNTT CB | BQ63: B1 | BT63: =INDEX([1]DATA!$O$10:$O$285,MATCH(B63,[1]DATA!$C$10:$C$285,0)) -> V.07.01.03 | BU63: V.07.01.03 | BW63: 9 | BX63: 4.98 | BZ63: 10.00 | CA63: 01/10/2018 | CV63: C | CX63: 12/10/2007
A64: 57 | B64: Chung Trần Thế Vinh | C64: X | F64: X | G64: Nam | H64: =LEFT(L64,2) -> 25 | I64: =MID(L64,4,2) -> 06 | J64: =RIGHT(L64,4) -> 1981 | K64: TPHCM | L64: 25/06/1981 | M64: Khoa Cơ khí | O64: 023353491 | P64: 05/07/2010 | Q64: CA.TPHCM | R64: Kinh | S64: Không | U64: Tỉnh Long An | V64: 22/5 ấp Nam Thới, Xã Thới Tam Thôn, Hóc Môn, TPHCM | X64: 0908686554 | Y64: chungvinh1981@gmail.com | Z64: 0204343040 | AB64: 01/09/2004 | AC64: Sở GDĐT TPHCM | AD64: 01/09/2004 | AE64: Hợp đồng không thời hạn | AG64: 01/09/2004 | AH64: Trưởng Khoa | AI64: Trưởng Khoa | AK64: 01/02/2016 | AP64: 06/09/2013 | AQ64: X | AS64: 12/12 | AT64: THPT | AU64: Thạc sỹ | AV64: =INDEX([1]DATA!$W$10:$W$285,MATCH(B64,[1]DATA!$C$10:$C$285,0)) -> Thạc sĩ | AW64: =INDEX([1]DATA!$X$10:$X$285,MATCH(B64,[1]DATA!$C$10:$C$285,0)) -> Công nghệ chế tạo máy | AX64: Công nghệ chế tạo máy | BB64: -SP Bậc 2 - Chứng chỉ nghề bậc 3/7 | BC64: - BD GV chính | BD64: ĐH SPKT | BF64: 3/7 | BH64: =INDEX([1]DATA!$Z$10:$Z$285,MATCH(B64,[1]DATA!$C$10:$C$285,0)) -> Trung cấp | BI64: Thạc sỹ | BJ64: Trung cấp | BL64: CBQL các Khoa, Phòng, Ban trường ÐH | BQ64: B2 | BS64: B2 | BT64: =INDEX([1]DATA!$O$10:$O$285,MATCH(B64,[1]DATA!$C$10:$C$285,0)) -> V.07.01.03 | BU64: V.07.01.03 | BW64: 6 | BX64: 3.99 | CA64: 01/09/2018 | CV64: IELTS 5.0 | CW64: 5/32 | CX64: 19/10/2010
A65: 58 | B65: Trần Đình Khải | C65: X | F65: X | G65: Nam | H65: =LEFT(L65,2) -> 26 | I65: =MID(L65,4,2) -> 07 | J65: =RIGHT(L65,4) -> 1968 | K65: Quảng Ngãi | L65: 26/07/1968 | M65: Khoa Cơ khí | O65: 051068000336 | P65: 24/05/2018 | Q65: Cục Cảnh sát Đăng ký quản lý cư trú | R65: Kinh | S65: Không | U65: Huyện Sơn Tịnh, Tỉnh Quảng Ngãi | V65: 91/72 Đinh Tiên Hoàng P3, Q.Bình Thạnh | X65: 0937400988 | Z65: 7909078919 | AB65: 01/09/2008 | AC65: Sở GDĐT TPHCM | AD65: 01/09/2008 | AE65: Hợp đồng không thời hạn | AG65: 30/08/2008 | AH65: Phó Trưởng Khoa | AI65: Phó Trưởng Khoa | AK65: 01/02/2016 | AS65: 12/12 | AT65: THPT | AU65: Thạc sỹ | AV65: =INDEX([1]DATA!$W$10:$W$285,MATCH(B65,[1]DATA!$C$10:$C$285,0)) -> Thạc sĩ | AW65: =INDEX([1]DATA!$X$10:$X$285,MATCH(B65,[1]DATA!$C$10:$C$285,0)) -> Cơ khí nông nghiệp | AX65: Cơ khí nông nghiệp | BB65: - SP Bậc 2 - NVSP dành cho GV CĐ, ĐH | BD65: - ĐHSPKT - Bậc 2 - NVSP dành cho GV CĐ, ĐH | BF65: 3/7a | BH65: =INDEX([1]DATA!$Z$10:$Z$285,MATCH(B65,[1]DATA!$C$10:$C$285,0)) | BI65: Thạc sỹ | BL65: CBQL các Khoa, Phòng, Ban trường ÐH | BQ65: B1 | BS65: B1 | BT65: =INDEX([1]DATA!$O$10:$O$285,MATCH(B65,[1]DATA!$C$10:$C$285,0)) -> V.07.01.03 | BU65: V.07.01.03 | BW65: 4 | BX65: 3.33 | CA65: 01/09/2018 | CV65: B1 | CX65: 31/07/2011
A66: 59 | B66: Bùi Anh Tuấn | C66: X | F66: X | G66: Nam | H66: =LEFT(L66,2) -> 02 | I66: =MID(L66,4,2) -> 11 | J66: =RIGHT(L66,4) -> 1988 | K66: Lâm Đồng | L66: 02/11/1988 | M66: Khoa Cơ khí | O66: 025919554 | P66: 01/07/2014 | Q66: CA. TPHCM | R66: Kinh | S66: Không | U66: Ninh Bình | V66: 65/10 Trần Văn Dư, Phường 13, Quận Tân Bình, TPHCM | X66: 0906785539 | Y66: frankcadillac2008@yahoo.com | Z66: 7913072284 | AB66: 01/09/2012 | AC66: Sở GDĐT TPHCM | AD66: 01/09/2012 | AE66: Hợp đồng không thời hạn | AG66: 01/09/2012 | AH66: Trưởng Bộ môn | AI66: Trưởng Bộ môn | AK66: 01/09/2015 | AS66: 12/12 | AT66: THPT | AU66: Thạc sỹ | AV66: =INDEX([1]DATA!$W$10:$W$285,MATCH(B66,[1]DATA!$C$10:$C$285,0)) -> Thạc sĩ | AW66: =INDEX([1]DATA!$X$10:$X$285,MATCH(B66,[1]DATA!$C$10:$C$285,0)) -> Kỹ thuật Cơ khí | AX66: Kỹ thuật cơ khí | BB66: -SP Bậc 2 | BC66: - BD GV chính | BD66: ĐH SPKT | BF66: 3/7a | BH66: =INDEX([1]DATA!$Z$10:$Z$285,MATCH(B66,[1]DATA!$C$10:$C$285,0)) -> Sơ cấp | BI66: Thạc sỹ | BJ66: Sơ cấp | BM66: UD CNTT CB | BN66: Tin học UDCB | BQ66: B1 | BS66: B1 | BT66: =INDEX([1]DATA!$O$10:$O$285,MATCH(B66,[1]DATA!$C$10:$C$285,0)) -> V.07.01.03 | BU66: V.07.01.03 | BW66: 2 | BX66: 2.67 | CA66: 01/09/2016 | CB66: 0.05 | CC66: 01/09/2018 | CV66: Toeic 540 | CX66: 20/07/2014
A67: 60 | B67: Vũ Đức Pháp | C67: X | F67: X | G67: Nam | H67: =LEFT(L67,2) -> 26 | I67: =MID(L67,4,2) -> 09 | J67: =RIGHT(L67,4) -> 1978 | K67: TPHCM | L67: 26/09/1978 | M67: Khoa Cơ khí | O67: 023172992 | P67: 11/02/2011 | Q67: CA.TPHCM | R67: Kinh | S67: Thiên chúa | U67: Thái Bình | V67: 21/2 Hàn Mặc Tử, P.Tân Thành, Q.Tân Phú | X67: 0988662521 | Y67: ducphapv@yahoo.com | Z67: 0204343041 | AB67: 31/08/2004 | AC67: Sở GDĐT TPHCM | AD67: 31/08/2004 | AE67: Hợp đồng không thời hạn | AG67: 31/08/2004 | AH67: Trưởng Bộ môn | AI67: Trưởng Bộ môn | AK67: 15/05/2016 | AS67: 12/12 | AT67: THPT | AU67: Thạc sỹ | AV67: =INDEX([1]DATA!$W$10:$W$285,MATCH(B67,[1]DATA!$C$10:$C$285,0)) -> Thạc sĩ | AW67: =INDEX([1]DATA!$X$10:$X$285,MATCH(B67,[1]DATA!$C$10:$C$285,0)) -> Kỹ thuật cơ khí | AX67: Kỹ thuật cơ khí | BB67: -SP Bậc 2 | BC67: - BD GV chính | BD67: ĐHSPKT | BF67: 3/7a | BH67: =INDEX([1]DATA!$Z$10:$Z$285,MATCH(B67,[1]DATA!$C$10:$C$285,0)) -> Sơ cấp | BI67: Thạc sỹ | BJ67: Trung cấp | BM67: UD CNTT CB | BN67: Tin học UDCB | BQ67: B1 | BT67: =INDEX([1]DATA!$O$10:$O$285,MATCH(B67,[1]DATA!$C$10:$C$285,0)) -> V.07.01.03 | BU67: V.07.01.03 | BW67: 6 | BX67: 3.99 | CA67: 01/09/2018 | CV67: B1 | CX67: 31/07/2011
A68: 61 | B68: Vũ Quang Khải | C68: X | F68: X | G68: Nam | H68: =LEFT(L68,2) -> 25 | I68: =MID(L68,4,2) -> 11 | J68: =RIGHT(L68,4) -> 1971 | K68: TP. Hồ Chí Minh | L68: 25/11/1971 | M68: Khoa Cơ khí | O68: 022355188 | P68: 21/03/2008 | Q68: CA.TPHCM | R68: Kinh | S68: Thiên chúa | U68: Tỉnh Hà Nam | V68: 2/8 Đường số 8, P15, Q.Gò Vấp TPHCM | X68: 0908598884 | Z68: 0298118092 | AB68: 01/09/1998 | AC68: Sở GDĐT TPHCM | AD68: 01/09/1998 | AE68: Biên chế | AG68: 01/09/1998 | AH68: Trưởng Bộ môn | AI68: Trưởng Bộ môn | AK68: 01/12/2017 | AS68: 12/12 | AT68: THPT | AU68: Đại học | AV68: =INDEX([1]DATA!$W$10:$W$285,MATCH(B68,[1]DATA!$C$10:$C$285,0)) -> Đại học | AW68: =INDEX([1]DATA!$X$10:$X$285,MATCH(B68,[1]DATA!$C$10:$C$285,0)) -> Cơ khí chế tạo máy | AX68: Cơ khí chế tạo máy | BB68: -SP Bậc 2 - Chứng chỉ nghề bậc 3/7 | BC68: - BD GV chính | BD68: ĐHSPKT | BF68: 3/7 | BH68: =INDEX([1]DATA!$Z$10:$Z$285,MATCH(B68,[1]DATA!$C$10:$C$285,0)) | BI68: Đại học | BM68: UD CNTT CB | BN68: TH UDCB | BQ68: A2 | BT68: =INDEX([1]DATA!$O$10:$O$285,MATCH(B68,[1]DATA!$C$10:$C$285,0)) -> V.07.01.03 | BU68: V.07.01.03 | BW68: 8 | BX68: 4.65 | CA68: 01/09/2016 | CV68: B | CX68: 20/10/1997
A69: 62 | B69: Đỗ Thị Phương Khanh | C69: X | F69: X | G69: Nữ | H69: =LEFT(L69,2) -> 22 | I69: =MID(L69,4,2) -> 04 | J69: =RIGHT(L69,4) -> 1975 | K69: Củ Chi | L69: 22/04/1975 | M69: Khoa Cơ khí | O69: 023044182 | P69: 18/07/2007 | Q69: CA.TPHCM | R69: Kinh | S69: Không | U69: Quảng Nam | V69: 51/14 Phan Văn Hớn, KP4, P.Tân Thới Nhất, Q12 | X69: 0909094459 | Z69: 0298118090 | AB69: 01/09/1998 | AC69: Sở GDĐT TPHCM | AD69: 01/09/1998 | AE69: Biên chế | AG69: 01/09/1998 | AH69: Giảng viên | AP69: 27/07/2007 | AQ69: X | AS69: 12/12 | AT69: THPT | AU69: Thạc sỹ | AV69: =INDEX([1]DATA!$W$10:$W$285,MATCH(B69,[1]DATA!$C$10:$C$285,0)) -> Thạc sĩ | AW69: =INDEX([1]DATA!$X$10:$X$285,MATCH(B69,[1]DATA!$C$10:$C$285,0)) -> Kỹ thuật Cơ khí | AX69: Kỹ thuật cơ khí | BB69: -SP Bậc 2 - Chứng chỉ nghề bậc 3/7 | BC69: - BD GV chính | BD69: ĐHSPKT | BE69: Nghề cắt gọt kim loại trên máy CNC | BF69: 3 | BH69: =INDEX([1]DATA!$Z$10:$Z$285,MATCH(B69,[1]DATA!$C$10:$C$285,0)) -> Trung cấp | BI69: Thạc sỹ | BJ69: Trung cấp | BM69: UD CNTT CB | BN69: - Trình độ B - TH UDCB | BQ69: C1 | BT69: =INDEX([1]DATA!$O$10:$O$285,MATCH(B69,[1]DATA!$C$10:$C$285,0)) -> V.07.01.03 | BU69: V.07.01.03 | BW69: 9 | BX69: 4.98 | CA69: 01/12/2018 | CV69: Đại học | CX69: 22/02/2000
A70: 63 | B70: Dương Minh Chung | C70: X | F70: X | G70: Nam | H70: =LEFT(L70,2) -> 24 | I70: =MID(L70,4,2) -> 12 | J70: =RIGHT(L70,4) -> 1976 | K70: Long An | L70: 24/12/1976 | M70: Khoa Cơ khí | O70: 024252246 | P70: 12/01/2009 | Q70: CA.TPHCM | R70: Kinh | S70: Không | U70: Thị xã Tân An, Tỉnh Long An | V70: 301/26 Dương Bá Trạc P1, Q8 | X70: 0902617540 | Y70: duongminhchung@gmail.com | Z70: 0204343042 | AB70: 01/09/2004 | AC70: Sở GDĐT TPHCM | AD70: 01/09/2004 | AE70: Hợp đồng không thời hạn | AG70: 01/09/2004 | AH70: Giảng viên | AS70: 12/12 | AT70: THPT | AU70: Thạc sỹ | AV70: =INDEX([1]DATA!$W$10:$W$285,MATCH(B70,[1]DATA!$C$10:$C$285,0)) -> Thạc sĩ | AW70: =INDEX([1]DATA!$X$10:$X$285,MATCH(B70,[1]DATA!$C$10:$C$285,0)) -> Kỹ thuật Cơ khí | AX70: Kỹ thuật cơ khí | BB70: -SP Bậc 2 - Chứng chỉ nghề bậc 3/7 | BC70: - BD GV chính | BD70: ĐHSPKT | BF70: 3/7 | BH70: =INDEX([1]DATA!$Z$10:$Z$285,MATCH(B70,[1]DATA!$C$10:$C$285,0)) | BI70: Thạc sỹ | BM70: B | BN70: Trình độ B | BQ70: B1 | BT70: =INDEX([1]DATA!$O$10:$O$285,MATCH(B70,[1]DATA!$C$10:$C$285,0)) -> V.07.01.03 | BU70: V.07.01.03 | BW70: 5 | BX70: 3.66 | CA70: 01/09/2016 | CV70: C | CX70: 24/03/2003
A71: 64 | B71: Dương Thị Hồng | C71: X | F71: X | G71: Nữ | H71: =LEFT(L71,2) -> 06 | I71: =MID(L71,4,2) -> 01 | J71: =RIGHT(L71,4) -> 1989 | K71: Hài Dương | L71: 06/01/1989 | M71: Khoa Cơ khí | O71: 026062453 | P71: 05/08/2015 | Q71: CA.TPHCM | R71: Kinh | S71: Không | U71: Huyện Ninh Giang, Tỉnh Hải Dương | V71: 2/236 Đường 6, Tổ 1, KP3, P. Tăng Nhơn Phú B, Quận 9, TPHCM | X71: 0985173332 | Z71: 7916074712 | AB71: 01/09/2015 | AC71: Sở GDĐT TPHCM | AD71: 01/09/2015 | AE71: Hợp đồng không thời hạn | AG71: 01/09/2015 | AH71: Giảng viên | AS71: 12/12 | AT71: THPT | AU71: Thạc sỹ | AV71: =INDEX([1]DATA!$W$10:$W$285,MATCH(B71,[1]DATA!$C$10:$C$285,0)) -> Thạc sĩ | AW71: =INDEX([1]DATA!$X$10:$X$285,MATCH(B71,[1]DATA!$C$10:$C$285,0)) -> Kỹ thuật cơ khí | AX71: Kỹ thuật cơ khí | BB71: -SP Bậc 2 - Chứng chỉ nghề bậc 3/7 | BD71: NVSP | BF71: 3/7 | BH71: =INDEX([1]DATA!$Z$10:$Z$285,MATCH(B71,[1]DATA!$C$10:$C$285,0)) -> Sơ cấp | BI71: Thạc sỹ | BJ71: Sơ cấp | BM71: A | BN71: Trình độ A | BQ71: B1 | BT71: =INDEX([1]DATA!$O$10:$O$285,MATCH(B71,[1]DATA!$C$10:$C$285,0)) -> V.07.01.03 | BU71: V.07.01.03 | BW71: 2 | BX71: 2.67 | CA71: 01/09/2016 | CV71: B | CX71: 08/04/2014
A72: 65 | B72: Hà Phước Tuấn | C72: X | F72: X | G72: Nam | H72: =LEFT(L72,2) -> 01 | I72: =MID(L72,4,2) -> 11 | J72: =RIGHT(L72,4) -> 1960 | K72: TP.HCM | L72: 01/11/1960 | M72: Khoa Cơ khí | O72: 022631400 | P72: 19/06/2015 | Q72: CA.TPHCM | R72: Kinh | S72: Không | U72: Làng Đông Yên, Xã Duy Trinh, Huyện Duy Xuyên, Tỉnh Quảng Nam | V72: 415A Hàn Hải Nguyên nối dài, P1, Q11 | X72: 0903884403 | Y72: haphuoctuan@gmail.com | Z72: 0296241620 | AB72: 01/10/1987 | AC72: Sở GDĐT TPHCM | AD72: 01/10/1987 | AE72: Biên chế | AG72: 01/10/1987 | AH72: Giảng viên | AK72: 01/02/2007 | AS72: 12/12 | AT72: THPT | AU72: Đại học | AV72: =INDEX([1]DATA!$W$10:$W$285,MATCH(B72,[1]DATA!$C$10:$C$285,0)) -> Kỹ sư | AW72: =INDEX([1]DATA!$X$10:$X$285,MATCH(B72,[1]DATA!$C$10:$C$285,0)) -> Chế tạo máy | AX72: Chế tạo máy | BB72: - Chứng chỉ nghề bậc 3/7 | BD72: KSGD | BF72: 3/7 | BH72: =INDEX([1]DATA!$Z$10:$Z$285,MATCH(B72,[1]DATA!$C$10:$C$285,0)) | BI72: Đại học | BL72: CBQL các Khoa, Phòng, Ban trường ÐH | BM72: UD CNTT CB | BN72: TH UDCB | BQ72: B1 | BT72: =INDEX([1]DATA!$O$10:$O$285,MATCH(B72,[1]DATA!$C$10:$C$285,0)) -> V.07.01.03 | BU72: V.07.01.03 | BW72: 9 | BX72: 4.98 | BZ72: 13.00 | CA72: 01/10/2018 | CV72: C | CX72: 16/06/2004
A73: 66 | B73: Lư Thị Yến Vũ | C73: X | F73: X | G73: Nữ | H73: =LEFT(L73,2) -> 19 | I73: =MID(L73,4,2) -> 05 | J73: =RIGHT(L73,4) -> 1976 | K73: Bến Tre | L73: 19/05/1976 | M73: Khoa Cơ khí | O73: 024799248 | P73: 07/09/2007 | Q73: CA.TPHCM | R73: Kinh | S73: Không | U73: Xã Phong Nẫm, Huyện Giồng Trôm, Tỉnh Bến Tre | V73: 4.16 cc Lô B Khu công nghiệp Tân Bình, Tây Thạnh, Tân Phú | X73: 01223191292 | Y73: vulethang@yahoo.com | Z73: 0203005089 | AB73: 01/09/2008 | AC73: Sở GDĐT TPHCM | AD73: 01/09/2008 | AE73: Hợp đồng không thời hạn | AG73: 01/09/2008 | AH73: Giảng viên | AS73: 12/12 | AT73: THPT | AU73: Đại học | AV73: =INDEX([1]DATA!$W$10:$W$285,MATCH(B73,[1]DATA!$C$10:$C$285,0)) -> Đại học | AW73: =INDEX([1]DATA!$X$10:$X$285,MATCH(B73,[1]DATA!$C$10:$C$285,0)) -> Cơ khí Chế tạo máy | AX73: Cơ khí chế tạo máy | BB73: - NVSP - CC Sư phạm dạy nghề - Chứng chỉ nghề bậc 3/7 | BC73: - BD GV chính | BD73: Sư phạm dạy nghề | BF73: 3/7 | BH73: =INDEX([1]DATA!$Z$10:$Z$285,MATCH(B73,[1]DATA!$C$10:$C$285,0)) | BI73: Đại học | BT73: =INDEX([1]DATA!$O$10:$O$285,MATCH(B73,[1]DATA!$C$10:$C$285,0)) -> V.07.01.03 | BU73: V.07.01.03 | BW73: 4 | BX73: 3.33 | CA73: 01/09/2018
A74: 67 | B74: Nguyễn Duy Hải | C74: X | F74: X | G74: Nam | H74: =LEFT(L74,2) -> 05 | I74: =MID(L74,4,2) -> 08 | J74: =RIGHT(L74,4) -> 1984 | K74: Bình Thuận | L74: 05/08/1984 | M74: Khoa Cơ khí | O74: 060084000219 | P74: 26/11/2018 | Q74: Cục Cảnh sát Đăng ký quản lý cư trú | R74: Kinh | S74: Không | U74: Thành phố Phan Thiết, Tỉnh Bình Thuận | V74: 100/7 Trương Phước Phan, Phường Bình Trị Đông, Quận Bình Tân. | X74: 0909599616 | Y74: nguyenduyhai272@yahoo.com | Z74: 7911094455 | AB74: 01/09/2010 | AC74: Sở GDĐT TPHCM | AD74: 01/09/2010 | AE74: Hợp đồng không thời hạn | AG74: 01/09/2010 | AH74: Giảng viên | AS74: 12/12 | AT74: THPT | AU74: Thạc sỹ | AV74: =INDEX([1]DATA!$W$10:$W$285,MATCH(B74,[1]DATA!$C$10:$C$285,0)) -> Thạc sĩ | AW74: =INDEX([1]DATA!$X$10:$X$285,MATCH(B74,[1]DATA!$C$10:$C$285,0)) -> Kỹ thuật Cơ khí | AX74: Kỹ thuật cơ khí | BB74: - LL Dạy học ĐH - CC SPDN | BC74: - BD GV chính | BD74: Sư phạm dạy nghề | BF74: 3/7a | BH74: =INDEX([1]DATA!$Z$10:$Z$285,MATCH(B74,[1]DATA!$C$10:$C$285,0)) | BI74: Thạc sỹ | BJ74: Trung cấp | BM74: A | BN74: Trình độ A (2003) | BQ74: B1 | BT74: =INDEX([1]DATA!$O$10:$O$285,MATCH(B74,[1]DATA!$C$10:$C$285,0)) -> V.07.01.03 | BU74: V.07.01.03 | BW74: 3 | BX74: 3 | CA74: 01/09/2017 | CV74: B1 | CX74: 31/07/2011
A75: 68 | B75: Nguyễn Ngọc Quỳnh | C75: X | F75: X | G75: Nam | H75: =LEFT(L75,2) -> 19 | I75: =MID(L75,4,2) -> 11 | J75: =RIGHT(L75,4) -> 1983 | K75: TPHCM | L75: 19/11/1983 | M75: Khoa Cơ khí | O75: 023630039 | P75: 16/07/2012 | Q75: CA.TPHCM | R75: Kinh | S75: Không | U75: Xã Điện Phước, Huyện Điện Bàn, Tỉnh Quảng Nam | V75: 77 đường D1, P.25, Q.Bình Thạnh | X75: 0983537391 | Y75: quynh1103@yahoo.com.vn | Z75: 7910171251 | AB75: 01/09/2009 | AC75: Sở GDĐT TPHCM | AD75: 01/09/2009 | AE75: Hợp đồng không thời hạn | AG75: 01/09/2009 | AH75: Giảng viên | AS75: 12/12 | AT75: THPT | AU75: Thạc sỹ | AV75: =INDEX([1]DATA!$W$10:$W$285,MATCH(B75,[1]DATA!$C$10:$C$285,0)) -> Thạc sĩ | AW75: =INDEX([1]DATA!$X$10:$X$285,MATCH(B75,[1]DATA!$C$10:$C$285,0)) -> Kỹ thuật Cơ khí | AX75: Kỹ thuật cơ khí | BB75: - NVSP - CC Sư phạm dạy nghề | BC75: - BD GV chính | BD75: NVSP | BF75: 3/7a | BH75: =INDEX([1]DATA!$Z$10:$Z$285,MATCH(B75,[1]DATA!$C$10:$C$285,0)) -> Sơ cấp | BI75: Thạc sỹ | BJ75: Sơ cấp | BM75: A | BN75: A | BQ75: B1 | BS75: B1 | BT75: =INDEX([1]DATA!$O$10:$O$285,MATCH(B75,[1]DATA!$C$10:$C$285,0)) -> V.07.01.03 | BU75: V.07.01.03 | BW75: 3 | BX75: 3 | CA75: 01/09/2016 | CV75: Toeic 580 | CX75: 15/12/2006
A76: 69 | B76: Nguyễn Tam Cương | C76: X | F76: X | G76: Nam | H76: =LEFT(L76,2) -> 13 | I76: =MID(L76,4,2) -> 02 | J76: =RIGHT(L76,4) -> 1963 | K76: Bình Định | L76: 13/02/1963 | M76: Khoa Cơ khí | O76: 052063000099 | P76: 25/03/2019 | Q76: Cục Cảnh sát Đăng ký quản lý cư trú | R76: Kinh | S76: Không | U76: Xã Phước Thắng, Huyện Tuy Phước, Tỉnh Bình Ðịnh | V76: 407 Lô F Cư xá Thanh Đa, P27, Q.Bình Thạnh | X76: 0908291031 | Y76: ntcuong132@yahoo.com | Z76: 0201155208 | AB76: 01/09/2001 | AC76: Sở GDĐT TPHCM | AD76: 01/09/2001 | AE76: Biên chế | AG76: 01/09/2001 | AH76: Giảng viên | AS76: 12/12 | AT76: THPT | AU76: Thạc sỹ | AV76: =INDEX([1]DATA!$W$10:$W$285,MATCH(B76,[1]DATA!$C$10:$C$285,0)) -> Thạc sĩ | AW76: =INDEX([1]DATA!$X$10:$X$285,MATCH(B76,[1]DATA!$C$10:$C$285,0)) -> Quản lý Khoa học và Công nghệ | AX76: Quản lý khoa học và công nghệ | BB76: - SP Bậc 2 - Chứng chỉ nghề bậc 3/7 | BD76: ĐHSPKT | BF76: 3/7 | BH76: =INDEX([1]DATA!$Z$10:$Z$285,MATCH(B76,[1]DATA!$C$10:$C$285,0)) -> Sơ cấp | BI76: Thạc sỹ | BJ76: Sơ cấp | BM76: A | BN76: Trình độ A | BQ76: B1 | BT76: =INDEX([1]DATA!$O$10:$O$285,MATCH(B76,[1]DATA!$C$10:$C$285,0)) -> V.07.01.03 | BU76: V.07.01.03 | BW76: 6 | BX76: 3.99 | CA76: 01/09/2016 | CV76: B1 | CX76: 26/09/2006
A77: 70 | B77: Nguyễn Thanh Giang | C77: X | F77: X | G77: Nam | H77: =LEFT(L77,2) -> 5/ | I77: =MID(L77,4,2) -> 2/ | J77: =RIGHT(L77,4) -> 1977 | K77: Vĩnh Long | L77: 5/12/1977 | M77: Khoa Cơ khí | O77: 331950060 | P77: 42923 | Q77: CA. Vĩnh Long | R77: Kinh | S77: Không | U77: Xã Long Mỹ, Huyện Mang Thít, Tỉnh Vĩnh Long | V77: 376 ấp Tân Vĩnh Thuận,xã Tân Ngãi,TP.Vĩnh Long | X77: 0962138518 | Z77: #N/A | AB77: 01/4/2018 | AC77: Sở GDĐT TPHCM | AD77: 01/4/2018 | AE77: Hợp đồng không thời hạn | AG77: 01/3/2011 | AH77: Giảng viên | AS77: THPT | AT77: 12/12 | AU77: Thạc sỹ | AV77: =INDEX([1]DATA!$W$10:$W$285,MATCH(B77,[1]DATA!$C$10:$C$285,0)) -> Thạc sĩ | AW77: =INDEX([1]DATA!$X$10:$X$285,MATCH(B77,[1]DATA!$C$10:$C$285,0)) -> Kỹ thuật Cơ khí | AX77: Kỹ thuật cơ khí | BB77: Sư phạm dạy nghề | BD77: Sư phạm dạy nghề | BF77: 3/7a | BH77: =INDEX([1]DATA!$Z$10:$Z$285,MATCH(B77,[1]DATA!$C$10:$C$285,0)) | BI77: Thạc sỹ | BM77: UD CNTT CB | BN77: - A - TH UDCB | BQ77: B1 | BT77: =INDEX([1]DATA!$O$10:$O$285,MATCH(B77,[1]DATA!$C$10:$C$285,0)) -> V.07.01.03 | BU77: V.07.01.03 | BV77: 01/04/2019 | BW77: 2 | BX77: 2.67 | BY77: 01/04/2019 | CA77: 01/04/2019 | CV77: B1 | CX77: 42605
A78: 71 | B78: Nguyễn Thành Long | C78: X | F78: X | G78: Nam | H78: =LEFT(L78,2) -> 19 | I78: =MID(L78,4,2) -> 07 | J78: =RIGHT(L78,4) -> 1975 | K78: TPHCM | L78: 19/07/1975 | M78: Khoa Cơ khí | O78: 022939793 | P78: 17/04/2008 | Q78: CA.TPHCM | R78: Kinh | S78: Thiên chúa | U78: Tỉnh Thái Bình | V78: 61/26 Đường Cách Mạng, Phường Tân Thành, Quận Tân Phú, TPHCM | X78: 01654905868 | Z78: 0206217331 | AB78: 01/09/2009 | AC78: Sở GDĐT TPHCM | AD78: 01/09/2009 | AE78: Hợp đồng không thời hạn | AG78: 01/09/2009 | AH78: Giảng viên | AS78: 12/12 | AT78: THPT | AU78: Thạc sỹ | AV78: =INDEX([1]DATA!$W$10:$W$285,MATCH(B78,[1]DATA!$C$10:$C$285,0)) -> Thạc sĩ | AW78: =INDEX([1]DATA!$X$10:$X$285,MATCH(B78,[1]DATA!$C$10:$C$285,0)) -> Kỹ thuật Cơ khí | AX78: Kỹ thuật Cơ khí | BB78: - SP Bậc 2 - Chứng chỉ nghề bậc 3/7 | BC78: - BD GV chính | BD78: ĐHSPKT | BF78: 3/7 | BH78: =INDEX([1]DATA!$Z$10:$Z$285,MATCH(B78,[1]DATA!$C$10:$C$285,0)) | BI78: Thạc sỹ | BM78: UD CNTT CB | BN78: TH UDCB | BQ78: B1 | BT78: =INDEX([1]DATA!$O$10:$O$285,MATCH(B78,[1]DATA!$C$10:$C$285,0)) -> V.07.01.03 | BU78: V.07.01.03 | BW78: 3 | BX78: 3 | CA78: 01/09/2016 | CV78: B1 | CX78: 09/05/2016
A79: 72 | B79: Nguyễn Thanh Vĩnh Phúc | C79: X | F79: X | G79: Nam | H79: =LEFT(L79,2) -> 29 | I79: =MID(L79,4,2) -> 03 | J79: =RIGHT(L79,4) -> 1972 | K79: TP. Hồ Chí Minh | L79: 29/03/1972 | M79: Khoa Cơ khí | O79: 022102283 | P79: 24/09/2013 | Q79: CA. TPHCM | R79: Kinh | S79: Không | U79: Tỉnh Vĩnh Long | V79: 199 Võ Thị Sáu, P7, Q3 | X79: 01288191979 | Z79: 0298022617 | AB79: 01/09/1997 | AC79: Sở GDĐT TPHCM | AD79: 01/09/1997 | AE79: Biên chế | AG79: 01/09/1997 | AH79: Giảng viên | AS79: 12/12 | AT79: THPT | AU79: Đại học | AV79: =INDEX([1]DATA!$W$10:$W$285,MATCH(B79,[1]DATA!$C$10:$C$285,0)) -> Kỹ sư | AW79: =INDEX([1]DATA!$X$10:$X$285,MATCH(B79,[1]DATA!$C$10:$C$285,0)) -> Cơ khí chế tạo máy | AX79: Cơ khí chế tạo máy | BB79: - SP Bậc 2 - Chứng chỉ nghề bậc 3/7 | BD79: Sư phạm dạy nghề | BF79: 3/7 | BH79: =INDEX([1]DATA!$Z$10:$Z$285,MATCH(B79,[1]DATA!$C$10:$C$285,0)) -> Sơ cấp | BI79: Đại học | BJ79: Sơ cấp | BQ79: A2 | BT79: =INDEX([1]DATA!$O$10:$O$285,MATCH(B79,[1]DATA!$C$10:$C$285,0)) -> V.07.01.03 | BU79: V.07.01.03 | BW79: 9 | BX79: 4.98 | CA79: 01/09/2018 | CB79: 13% | CC79: 01/08/2019 | CV79: B | CX79: 29/09/2014
A80: 73 | B80: Nguyễn Thanh Vũ | C80: X | F80: X | G80: Nam | H80: =LEFT(L80,2) -> 10 | I80: =MID(L80,4,2) -> 10 | J80: =RIGHT(L80,4) -> 1975 | K80: Quảng Trị | L80: 10/10/1975 | M80: Khoa Cơ khí | O80: 025817153 | P80: 01/11/2013 | Q80: CA. TPHCM | R80: Kinh | S80: Không | U80: Xã Triệu Phước, Huyện Triệu Phong, Tỉnh Quảng Trị | V80: 314 Lô B cc Gò Dầu, P. Tân Sơn Nhì, Q.Tân Phú, TPHCM | X80: 0903774652 | Z80: 7908079141 | AB80: 01/09/2007 | AC80: Sở GDĐT TPHCM | AD80: 01/09/2007 | AE80: Hợp đồng không thời hạn | AG80: 03/09/2000 | AH80: Giảng viên | AS80: 12/12 | AT80: THPT | AU80: Đại học | AV80: =INDEX([1]DATA!$W$10:$W$285,MATCH(B80,[1]DATA!$C$10:$C$285,0)) -> Đại học | AW80: =INDEX([1]DATA!$X$10:$X$285,MATCH(B80,[1]DATA!$C$10:$C$285,0)) -> Cơ khí chế tạo máy | AX80: Cơ khí chế tạo máy | BB80: - SP Bậc 2 - Chứng chỉ nghề bậc 3/7 | BD80: ĐHSPKT | BF80: 3/7 | BH80: =INDEX([1]DATA!$Z$10:$Z$285,MATCH(B80,[1]DATA!$C$10:$C$285,0)) | BI80: Đại học | BM80: UD CNTT CB | BN80: TH UDCB | BQ80: A2 | BT80: =INDEX([1]DATA!$O$10:$O$285,MATCH(B80,[1]DATA!$C$10:$C$285,0)) -> V.07.01.03 | BU80: V.07.01.03 | BW80: 4 | BX80: 3.33 | CA80: 01/09/2017 | CV80: B (2019) | CX80: 07/05/2019
A81: 74 | B81: Nguyễn Tiến Dũng | C81: X | F81: X | G81: Nam | H81: =LEFT(L81,2) -> 01 | I81: =MID(L81,4,2) -> 01 | J81: =RIGHT(L81,4) -> 1973 | K81: Quảng Ngãi | L81: 01/01/1973 | M81: Khoa Cơ khí | O81: 024436109 | P81: 05/08/2005 | Q81: CA.TPHCM | R81: Kinh | S81: Phật | U81: Xã Đức Thắng, Huyện Mộ Đức, Tỉnh Quảng Ngãi | V81: 797/288 Hưng Phú, Phường 9, Quận 8 | X81: 0938 676 269 | Y81: shifttuan@yahoo.com.vn | Z81: 7910171257 | AB81: 01/09/2009 | AC81: Sở GDĐT TPHCM | AD81: 01/09/2009 | AE81: Hợp đồng không thời hạn | AG81: 01/09/2009 | AH81: Giảng viên | AS81: 12/12 | AT81: THPT | AU81: Đại học | AV81: =INDEX([1]DATA!$W$10:$W$285,MATCH(B81,[1]DATA!$C$10:$C$285,0)) -> Đại học | AW81: =INDEX([1]DATA!$X$10:$X$285,MATCH(B81,[1]DATA!$C$10:$C$285,0)) -> Cơ khí chế tạo máy | AX81: Cơ khí chế tạo máy | BB81: - SP Bậc 2 - Chứng chỉ nghề bậc 3/7 | BC81: - BD GV chính | BD81: ĐHSPKT | BF81: 3/7 | BH81: =INDEX([1]DATA!$Z$10:$Z$285,MATCH(B81,[1]DATA!$C$10:$C$285,0)) | BI81: Đại học | BM81: UD CNTT CB | BN81: TH UDCB | BQ81: A2 | BT81: =INDEX([1]DATA!$O$10:$O$285,MATCH(B81,[1]DATA!$C$10:$C$285,0)) -> V.07.01.03 | BU81: V.07.01.03 | BW81: 3 | BX81: 3 | CA81: 01/09/2016 | CV81: B | CX81: 15/09/2018
A82: 75 | B82: Phan Thị Xuân Trang | C82: X | F82: X | G82: Nữ | H82: =LEFT(L82,2) -> 01 | I82: =MID(L82,4,2) -> 03 | J82: =RIGHT(L82,4) -> 1971 | K82: Đồng Tháp | L82: 01/03/1971 | M82: Khoa Cơ khí | O82: 024283935 | P82: 07/10/2004 | Q82: CA.TPHCM | R82: Kinh | S82: Không | U82: Đồng Tháp | V82: 132/10 Dương Văn Dương, P. Tân quý, Q. Tân Phú, TPHCM | X82: 0918612621 | Y82: phanxuantrang@yahoo.com.vn | Z82: 0200092902 | AB82: 01/09/1999 | AC82: Sở GDĐT TPHCM | AD82: 25/07/2004 | AE82: Biên chế | AG82: 01/09/1999 | AH82: Giảng viên | AS82: 12/12 | AT82: THPT | AU82: Đại học | AV82: =INDEX([1]DATA!$W$10:$W$285,MATCH(B82,[1]DATA!$C$10:$C$285,0)) -> Đại học | AW82: =INDEX([1]DATA!$X$10:$X$285,MATCH(B82,[1]DATA!$C$10:$C$285,0)) -> Kỹ thuật Công nghiệp | AX82: Kỹ thuật CN | BB82: - SP Bậc 2 - Chứng chỉ nghề bậc 3/7 | BD82: ĐHSPKT | BF82: 3/7 | BH82: =INDEX([1]DATA!$Z$10:$Z$285,MATCH(B82,[1]DATA!$C$10:$C$285,0)) | BI82: Đại học | BM82: A | BN82: Trình độ A | BQ82: A2 | BT82: =INDEX([1]DATA!$O$10:$O$285,MATCH(B82,[1]DATA!$C$10:$C$285,0)) -> V.07.01.03 | BU82: V.07.01.03 | BW82: 8 | BX82: 4.65 | CA82: 01/09/2017 | CV82: B | CX82: 03/09/2008
A83: 76 | B83: Phan Văn Thành | C83: X | F83: X | G83: Nam | H83: =LEFT(L83,2) -> 25 | I83: =MID(L83,4,2) -> 07 | J83: =RIGHT(L83,4) -> 1964 | K83: TPHCM | L83: 25/07/1964 | M83: Khoa Cơ khí | O83: 021314535 | P83: 02/03/2007 | Q83: CA.TPHCM | R83: Kinh | S83: Không | U83: Xã Bình Mỹ, Huyện Củ Chi, Thành phố Hồ Chí Minh | V83: 22/1/20 Nguyễn Văn Săng, Tân Sơn Nhì, Q.Tân Phú | X83: 0982387866 | Y83: thanh_eduvn@yahoo.com.vn | Z83: 0296241623 | AB83: 01/10/1987 | AC83: Sở GDĐT TPHCM | AD83: 01/10/1987 | AE83: Biên chế | AG83: 01/10/1987 | AH83: Giảng viên | AS83: 12/12 | AT83: THPT | AU83: Đại học | AV83: =INDEX([1]DATA!$W$10:$W$285,MATCH(B83,[1]DATA!$C$10:$C$285,0)) -> Kỹ sư | AW83: =INDEX([1]DATA!$X$10:$X$285,MATCH(B83,[1]DATA!$C$10:$C$285,0)) -> Chế tạo máy | AX83: Chế tạo máy | BB83: - Chứng chỉ nghề bậc 3/7 | BD83: KSGD | BF83: 3/7 | BH83: =INDEX([1]DATA!$Z$10:$Z$285,MATCH(B83,[1]DATA!$C$10:$C$285,0)) -> Sơ cấp | BI83: Đại học | BJ83: Sơ cấp | BM83: UD CNTT CB | BN83: Tin học UDCB | BQ83: A2 | BT83: =INDEX([1]DATA!$O$10:$O$285,MATCH(B83,[1]DATA!$C$10:$C$285,0)) -> V.07.01.03 | BU83: V.07.01.03 | BW83: 9 | BX83: 4.98 | BZ83: 10.00 | CA83: 01/10/2018 | CV83: B | CX83: 15/09/2018
A84: 77 | B84: Trần Minh Thông | C84: X | F84: X | G84: Nam | H84: =LEFT(L84,2) -> 23 | I84: =MID(L84,4,2) -> 11 | J84: =RIGHT(L84,4) -> 1987 | K84: TP. Hồ Chí Minh | L84: 23/11/1987 | M84: Khoa Cơ khí | O84: 024221614 | P84: 03/12/2012 | Q84: CA. TPHCM | R84: Kinh | S84: Không | U84: Thành phố Hồ Chí Minh | V84: 383 ấp Bình Thuận, xã Bình Khánh, huyện Cần Giờ, TP. Hồ Chí Minh | X84: 0987473457 | Y84: minhthong_bk@yahoo.com.vn; minhthong2311@gmail.com | Z84: 7911380877 | AB84: 01/10/2012 | AC84: Sở GDĐT TPHCM | AD84: 03/10/2012 | AE84: Hợp đồng không thời hạn | AG84: 03/10/2012 | AH84: Giảng viên | AS84: 12/12 | AT84: THPT | AU84: Đại học | AV84: =INDEX([1]DATA!$W$10:$W$285,MATCH(B84,[1]DATA!$C$10:$C$285,0)) -> Kỹ sư | AW84: =INDEX([1]DATA!$X$10:$X$285,MATCH(B84,[1]DATA!$C$10:$C$285,0)) -> Kỹ thuật chế tạo | AX84: Kỹ thuật chế tạo | BB84: Nghiệp vụ sư phạm dành cho giảng viên | BC84: - BD GV chính | BD84: NVSP | BF84: 3/7a | BH84: =INDEX([1]DATA!$Z$10:$Z$285,MATCH(B84,[1]DATA!$C$10:$C$285,0)) -> Sơ cấp | BI84: Đại học | BJ84: Sơ cấp | BM84: UD CNTT CB | BN84: TH UDCB | BQ84: A2 | BS84: A2 | BT84: =INDEX([1]DATA!$O$10:$O$285,MATCH(B84,[1]DATA!$C$10:$C$285,0)) -> V.07.01.03 | BU84: V.07.01.03 | BW84: 2 | BX84: 2.67 | CA84: 01/10/2016 | CB84: 0.05 | CC84: 01/10/2018 | CV84: Toeic 420 | CX84: 06/01/2019
A85: 78 | B85: Trần Thị Hương | C85: X | F85: X | G85: Nữ | H85: =LEFT(L85,2) -> 05 | I85: =MID(L85,4,2) -> 06 | J85: =RIGHT(L85,4) -> 1980 | K85: Hoàng Nam, Nghĩa Hưng, Nam Định | L85: 05/06/1980 | M85: Khoa Cơ khí | O85: 025845340 | P85: 07/11/2013 | Q85: CA. TPHCM | R85: Kinh | S85: Không | U85: Xã Hoàng Nam, Huyện Nghĩa Hưng, Tỉnh Nam Ðịnh | V85: 204B-N07-CCK26 Dương Quảng Hàm, Phường 7, Gò Vấp, TP. Hồ Chí Minh | X85: 0988100633 | Y85: khoinguyen020109@yahoo.com | Z85: 8903002184 | AB85: 01/10/2012 | AC85: Sở GDĐT TPHCM | AD85: 01/10/2012 | AE85: Hợp đồng không thời hạn | AG85: 01/10/2012 | AH85: Giảng viên | AS85: 12/12 | AT85: THPT | AU85: Thạc sỹ | AV85: =INDEX([1]DATA!$W$10:$W$285,MATCH(B85,[1]DATA!$C$10:$C$285,0)) -> Thạc sĩ | AW85: =INDEX([1]DATA!$X$10:$X$285,MATCH(B85,[1]DATA!$C$10:$C$285,0)) -> Công nghệ chế tạo máy | AX85: Cơ khí chế tạo máy | BB85: - SP Bậc 2 - Chứng chỉ nghề bậc 3/7 | BD85: ĐHSPKT | BF85: 3/7 | BH85: =INDEX([1]DATA!$Z$10:$Z$285,MATCH(B85,[1]DATA!$C$10:$C$285,0)) -> Sơ cấp | BI85: Thạc sỹ | BJ85: Sơ cấp | BM85: B | BN85: Trình độ B | BQ85: B1 | BT85: =INDEX([1]DATA!$O$10:$O$285,MATCH(B85,[1]DATA!$C$10:$C$285,0)) -> V.07.01.03 | BU85: V.07.01.03 | BW85: 3 | BX85: 3 | CA85: 01/10/2016 | CB85: 9% | CC85: 01/08/2019 | CV85: C | CX85: 18/09/2006
A86: 79 | B86: Trương Thị Phương Hồng | C86: X | F86: X | G86: Nữ | H86: =LEFT(L86,2) -> 25 | I86: =MID(L86,4,2) -> 08 | J86: =RIGHT(L86,4) -> 1975 | K86: TP. Hồ CHí Minh | L86: 25/08/1975 | M86: Khoa Cơ khí | O86: 022813516 | P86: 03/01/2012 | Q86: CA.TPHCM | R86: Kinh | S86: Phật | U86: Phường 9, Quận 8, Thành phố Hồ Chí Minh | V86: 797/288, Hưng Phú P9, Q8 | X86: 0983250875 | Z86: 0298118091 | AB86: 01/09/1998 | AC86: Sở GDĐT TPHCM | AD86: 01/09/1998 | AE86: Biên chế | AG86: 01/09/1998 | AH86: Giảng viên | AS86: 12/12 | AT86: THPT | AU86: Đại học | AV86: =INDEX([1]DATA!$W$10:$W$285,MATCH(B86,[1]DATA!$C$10:$C$285,0)) -> Đại học | AW86: =INDEX([1]DATA!$X$10:$X$285,MATCH(B86,[1]DATA!$C$10:$C$285,0)) -> Cơ khí chế tạo máy | AX86: Cơ khí chế tạo máy | BB86: - SP Bậc 2 | BD86: ĐHSPKT | BF86: 3/7a | BH86: =INDEX([1]DATA!$Z$10:$Z$285,MATCH(B86,[1]DATA!$C$10:$C$285,0)) -> Sơ cấp | BI86: Đại học | BJ86: Sơ cấp | BM86: UD CNTT CB | BN86: TH UDCB | BQ86: A2 | BT86: =INDEX([1]DATA!$O$10:$O$285,MATCH(B86,[1]DATA!$C$10:$C$285,0)) -> V.07.01.03 | BU86: V.07.01.03 | BW86: 9 | BX86: 4.98 | CA86: 01/09/2018 | CV86: B | CX86: 23/02/2019
A87: 80 | B87: Võ Minh Quang | C87: X | F87: X | G87: Nam | H87: =LEFT(L87,2) -> 25 | I87: =MID(L87,4,2) -> 08 | J87: =RIGHT(L87,4) -> 1963 | K87: Củ Chi, Tp.HCM | L87: 25/08/1963 | M87: Khoa Cơ khí | O87: 021722359 | P87: 19/01/2005 | Q87: CA.TPHCM | R87: Kinh | S87: Không | U87: Xã Phước Lại, Huyện Cần Giuộc, Tỉnh Long An | V87: 26/2 Hồ Biểu Chánh, P11, Q.Phú Nhuận | X87: 0903387517 | Z87: 0296241598 | AB87: 01/05/1989 | AC87: Sở GDĐT TPHCM | AD87: 01/05/1989 | AE87: Biên chế | AG87: 01/05/1989 | AH87: Giảng viên | AP87: 08/07/2004 | AQ87: X | AS87: 12/12 | AT87: THPT | AU87: Đại học | AV87: =INDEX([1]DATA!$W$10:$W$285,MATCH(B87,[1]DATA!$C$10:$C$285,0)) -> Đại học | AW87: =INDEX([1]DATA!$X$10:$X$285,MATCH(B87,[1]DATA!$C$10:$C$285,0)) -> Công nghệ chế tạo máy | AX87: Công nghệ chế tạo máy | AY87: Trường ĐH SPKT Vinh | BB87: - Chứng chỉ nghề bậc 3/7 | BC87: - Bằng tốt nghiệp GV Dạy nghề - BD CBQL khoa, phòng | BD87: ĐHSPKT | BF87: - 3/7 - GVDN | BH87: =INDEX([1]DATA!$Z$10:$Z$285,MATCH(B87,[1]DATA!$C$10:$C$285,0)) -> Sơ cấp | BI87: Kỹ sư | BJ87: Sơ cấp | BL87: CBQL các Khoa, Phòng trường ÐH, CĐ | BM87: UD CNTT CB | BN87: TH UDCB | BQ87: A2 | BR87: Viện Đào tạo và nâng cao TPHCM (IFT) | BT87: =INDEX([1]DATA!$O$10:$O$285,MATCH(B87,[1]DATA!$C$10:$C$285,0)) -> V.07.01.03 | BU87: V.07.01.03 | BV87: 27/3/2019 | BW87: 9 | BX87: 4.98 | BY87: 01/05/2019 | BZ87: 6% | CA87: 01/05/2019 | CB87: 25% | CC87: 01/05/2019 | CV87: B | CX87: 15/09/2018
A88: 81 | B88: Nguyễn Văn Sơn | C88: X | F88: X | G88: Nam | H88: =LEFT(L88,2) -> 22 | I88: =MID(L88,4,2) -> 12 | J88: =RIGHT(L88,4) -> 1965 | K88: Thanh Hóa | L88: 22/12/1965 | M88: Khoa Cơ khí | O88: 038065000896 | P88: 08/08/2016 | Q88: Cục Cảnh sát Đăng ký quản lý cư trú | R88: Kinh | S88: Không | U88: Long An | V88: 139/6/46 Dương Văn Dương, P.Tân Quý, Q.Tân phú | X88: 0903972519 | Z88: 0296241596 | AB88: 01/05/1989 | AC88: Sở GDĐT TPHCM | AD88: 01/05/1989 | AE88: Biên chế | AG88: 01/05/1989 | AH88: Giảng viên | AS88: 12/12 | AT88: THPT | AU88: Đại học | AV88: =INDEX([1]DATA!$W$10:$W$285,MATCH(B88,[1]DATA!$C$10:$C$285,0)) -> Kỹ sư | AW88: =INDEX([1]DATA!$X$10:$X$285,MATCH(B88,[1]DATA!$C$10:$C$285,0)) -> Điện - Điện tử | AX88: Điện - điện tử | BB88: Giáo viên dạy nghề | BD88: CĐSPKT | BH88: =INDEX([1]DATA!$Z$10:$Z$285,MATCH(B88,[1]DATA!$C$10:$C$285,0)) -> Sơ cấp | BI88: Đại học | BJ88: Sơ cấp | BM88: UD CNTT CB | BN88: TH UDCB | BQ88: A2 | BT88: =INDEX([1]DATA!$O$10:$O$285,MATCH(B88,[1]DATA!$C$10:$C$285,0)) -> V.07.01.03 | BU88: V.07.01.03 | BW88: 9 | BX88: 4.98 | BY88: 01/05/2019 | BZ88: 7% | CA88: 01/05/2019 | CB88: 28% | CC88: 01/05/2019 | CV88: B | CX88: 04/10/2007
A89: 82 | B89: Nguyễn Hồng Phúc | C89: X | F89: X | G89: Nam | H89: =LEFT(L89,2) -> 03 | I89: =MID(L89,4,2) -> 08 | J89: =RIGHT(L89,4) -> 1989 | K89: TPHCM | L89: 03/08/1989 | M89: Khoa Cơ khí | O89: 079089004197 | P89: 15/12/2016 | Q89: Cục Cảnh sát Đăng ký quản lý cư trú | R89: Kinh | S89: Không | U89: 29/6/3 Đường 409, Ấp 3, Xã Phước Vĩnh An, Huyện Củ Chi, Thành phố Hồ Chí Minh | V89: 29/6/3 Đường số 409, Ấp 3, Phước Vĩnh An, Củ Chi, TPHCM | Z89: #N/A | AB89: 01/10/2018 | AC89: Sở GDĐT TPHCM | AD89: 01/10/2018 | AE89: Hợp đồng không thời hạn | AG89: 01/8/2016 | AH89: Giảng viên | AS89: 12/12 | AT89: THPT | AU89: Thạc sỹ | AV89: =INDEX([1]DATA!$W$10:$W$285,MATCH(B89,[1]DATA!$C$10:$C$285,0)) -> Thạc sĩ | AW89: =INDEX([1]DATA!$X$10:$X$285,MATCH(B89,[1]DATA!$C$10:$C$285,0)) -> Kỹ thuật Cơ khí | AX89: Kỹ thuật Cơ khí | BB89: - SP dạy nghề dành cho GV TC, CĐ - NVSP dành cho GV CĐ, ĐH | BC89: - BD GV chính | BD89: - SP dạy nghề dành cho GV TC, CĐ - NVSP dành cho GV CĐ, ĐH | BF89: 3/7a | BH89: =INDEX([1]DATA!$Z$10:$Z$285,MATCH(B89,[1]DATA!$C$10:$C$285,0)) | BI89: Thạc sỹ | BM89: B | BN89: B | BQ89: B1 | BT89: =INDEX([1]DATA!$O$10:$O$285,MATCH(B89,[1]DATA!$C$10:$C$285,0)) -> V.07.01.03 | BU89: V.07.01.03 | BW89: 2 | BX89: 2.67 | CV89: B1 | CX89: 12/10/2017
A90: 83 | B90: Nguyễn Khắc Huy | C90: X | F90: X | G90: Nam | H90: =LEFT(L90,2) -> 04 | I90: =MID(L90,4,2) -> 05 | J90: =RIGHT(L90,4) -> 1990 | K90: Củ Chi | L90: 04/05/1990 | M90: Khoa Cơ khí | O90: 024911362 | P90: 02/07/2012 | Q90: CA TPHCM | R90: Kinh | S90: Không | U90: Xã Phước Hiệp, Huyện Củ Chi, Thành phố Hồ Chí Minh | V90: Số 127A, đường Cây Trôm-Mỹ Khánh, Tổ 1, Ấp Trại Đèn, X Phước Hiệp, H Củ Chi, TPHCM | Z90: #N/A | AB90: 01/04/2019 | AC90: Sở GDĐT TPHCM | AD90: 01/4/2019 | AE90: Tập sự | AG90: 01/04/2019 | AH90: Giảng viên | AS90: 12/12 | AT90: THPT | AU90: Đại học | AV90: =INDEX([1]DATA!$W$10:$W$285,MATCH(B90,[1]DATA!$C$10:$C$285,0)) -> Kỹ sư | AW90: =INDEX([1]DATA!$X$10:$X$285,MATCH(B90,[1]DATA!$C$10:$C$285,0)) -> Công nghệ chế tạo máy | AX90: Công nghệ chế tạo máy | AY90: Trường ĐH SPKT TPHCM | BB90: NVSP dành cho GV CĐ, ĐH | BH90: =INDEX([1]DATA!$Z$10:$Z$285,MATCH(B90,[1]DATA!$C$10:$C$285,0)) | BI90: Kỹ sư | BM90: A | BN90: A | BQ90: A2 | BT90: =INDEX([1]DATA!$O$10:$O$285,MATCH(B90,[1]DATA!$C$10:$C$285,0)) -> V.07.01.03 | BU90: V.07.01.03 | BW90: 1 | BX90: 2.34 | BY90: 01/04/2019 | CV90: B | CX90: 10/01/2019
A91: 84 | B91: Đinh Văn Đệ | E91: X | F91: X | G91: Nam | H91: =LEFT(L91,2) -> 12 | I91: =MID(L91,4,2) -> 08 | J91: =RIGHT(L91,4) -> 1974 | K91: TP. Đà Nẵng | L91: 12/08/1974 | M91: Khoa Cơ khí | O91: 025372149 | P91: 40455 | Q91: CA. TPHCM | R91: Kinh | S91: Không | U91: Xã Điện Thọ, Huyện Điện Bàn, Tỉnh Quảng Nam | V91: 130 Lê Lợi, Phường 3, Quận Gò Vấp, TPHCM | X91: 0964216994 | Y91: dinhvande@lttc.edu.vn | Z91: 0202026082 | AB91: 01/09/2001 | AC91: Sở GDĐT TPHCM | AD91: 23/01/2015 | AE91: Biên chế | AG91: 01/09/2001 | AH91: Phó Hiệu trưởng | AI91: Phó Hiệu trưởng | AK91: 23/01/2015 | AP91: 26/10/2006 | AQ91: X | AS91: 12/12 | AT91: THPT | AU91: Thạc sỹ | AV91: =INDEX([1]DATA!$W$10:$W$285,MATCH(B91,[1]DATA!$C$10:$C$285,0)) -> Thạc sĩ | AW91: =INDEX([1]DATA!$X$10:$X$285,MATCH(B91,[1]DATA!$C$10:$C$285,0)) -> Công nghệ Chế tạo máy | AX91: Công nghệ Chế tạo máy | BB91: - Bậc 2 (1999) - Chứng chỉ nghề bậc 3/7 - NVSP dành cho GV CĐ, ĐH | BC91: - NVSP cho GV ĐH, CĐ - BD GV chính | BF91: 3/7 | BH91: =INDEX([1]DATA!$Z$10:$Z$285,MATCH(B91,[1]DATA!$C$10:$C$285,0)) -> Trung cấp | BI91: Thạc sỹ | BJ91: Trung cấp | BL91: CBQL các Khoa, Phòng, Ban trường ÐH | BM91: B | BN91: B | BQ91: B2 | BT91: =INDEX([1]DATA!$O$10:$O$285,MATCH(B91,[1]DATA!$C$10:$C$285,0)) -> V.07.01.03 | BU91: V.07.01.03 | BW91: 9 | BX91: 4.98 | CA91: 01/12/2018 | CV91: B2 | CX91: 26/01/2016
A92: 85 | B92: Hồ Văn Sĩ | E92: X | F92: X | G92: Nam | H92: =LEFT(L92,2) -> 03 | I92: =MID(L92,4,2) -> 09 | J92: =RIGHT(L92,4) -> 1975 | K92: Thành Phố Hồ Chí Minh | L92: 03/09/1975 | M92: Khoa Cơ khí | O92: 022764854 | P92: 06/05/2008 | Q92: CA.TPHCM | R92: Kinh | S92: Phật | U92: Tỉnh Thừa Thiên - Huế | V92: 14/17 Nguyễn Đình Chiểu, Phường Đa Kao, Quận I | X92: 0906851939 | Z92: 0298118103 | AB92: 01/01/1999 | AC92: Sở GDĐT TPHCM | AD92: 01/01/1998 | AE92: Biên chế | AG92: 29/09/1998 | AH92: Trưởng phòng | AI92: Phụ trách phòng, Phó Trưởng phòng | AK92: 01/07/2005 | AS92: 12/12 | AT92: THPT | AU92: Thạc sỹ | AV92: =INDEX([1]DATA!$W$10:$W$285,MATCH(B92,[1]DATA!$C$10:$C$285,0)) -> Thạc sĩ | AW92: =INDEX([1]DATA!$X$10:$X$285,MATCH(B92,[1]DATA!$C$10:$C$285,0)) -> Công nghệ chế tạo máy | AX92: Công nghệ chế tạo máy | BB92: - SP Bậc 1 - Sư phạm dạy nghề | BC92: - BD GV chính | BD92: Sư phạm dạy nghề | BH92: =INDEX([1]DATA!$Z$10:$Z$285,MATCH(B92,[1]DATA!$C$10:$C$285,0)) -> Trung cấp | BI92: Thạc sỹ | BJ92: Trung cấp | BL92: CBQL các trườngTHCN | BN92: Soạn thảo văn bản | BQ92: B1 | BT92: =INDEX([1]DATA!$O$10:$O$285,MATCH(B92,[1]DATA!$C$10:$C$285,0)) -> V.07.01.03 | BU92: V.07.01.03 | BW92: 9 | BX92: 4.98 | BY92: 43466 | CA92: 01/01/2019 | CV92: C | CX92: 07/05/2008
A93: 86 | B93: Nguyễn Ngọc Hiệp | E93: X | F93: X | G93: Nam | H93: =LEFT(L93,2) -> 01 | I93: =MID(L93,4,2) -> 01 | J93: =RIGHT(L93,4) -> 1973 | K93: Gia Định | L93: 01/01/1973 | M93: Khoa Cơ khí | O93: 022776286 | P93: 25/05/2010 | Q93: CA.TPHCM | R93: Kinh | S93: Không | U93: Xã Điện Thắng, Huyện Điện Bàn, Tỉnh Quảng Nam | V93: 429/33 Lê Văn Sĩ , P.12, Q.3 | X93: 0908147397 | Y93: nguyenngochiep@lytc.edu.vn | Z93: 0298118102 | AB93: 01/01/1999 | AC93: Sở GDĐT TPHCM | AD93: 01/09/1998 | AE93: Biên chế | AG93: 01/09/1998 | AH93: Phó Trưởng phòng | AI93: Phó Trưởng phòng | AK93: 01/01/2019 | AP93: 23/12/2015 | AQ93: X | AS93: 12/12 | AT93: THPT | AU93: Đại học | AV93: =INDEX([1]DATA!$W$10:$W$285,MATCH(B93,[1]DATA!$C$10:$C$285,0)) -> Đại học | AW93: =INDEX([1]DATA!$X$10:$X$285,MATCH(B93,[1]DATA!$C$10:$C$285,0)) -> Cơ khí chế tạo máy | AX93: Cơ khí chế tạo máy | BB93: Sư phạm dạy nghề | BC93: - BD GV chính | BD93: - ĐHSPKT - SPDN | BH93: =INDEX([1]DATA!$Z$10:$Z$285,MATCH(B93,[1]DATA!$C$10:$C$285,0)) -> Sơ cấp | BI93: Đại học | BJ93: Trung cấp | BM93: A | BN93: Trình độ A | BQ93: A2 | BT93: =INDEX([1]DATA!$O$10:$O$285,MATCH(B93,[1]DATA!$C$10:$C$285,0)) -> V.07.01.03 | BU93: V.07.01.03 | BW93: 9 | BX93: 4.98 | BY93: 43466 | CA93: 01/01/2019 | CV93: B | CX93: 17/03/2015
A94: 87 | B94: Nguyễn Chí Nhân | E94: X | F94: X | G94: Nam | H94: =LEFT(L94,2) -> 22 | I94: =MID(L94,4,2) -> 02 | J94: =RIGHT(L94,4) -> 1978 | K94: Bình Dương | L94: 22/02/1978 | M94: Khoa Cơ khí | O94: 023176396 | P94: 26/03/2008 | Q94: CA TP HCM | R94: Kinh | S94: Không | U94: Xã Hiệp Thạnh, Huyện Gò Dầu, Tỉnh Tây Ninh | V94: 152/17 Bùi Thị Xuân, P3, Q.Tân Bình | X94: 0908146118 | Y94: chinhan18cb@yahoo.com | Z94: 0203318108 | AB94: 01/09/2003 | AC94: Sở GDĐT TPHCM | AD94: 01/09/2003 | AE94: Biên chế | AG94: 01/09/2003 | AH94: Trưởng phòng | AI94: Trưởng phòng | AK94: 01/9/2018 | AP94: 16/01/2009 | AQ94: X | AS94: 12/12 | AT94: THPT | AU94: - Thạc sỹ - Đại học | AV94: =INDEX([1]DATA!$W$10:$W$285,MATCH(B94,[1]DATA!$C$10:$C$285,0)) -> Thạc sĩ | AW94: =INDEX([1]DATA!$X$10:$X$285,MATCH(B94,[1]DATA!$C$10:$C$285,0)) -> Quản lý giáo dục | AX94: - Quản lý giáo dục - Cơ khí | BB94: - SP Bậc 2 - Chứng chỉ nghề bậc 3/7 | BC94: - BD GV chính | BD94: Bậc 2 (2005) | BF94: 3/7 | BH94: =INDEX([1]DATA!$Z$10:$Z$285,MATCH(B94,[1]DATA!$C$10:$C$285,0)) -> Trung cấp | BI94: Thạc sỹ | BJ94: Trung cấp | BL94: Thạc sỹ QLGD | BM94: UD CNTT CB | BN94: Tin học Ứng dụng cơ bản | BQ94: B1 | BT94: =INDEX([1]DATA!$O$10:$O$285,MATCH(B94,[1]DATA!$C$10:$C$285,0)) -> V.07.01.03 | BU94: V.07.01.03 | BW94: 6 | BX94: 3.99 | CA94: 01/09/2017 | CV94: B1 | CX94: 04/01/2013
A95: 88 | B95: Lê Quang Liêm | E95: X | F95: X | G95: Nam | H95: =LEFT(L95,2) -> 19 | I95: =MID(L95,4,2) -> 01 | J95: =RIGHT(L95,4) -> 1972 | K95: Tây Ninh | L95: 19/01/1972 | M95: Khoa Cơ khí | O95: 024891110 | P95: 04/03/2008 | Q95: CA. TPHCM | R95: Kinh | S95: Không | U95: Xã Hiệp Ninh, Huyện Hòa Thành, Tỉnh Tây Ninh | V95: 34/23 Trần Thái Tông, Phường 15, Quận Tân Bình, TPHCM | X95: 0903937003 | Y95: lequang_liem@yahoo.com | Z95: 0299031247 | AB95: 01/09/2000 | AC95: Sở GDĐT TPHCM | AD95: 02/01/2015 | AE95: Biên chế | AG95: 01/09/2000 | AH95: Trưởng Phòng | AI95: Trưởng Phòng | AK95: 02/01/2015 | AP95: 26/10/2006 | AQ95: X | AS95: 12/12 | AT95: THPT | AU95: Đại học | AV95: =INDEX([1]DATA!$W$10:$W$285,MATCH(B95,[1]DATA!$C$10:$C$285,0)) -> Đại học | AW95: =INDEX([1]DATA!$X$10:$X$285,MATCH(B95,[1]DATA!$C$10:$C$285,0)) -> Cơ khí | AX95: Cơ khí | BB95: - NVSP Bậc 2 - SP dạy nghề - Chứng chỉ nghề bậc 3/7 | BC95: - BD GV chính | BD95: Bậc 2 (2005) | BF95: 3/7 | BH95: =INDEX([1]DATA!$Z$10:$Z$285,MATCH(B95,[1]DATA!$C$10:$C$285,0)) -> Trung cấp | BI95: Đại học | BJ95: Trung cấp | BL95: CBQL các Khoa, Phòng, Ban trường ÐH | BM95: UD CNTT CB | BN95: Ứng dụng CNTT cơ bản (2019) | BQ95: A2 | BT95: =INDEX([1]DATA!$O$10:$O$285,MATCH(B95,[1]DATA!$C$10:$C$285,0)) -> V.07.01.03 | BU95: V.07.01.03 | BW95: 8 | BX95: 4.65 | CA95: 01/09/2017 | CV95: - B - B (2019) | CX95: 11/03/2019
A96: 89 | B96: Nguyễn Khoa | C96: X | F96: X | G96: Nam | H96: =LEFT(L96,2) -> 03 | I96: =MID(L96,4,2) -> 09 | J96: =RIGHT(L96,4) -> 1963 | K96: Phước Tuy | L96: 03/09/1963 | M96: Khoa Công nghệ thông tin | O96: 020634880 | P96: 08/07/2010 | Q96: CA. TPHCM | R96: Kinh | S96: Không | U96: Tỉnh Bình Thuận | V96: 20/11 Đường Tỉnh Lộ 42 P.Thạnh Lộc, Q12 | X96: 0958607219 | Y96: thnguyenkhoa@yahoo.com.vn | Z96: 0201155202 | AB96: 01/09/2001 | AC96: Sở GDĐT TPHCM | AD96: 01/09/2001 | AE96: Biên chế | AG96: 01/09/2001 | AH96: Trưởng Khoa | AI96: Phó Trưởng Khoa, Phụ trách khoa | AK96: 01/07/2015 | AS96: 12/12 | AT96: THPT | AU96: Thạc sỹ | AV96: =INDEX([1]DATA!$W$10:$W$285,MATCH(B96,[1]DATA!$C$10:$C$285,0)) -> Thạc sĩ | AW96: =INDEX([1]DATA!$X$10:$X$285,MATCH(B96,[1]DATA!$C$10:$C$285,0)) -> Quản lý giáo dục | AX96: Quản lý giáo dục | BB96: Quản trị mạng máy tính bậc 3/7 | BD96: Bậc 2 (2005) | BF96: 3/7 | BH96: =INDEX([1]DATA!$Z$10:$Z$285,MATCH(B96,[1]DATA!$C$10:$C$285,0)) -> Sơ cấp | BI96: Thạc sỹ | BJ96: Trung cấp | BL96: Thạc sỹ QLGD | BM96: THS | BN96: Thạc sỹ | BO96: IC3 | BQ96: C1 | BT96: =INDEX([1]DATA!$O$10:$O$285,MATCH(B96,[1]DATA!$C$10:$C$285,0)) -> V.07.01.03 | BU96: V.07.01.03 | BW96: 6 | BX96: 3.99 | CA96: 01/09/2016 | CV96: Đại học | CW96: 1/33 | CX96: 05/08/2015
A97: 90 | B97: Nguyễn Vân Giang | C97: X | F97: X | G97: Nữ | H97: =LEFT(L97,2) -> 15 | I97: =MID(L97,4,2) -> 02 | J97: =RIGHT(L97,4) -> 1967 | K97: Hà Nội | L97: 15/02/1967 | M97: Khoa Công nghệ thông tin | O97: 022157496 | P97: 13/02/2012 | Q97: CA TPHCM | R97: Kinh | S97: Không | U97: Quận Bình Thạnh, Thành phố Hồ Chí Minh | V97: Số 7 đường 11 Khu Miếu Nổi, P2, Q.Phú Nhuận | X97: 0908660764 | Y97: vangianghcm@yahoo.com | Z97: 0296241602 | AB97: 01/10/1988 | AC97: Sở GDĐT TPHCM | AD97: 01/10/1988 | AE97: Biên chế | AG97: 01/10/1988 | AH97: Phó Trưởng Khoa | AI97: Phó Trưởng Khoa | AK97: 01/07/2015 | AP97: 19/05/2007 | AQ97: X | AS97: 12/12 | AT97: THPT | AU97: Thạc sỹ | AV97: =INDEX([1]DATA!$W$10:$W$285,MATCH(B97,[1]DATA!$C$10:$C$285,0)) -> Thạc sĩ | AW97: =INDEX([1]DATA!$X$10:$X$285,MATCH(B97,[1]DATA!$C$10:$C$285,0)) -> Tin học | AX97: Tin học | BB97: Quản trị mạng máy tính bậc 3/7 | BC97: - BD GV chính | BD97: ĐHSP | BF97: 3/7 | BH97: =INDEX([1]DATA!$Z$10:$Z$285,MATCH(B97,[1]DATA!$C$10:$C$285,0)) -> Trung cấp | BI97: Thạc sỹ | BJ97: Trung cấp | BL97: CBQL các Khoa, Phòng, Ban trường ÐH | BM97: THS | BN97: Thạc sỹ | BQ97: B1 | BT97: =INDEX([1]DATA!$O$10:$O$285,MATCH(B97,[1]DATA!$C$10:$C$285,0)) -> 15.112 | BU97: 15112Giáo viên trung học cao cấp | BW97: 7 | BX97: 6.04 | CA97: 01/10/2017 | CV97: B1 (2019) | CX97: 26/04/2019
A98: 91 | B98: Trần Vĩnh Xuyên | C98: X | F98: X | G98: Nam | H98: =LEFT(L98,2) -> 07 | I98: =MID(L98,4,2) -> 04 | J98: =RIGHT(L98,4) -> 1981 | K98: Mỹ Tho – Tiền Giang | L98: 07/04/1981 | M98: Khoa Công nghệ thông tin | O98: 025624118 | P98: 17/04/2013 | Q98: CA. TPHCM | R98: Kinh | S98: Không | U98: Mỹ Tho - Tiền Giang | V98: 186/1 Bình Thới, phường 14, quận 11,TPHCM | X98: 0903979218 | Y98: xuyen_dhbk@yahoo.com.au | Z98: 7912066219 | AB98: 01/09/2012 | AC98: Sở GDĐT TPHCM | AD98: 01/09/2012 | AE98: Hợp đồng không thời hạn | AG98: 01/09/2012 | AH98: Phó Trưởng khoa | AI98: Phó Trưởng khoa | AK98: 01/12/2018 | AS98: 12/12 | AT98: THPT | AU98: Thạc sỹ | AV98: =INDEX([1]DATA!$W$10:$W$285,MATCH(B98,[1]DATA!$C$10:$C$285,0)) -> Thạc sĩ | AW98: =INDEX([1]DATA!$X$10:$X$285,MATCH(B98,[1]DATA!$C$10:$C$285,0)) -> Khoa học Máy tính | AX98: Khoa học máy tính | BB98: NVSP Sư phạm dạy nghề Quản trị mạng máy tính bậc 3/7 | BC98: - BD GV chính | BD98: Sư phạm dạy nghề | BF98: 3/7 | BH98: =INDEX([1]DATA!$Z$10:$Z$285,MATCH(B98,[1]DATA!$C$10:$C$285,0)) -> Sơ cấp | BI98: Thạc sỹ | BJ98: Sơ cấp | BM98: THS | BN98: Thạc sỹ | BQ98: B1 | BT98: =INDEX([1]DATA!$O$10:$O$285,MATCH(B98,[1]DATA!$C$10:$C$285,0)) -> V.07.01.03 | BU98: V.07.01.03 | BW98: 3 | BX98: 3 | CA98: 01/09/2016 | CB98: 6 | CC98: 01/06/2019 | CV98: B1 | CX98: 01/07/2011
A99: 92 | B99: Nguyễn Văn Đôn | C99: X | F99: X | G99: Nam | H99: =LEFT(L99,2) -> 01 | I99: =MID(L99,4,2) -> 01 | J99: =RIGHT(L99,4) -> 1974 | K99: Bình Định | L99: 01/01/1974 | M99: Khoa Công nghệ thông tin | O99: 025187897 | P99: 13/01/2010 | Q99: CA TPHCM | R99: Kinh | S99: Không | U99: Xã Ân Phong, Huyện Hoài Ân, Tỉnh Bình Ðịnh | V99: 16/29 Đường 3/4, P. Linh Đông, Q. Thủ Đức, TPHCM | X99: 0983090339 | Y99: nvdon@yahoo.com | Z99: 7910171249 | AB99: 01/09/2009 | AC99: Sở GDĐT TPHCM | AD99: 01/09/2009 | AE99: Hợp đồng không thời hạn | AG99: 01/09/2009 | AH99: Trưởng Bộ môn | AI99: Trưởng Bộ môn | AK99: 01/09/2015 | AS99: 12/12 | AT99: THPT | AU99: Thạc sỹ | AV99: =INDEX([1]DATA!$W$10:$W$285,MATCH(B99,[1]DATA!$C$10:$C$285,0)) -> Thạc sĩ | AW99: =INDEX([1]DATA!$X$10:$X$285,MATCH(B99,[1]DATA!$C$10:$C$285,0)) -> Khoa học máy tính | AX99: Khoa học máy tính | BB99: NVSP Sư phạm dạy nghề Quản trị mạng máy tính bậc 3/7 | BC99: - PP nghiên cứu khoa học - BD GV chính | BD99: Sư phạm dạy nghề | BF99: 3/7 | BH99: =INDEX([1]DATA!$Z$10:$Z$285,MATCH(B99,[1]DATA!$C$10:$C$285,0)) -> Trung cấp | BI99: Thạc sỹ | BJ99: Trung cấp | BM99: THS | BN99: Thạc sỹ | BQ99: B1 | BT99: =INDEX([1]DATA!$O$10:$O$285,MATCH(B99,[1]DATA!$C$10:$C$285,0)) -> V.07.01.03 | BU99: V.07.01.03 | BW99: 4 | BX99: 3.33 | CA99: 01/09/2018 | CV99: B1 | CX99: 20/05/2013
A100: 93 | B100: Trần Việt Khánh | C100: X | F100: X | G100: Nam | H100: =LEFT(L100,2) -> 17 | I100: =MID(L100,4,2) -> 02 | J100: =RIGHT(L100,4) -> 1979 | K100: TPHCM | L100: 17/02/1979 | M100: Khoa Công nghệ thông tin | O100: 079079002854 | P100: 04/11/2016 | Q100: Cục cảnh sát đăng ký quản lý cư trú | R100: Kinh | S100: Phật | U100: Thành phố Hồ Chí Minh | V100: 50/35 Đinh Tiên Hoàng P1, Q.Bình Thạnh | X100: 0939271893 | Y100: tranvietkhanh79@gmail.com | Z100: 7909078918 | AB100: 01/09/2008 | AC100: Sở GDĐT TPHCM | AD100: 01/09/2008 | AE100: Hợp đồng không thời hạn | AG100: 01/09/2008 | AH100: Trưởng Bộ môn | AI100: Trưởng Bộ môn | AK100: 01/09/2015 | AS100: 12/12 | AT100: THPT | AU100: Thạc sỹ | AV100: =INDEX([1]DATA!$W$10:$W$285,MATCH(B100,[1]DATA!$C$10:$C$285,0)) -> Thạc sĩ | AW100: =INDEX([1]DATA!$X$10:$X$285,MATCH(B100,[1]DATA!$C$10:$C$285,0)) -> Hệ thống thông tin | AX100: - Hệ thống thông tin - Ngôn ngữ Anh | BB100: - NVSP Sư phạm dạy nghề - Quản trị mạng máy tính bậc 3/7 - NVSP dành cho GV CĐ, ĐH | BD100: Sư phạm dạy nghề | BF100: 3/7 | BH100: =INDEX([1]DATA!$Z$10:$Z$285,MATCH(B100,[1]DATA!$C$10:$C$285,0)) -> Sơ cấp | BI100: - Thạc sỹ - Đại học | BJ100: Trung cấp | BM100: THS | BN100: Thạc sỹ | BQ100: C1 | BS100: A2 | BT100: =INDEX([1]DATA!$O$10:$O$285,MATCH(B100,[1]DATA!$C$10:$C$285,0)) -> V.07.01.03 | BU100: V.07.01.03 | BW100: 4 | BX100: 3.33 | CA100: 01/09/2018 | CV100: - TOEFL ITP 423 - Đại học | CX100: 18/09/2018
A101: 94 | B101: Vũ Thị Thái Linh | C101: X | F101: X | G101: Nữ | H101: =LEFT(L101,2) -> 12 | I101: =MID(L101,4,2) -> 02 | J101: =RIGHT(L101,4) -> 1982 | K101: TPHCM | L101: 12/02/1982 | M101: Khoa Công nghệ thông tin | O101: 023646525 | P101: 17/07/2015 | Q101: CA. TPHCM | R101: Kinh | S101: Không | U101: xã Phúc Thành, Huyện Kim Thành, Tỉnh Hải Dương | V101: 259A Đoàn Văn Bơ, xã Phúc Thành, P18, Q4 | X101: 0908289414 | Y101: vuthithailinh@yahoo.com | Z101: 0206414707 | AB101: 01/09/2006 | AC101: Sở GDĐT TPHCM | AD101: 01/09/2006 | AE101: Hợp đồng không thời hạn | AG101: 01/09/2006 | AH101: Trưởng Bộ môn | AI101: Trưởng Bộ môn | AK101: 01/09/2015 | AS101: 12/12 | AT101: THPT | AU101: Thạc sỹ | AV101: =INDEX([1]DATA!$W$10:$W$285,MATCH(B101,[1]DATA!$C$10:$C$285,0)) -> Đại học | AW101: =INDEX([1]DATA!$X$10:$X$285,MATCH(B101,[1]DATA!$C$10:$C$285,0)) -> Khoa học máy tính | AX101: Khoa học máy tính | BB101: LL Dạy học ĐH, Sư phạm dạy nghề, Quản trị mạng máy tính bậc 3/7 | BC101: - BD GV chính | BD101: Sư phạm dạy nghề | BF101: 3/7 | BH101: =INDEX([1]DATA!$Z$10:$Z$285,MATCH(B101,[1]DATA!$C$10:$C$285,0)) -> Sơ cấp | BI101: Thạc sỹ | BJ101: Trung cấp | BM101: THS | BN101: Thạc sỹ | BO101: IC3 | BQ101: C1 | BT101: =INDEX([1]DATA!$O$10:$O$285,MATCH(B101,[1]DATA!$C$10:$C$285,0)) -> V.07.01.03 | BU101: V.07.01.03 | BW101: 5 | BX101: 3.66 | CA101: 01/09/2018 | CV101: Đại học | CX101: 12/01/2009
A102: 95 | B102: Bùi Văn Dũng | C102: X | F102: X | G102: Nam | H102: =LEFT(L102,2) -> 15 | I102: =MID(L102,4,2) -> 05 | J102: =RIGHT(L102,4) -> 1975 | K102: Nghệ An | L102: 15/05/1975 | M102: Khoa Công nghệ thông tin | O102: 025091414 | P102: 22/08/2011 | Q102: CA. TPHCM | R102: Kinh | S102: Không | U102: Xã Thanh Lương, Huyện Thanh Chương, Tỉnh Nghệ An | V102: 54 Đường số 7 P17, Q.Gò Vấp | X102: 0982868054 | Y102: btdsn@yahoo.com | Z102: 7909078914 | AB102: 01/09/2008 | AC102: Sở GDĐT TPHCM | AD102: 01/09/2008 | AE102: Hợp đồng không thời hạn | AG102: 01/09/2008 | AH102: Giảng viên | AS102: 12/12 | AT102: THCS | AU102: Đại học | AV102: =INDEX([1]DATA!$W$10:$W$285,MATCH(B102,[1]DATA!$C$10:$C$285,0)) -> Đại học | AW102: =INDEX([1]DATA!$X$10:$X$285,MATCH(B102,[1]DATA!$C$10:$C$285,0)) -> Tin học | AX102: Tin học | BB102: NVSP Quản trị mạng máy tính bậc 3/7 | BD102: CĐSP | BF102: 3/7 | BH102: =INDEX([1]DATA!$Z$10:$Z$285,MATCH(B102,[1]DATA!$C$10:$C$285,0)) -> Sơ cấp | BI102: Đại học | BJ102: Sơ cấp | BM102: ĐH | BN102: Đại học | BT102: =INDEX([1]DATA!$O$10:$O$285,MATCH(B102,[1]DATA!$C$10:$C$285,0)) -> V.07.01.03 | BU102: V.07.01.03 | BW102: 4 | BX102: 3.33 | CA102: 01/09/2018 | CV102: B
...

Sheet GV TOAN TRUONG (2)
A1: UBND THÀNH PHỐ HỒ CHÍ MINH TRƯỜNG CAO ĐẲNG LÝ TỰ TRỌNG THÀNH PHỐ HỒ CHÍ MINH | BB1: CỘNG HÒA XÃ HỘI CHỦ NGHĨA VIỆT NAM Độc lập - Tự do - Hạnh phúc
A3: DANH SÁCH THỐNG KÊ CHUẨN CHUYÊN MÔN NGHIỆP VỤ CỦA NHÀ GIÁO
A5: STT | B5: Họ tên | C5: GV | D5: NV | E5: kiêm chức | F5: GV + kiêm chức | G5: Giới tính | H5: Ngày sinh | I5: Tháng sinh | J5: Năm sinh | K5: Nơi sinh | L5: Ngày/tháng/năm sinh | M5: Đơn vị | N5: Số hiệu công chức | O5: Số chứng mình nhân dân | P5: Ngày cấp Chứng minh nhân dân | Q5: Nơi cấp chứng minh nhân dân | R5: Dân tộc | S5: Tôn giáo | T5: Quốc tịch | U5: Quê quán | V5: Địa chỉ thường trú | W5: Nơi ở hiện nay | X5: Điện thoại DD | Y5: Email | Z5: Số sổ bảo hiểm xã hội | AA5: Ngày hợp đồng | AB5: Ngày tuyển dụng | AC5: Cơ quan tuyển dụng | AD5: Ngày về cơ quan hiện nay | AE5: Thuộc loại cán bộ | AF5: Công việc hiện nay | AG5: Ngày vào ngành giáo dục | AH5: Chức vụ/ Chức danh hiện tại (công thức) | AI5: Chức vụ/ Chức danh hiện tại | AJ5: Hệ số phụ cấp chức vụ | AK5: Ngày bổ nhiệm chức vụ hiện tại | AL5: Lần bổ nhiệm | AM5: Chức vụ CQ kiêm nhiệm | AN5: Chức vụ CQ cao nhất đã qua | AO5: Ngày vào đảng | AP5: Ngày vào đảng chính thức | AQ5: Đảng viên (công thức) | AR5: Chức vụ Đảng hiện tại | AS5: Học vấn phổ thông | AT5: Đã tốt nghiệp | AU5: Trình độ chuyên môn cao nhất | AV5: (Ẩn) | AW5: Chuyên ngành đào tạo (Ẩn) | AX5: Chuyên ngành đào tạo | AY5: Nơi đào tạo | AZ5: Hình thức đào tạo | BA5: Năm tốt nghiệp | BB5: Chứng chỉ bồi dưỡng nghiệp vụ | BC5: Chứng chỉ khác | BD5: (Ẩn) | BE5: Kỹ năng nghề quốc gia | BF5: Bậc | BG5: Trình độ chuẩn | BH5: Trình độ lý luận chính trị (Ẩn) | BI5: Trình độ chuyên môn cao nhất | BJ5: Trình độ lý luận chính trị | BK5: Trình độ quản lý nhà nước | BL5: Trình độ quản lý giáo dục | BM5: Trình độ tin học | BN5: Trình độ tin học | BO5: Trình độ IC3 | BP5: Ngoại ngữ | BQ5: Trình độ ngoại ngữ | BR5: Nơi cấp CC Ngoại ngữ | BS5: Theo khung NLNN 6 bậc | BT5: (Ẩn) | BU5: Ngạch công chức | BV5: Ngày bổ nhiệm vào ngạch | BW5: Bậc lương | BX5: Hệ số lương | BY5: Hưởng lương từ ngày | BZ5: % phụ cấp thâm niên vượt khung | CA5: Mốc tính lương lần sau | CB5: Phụ cấp thâm niên nghề nghiệp (%) | CC5: Ngày hưởng pc thâm niên nghề | CD5: Chênh lệch bảo lưu lương | CE5: Phụ cấp ưu đãi(%) | CF5: Hệ số phụ cấp khu vực | CG5: Phụ cấp đặc biệt(%) | CH5: Hệ số phụ cấp lưu động | CI5: Phụ cấp kiêm nhiệm(%) | CJ5: Phụ cấp thu hút(%) | CK5: Hệ số phụ cấp độc hại nguy hiểm | CL5: Phụ cấp đặc thù(%) | CM5: Hệ số phụ cấp trách nhiệm | CN5: Hệ số phụ cấp khác | CO5: Phụ cấp công vụ (%) | CP5: Trừ Bảo hiểm thất nghiệp | CQ5: 85% (thử việc) | CR5: Tột khung | CS5: Ngày nghỉ việc | CT5: Lý do nghỉ việc | CU5: Ghi chú | CV5: Trình độ ngoại ngữ | CW5: CHƯA ĐỦ CHUẨN | CX5: GV dạy nghề | CY5: GV dạy các nghề trọng điểm | CZ5: Ngày vào ngành giáo dục | DA5: Ngày về cơ quan hiện nay | DB5: Công tác tại doanh nghiệp | DC5: Link minh chứng
A6: 01 | B6: 02 | L6: 03 | M6: 04 | AU6: 05 | AX6: 06 | BB6: 07 | BM6: 08 | BQ6: 09 | CX6: 10 | CY6: 11 | DB6: 10
A7: 01 | B7: Nguyễn Anh Tuấn | C7: X | F7: X | G7: Nam | H7: =LEFT(L7,2) -> 06 | I7: =MID(L7,4,2) -> 11 | J7: =RIGHT(L7,4) -> 1981 | K7: TP.HCM | L7: 06/11/1981 | M7: Khoa Động lực | O7: 079081001334 | P7: 27/04/2016 | Q7: Cục cảnh sát đăng ký quản lý cư trú | R7: Kinh | S7: Không | U7: Thành phố Hồ Chí Minh | V7: 95 Rạch Cát, Bến Lức, P7, Q8 | X7: 0903660165 | Y7: anhtuanspkt@gmail.com | Z7: 0205363670 | AB7: 01/09/2005 | AC7: Sở GDĐT TPHCM | AD7: 01/09/2005 | AE7: Hợp đồng không thời hạn | AG7: 01/09/2005 | AH7: Trưởng Khoa | AI7: Trưởng Khoa | AK7: 01/08/2015 | AS7: 12/12 | AT7: THPT | AU7: Tiến sỹ | AV7: =INDEX([1]DATA!$W$10:$W$285,MATCH(B7,[1]DATA!$C$10:$C$285,0)) -> Tiến sĩ | AW7: =INDEX([1]DATA!$X$10:$X$285,MATCH(B7,[1]DATA!$C$10:$C$285,0)) -> Kỹ thuật Cơ khí Động lực | AX7: Kỹ thuật Cơ khí động lực | AY7: - Trường ĐH GTVT - Trường ĐH Hàng Hải Việt Nam | BB7: SP Bậc 2 - Chứng chỉ nghề bậc 3/7 - NVSP cho GV ĐH, CĐ | BC7: - Bồi dưỡng CDNN giảng viên cao cấp (hạng I) - BD GV chính | BD7: - ĐHSPKT - Bậc 2 - NVSP dành cho GV CĐ, ĐH | BE7: Nghề Công nghệ Ô tô | BF7: 3 | BH7: =INDEX([1]DATA!$Z$10:$Z$285,MATCH(B7,[1]DATA!$C$10:$C$285,0)) -> Trung cấp | BI7: - Tiến sỹ - Đại học | BJ7: Trung cấp | BL7: CBQL các Khoa, Phòng, Ban trường ÐH | BM7: UD CNTT CB | BN7: UD CNTT CB | BQ7: C1 | BT7: =INDEX([1]DATA!$O$10:$O$285,MATCH(B7,[1]DATA!$C$10:$C$285,0)) -> V.07.01.03 | BU7: V.07.01.03 | BW7: 6 | BX7: 3.99 | BY7: 01/09/2018 | CA7: 01/09/2018 | CV7: - B2 - Đại học | CW7: 3/19 | CX7: x | CY7: x | CZ7: 01/09/2005 | DA7: 01/09/2005 | DC7: DONG LUC\NGUYEN ANH TUAN.pdf | DD7: DONG LUC\NGUYEN ANH TUAN 3.pdf
A8: 02 | B8: Võ Đắc Thịnh | C8: X | F8: X | G8: Nam | H8: =LEFT(L8,2) -> 16 | I8: =MID(L8,4,2) -> 01 | J8: =RIGHT(L8,4) -> 1979 | K8: Thành phố Hồ Chí Minh | L8: 16/01/1979 | M8: Khoa Động lực | O8: 079079003245 | P8: 18/12/2018 | Q8: Cục cảnh sát đăng ký quản lý cư trú | R8: Kinh | S8: Không | U8: Tỉnh Bình Dương | V8: 204 Tầng 3 Lô G Chung cư Bàu Cát II, Phường 10, Quận Tân Bình, TPHCM | X8: 0903869052 | Y8: vodacthinhoto79@gmail.com | Z8: 0202201607 | AB8: 01/09/2002 | AC8: Sở GDĐT TPHCM | AD8: 01/09/2002 | AE8: Biên chế | AG8: 01/09/2002 | AH8: Phó Trưởng Khoa | AI8: Phó Trưởng Khoa | AK8: 01/08/2015 | AP8: 20/12/2007 | AQ8: X | AS8: 12/12 | AT8: THPT | AU8: Thạc sỹ | AV8: =INDEX([1]DATA!$W$10:$W$285,MATCH(B8,[1]DATA!$C$10:$C$285,0)) -> Thạc sĩ | AW8: =INDEX([1]DATA!$X$10:$X$285,MATCH(B8,[1]DATA!$C$10:$C$285,0)) -> Kỹ thuật Ô tô, máy kéo | AX8: Kỹ thuật ô tô, máy kéo | BB8: SP Bậc 2 - Chứng chỉ nghề bậc 3/7 | BC8: - BD GV chính | BD8: ĐHSPKT | BE8: Nghề Công nghệ Ô tô | BF8: 3 | BH8: =INDEX([1]DATA!$Z$10:$Z$285,MATCH(B8,[1]DATA!$C$10:$C$285,0)) -> Trung cấp | BI8: Thạc sỹ | BJ8: Trung cấp | BL8: CBQL các Khoa, Phòng, Ban trường ÐH | BM8: UD CNTT CB | BN8: UD CNTT CB | BQ8: B1 | BT8: =INDEX([1]DATA!$O$10:$O$285,MATCH(B8,[1]DATA!$C$10:$C$285,0)) -> V.07.01.03 | BU8: V.07.01.03 | BW8: 7 | BX8: 4.32 | BY8: 01/09/2018 | CA8: 01/09/2018 | CV8: B1 | CX8: x | CY8: x | CZ8: 01/09/2002 | DA8: 01/09/2002 | DC8: DONG LUC\VO DAC THINH.pdf | DD8: DONG LUC\VO DAC THINH 3.pdf
A9: 03 | B9: Hà Quốc Bảo | C9: X | F9: X | G9: Nam | H9: =LEFT(L9,2) -> 02 | I9: =MID(L9,4,2) -> 02 | J9: =RIGHT(L9,4) -> 1987 | K9: Kiên Giang | L9: 02/02/1987 | M9: Khoa Động lực | O9: 024578348 | P9: 11/08/2006 | Q9: CA. TPHCM | R9: Kinh | S9: Thiên chúa | U9: Tỉnh Thái Bình | V9: 114/34 Phú Thọ Hòa, P. Phú Thọ Hòa, Q. Tân Phú | X9: 0933651943 | Y9: haquocbao22@yahoo.com.vn | Z9: 7914159577 | AB9: 01/09/2013 | AC9: Sở GDĐT TPHCM | AD9: 01/09/2013 | AE9: Hợp đồng không thời hạn | AG9: 01/09/2013 | AH9: Trưởng Bộ môn | AI9: Trưởng bộ môn Điện ô tô | AK9: 01/01/2019 | AS9: 12/12 | AT9: THPT | AU9: Thạc sỹ | AV9: =INDEX([1]DATA!$W$10:$W$285,MATCH(B9,[1]DATA!$C$10:$C$285,0)) -> Thạc sĩ | AW9: =INDEX([1]DATA!$X$10:$X$285,MATCH(B9,[1]DATA!$C$10:$C$285,0)) -> Kỹ thuật Cơ khí Động lực | AX9: Kỹ thuật Cơ khí Động lực | BB9: SP Bậc 2 - Chứng chỉ nghề bậc 3/7 | BC9: - BD GV chính | BD9: ĐHSPKT | BF9: 3/7 | BH9: =INDEX([1]DATA!$Z$10:$Z$285,MATCH(B9,[1]DATA!$C$10:$C$285,0)) | BI9: Thạc sỹ | BM9: A | BN9: A | BQ9: B1 | BT9: =INDEX([1]DATA!$O$10:$O$285,MATCH(B9,[1]DATA!$C$10:$C$285,0)) -> V.07.01.03 | BU9: V.07.01.03 | BW9: 2 | BX9: 2.67 | CA9: 01/09/2016 | CV9: B1 | CX9: x | CY9: x | CZ9: 01/09/2013 | DA9: 01/09/2013 | DB9: 02/11-08/2013: Nhân viên CT TNHH XD TM Ô tô Đức Việt | DC9: DONG LUC\HA QUOC BAO.pdf | DD9: DONG LUC\HA QUOC BAO 3.pdf
A10: 04 | B10: Nguyễn Hữu Mạnh | C10: X | F10: X | G10: Nam | H10: =LEFT(L10,2) -> 04 | I10: =MID(L10,4,2) -> 03 | J10: =RIGHT(L10,4) -> 1980 | K10: Lào Cai | L10: 04/03/1980 | M10: Khoa Động lực | O10: 023655683 | P10: 26/06/2013 | Q10: CA TPHCM | R10: Kinh | S10: Không | U10: Xã An Quí, Huyện Quỳnh Phụ, Tỉnh Thái Bình | V10: 428 Hoàng Hữu Nam, KP Giãn Dân, phường Long Thạnh Mỹ, Q9 | X10: 0983888291 | Y10: manhnguyenckd@gmail.com | Z10: 0206414710 | AB10: 01/09/2006 | AC10: Sở GDĐT TPHCM | AD10: 01/09/2006 | AE10: Hợp đồng không thời hạn | AG10: 01/09/2006 | AH10: Trưởng Bộ môn | AI10: Trưởng Bộ môn | AK10: 01/09/2015 | AS10: 12/12 | AT10: THPT | AU10: - Thạc sỹ - Đại học | AV10: =INDEX([1]DATA!$W$10:$W$285,MATCH(B10,[1]DATA!$C$10:$C$285,0)) -> Thạc sĩ | AW10: =INDEX([1]DATA!$X$10:$X$285,MATCH(B10,[1]DATA!$C$10:$C$285,0)) -> Kỹ thuật Cơ khí Động lực | AX10: - Kỹ thuật Cơ khí Động lực - Ngôn ngữ Anh | BB10: SP Bậc 2 - Chứng chỉ nghề bậc 3/7 | BC10: - BD GV chính | BD10: ĐHSPKT | BF10: 3/7 | BH10: =INDEX([1]DATA!$Z$10:$Z$285,MATCH(B10,[1]DATA!$C$10:$C$285,0)) -> Sơ cấp | BI10: Thạc sỹ | BJ10: Trung cấp | BM10: B | BN10: Trình độ B (2004) | BQ10: C1 | BT10: =INDEX([1]DATA!$O$10:$O$285,MATCH(B10,[1]DATA!$C$10:$C$285,0)) -> V.07.01.03 | BU10: V.07.01.03 | BW10: 5 | BX10: 3.66 | CA10: 01/09/2018 | CV10: B1 | CX10: x | CY10: x | CZ10: 01/09/2006 | DA10: 01/09/2006 | DC10: DONG LUC\NGUYEN HUU MANH.pdf | DD10: DONG LUC\NGUYEN HUU MANH 3.pdf
A11: 05 | B11: Triệu Phú Nguyên | C11: X | F11: X | G11: Nam | H11: =LEFT(L11,2) -> 12 | I11: =MID(L11,4,2) -> 03 | J11: =RIGHT(L11,4) -> 1980 | K11: TPHCM | L11: 12/03/1980 | M11: Khoa Động lực | O11: 023523303 | P11: 18/04/2008 | Q11: CA TPHCM | R11: Hoa | S11: Không | U11: Trung Quốc | V11: 121A/13A Hậu Giang, P5, Q6 | X11: 0908368347 | Y11: nguyentrieuphu@yahoo.com | Z11: 7909078910 | AB11: 01/09/2008 | AC11: Sở GDĐT TPHCM | AD11: 01/09/2008 | AE11: Hợp đồng không thời hạn | AG11: 01/09/2008 | AH11: Trưởng Bộ môn | AI11: Trưởng Bộ môn | AK11: 01/12/2017 | AS11: 12/12 | AT11: THPT | AU11: Thạc sỹ | AV11: =INDEX([1]DATA!$W$10:$W$285,MATCH(B11,[1]DATA!$C$10:$C$285,0)) -> Thạc sĩ | AW11: =INDEX([1]DATA!$X$10:$X$285,MATCH(B11,[1]DATA!$C$10:$C$285,0)) -> Kỹ sư Cơ khí động lực | AX11: Kỹ thuật Cơ khí Động lực | BB11: SP Bậc 2 - Chứng chỉ nghề bậc 3/7 | BC11: - BD GV chính | BD11: ĐHSPKT | BF11: 3/7 | BH11: =INDEX([1]DATA!$Z$10:$Z$285,MATCH(B11,[1]DATA!$C$10:$C$285,0)) -> Sơ cấp | BI11: Thạc sỹ | BJ11: Trung cấp | BM11: A | BN11: Trình độ A | BQ11: B1 | BT11: =INDEX([1]DATA!$O$10:$O$285,MATCH(B11,[1]DATA!$C$10:$C$285,0)) -> V.07.01.03 | BU11: V.07.01.03 | BW11: 4 | BX11: 3.33 | CA11: 01/09/2016 | CV11: B1 | CX11: x | CY11: x | CZ11: 01/09/2008 | DA11: 01/09/2008 | DC11: DONG LUC\TRIEU PHU NGUYEN.pdf
A12: 06 | B12: Hồ Văn Hóa | C12: X | F12: X | G12: Nam | H12: =LEFT(L12,2) -> 29 | I12: =MID(L12,4,2) -> 06 | J12: =RIGHT(L12,4) -> 1987 | K12: TPHCM | L12: 29/06/1987 | M12: Khoa Động lực | O12: 024292308 | P12: 14/07/2004 | Q12: CA. TPHCM | R12: Kinh | S12: Không | U12: Xã Bình Mỹ, Huyện Củ Chi, Thành phố Hồ Chí Minh | V12: Tổ 8, ấp 7, xã Bình Mỹ, Huyện Củ Chi, TP.HCM | X12: 0906660312 | Y12: vanhoaspkt@gmail.com | Z12: #N/A | AB12: 01/09/2012 | AC12: Sở GDĐT TPHCM | AD12: 20/08/2012 | AE12: Hợp đồng không thời hạn | AG12: 20/08/2012 | AH12: Giảng viên | AS12: 12/12 | AT12: THPT | AU12: Thạc sỹ | AV12: =INDEX([1]DATA!$W$10:$W$285,MATCH(B12,[1]DATA!$C$10:$C$285,0)) -> Thạc sĩ | AW12: =INDEX([1]DATA!$X$10:$X$285,MATCH(B12,[1]DATA!$C$10:$C$285,0)) -> Kỹ sư Cơ khí Động lực | AX12: Kỹ thuật Cơ khí động lực | BB12: SP Bậc 2 - Chứng chỉ nghề bậc 3/7 | BD12: ĐHSPKT | BE12: Công nghệ Ô tô | BF12: 3 | BH12: =INDEX([1]DATA!$Z$10:$Z$285,MATCH(B12,[1]DATA!$C$10:$C$285,0)) -> Sơ cấp | BI12: - Thạc sỹ - Đại học | BJ12: Sơ cấp | BM12: B | BN12: Trình độ B | BQ12: B1 | BT12: =INDEX([1]DATA!$O$10:$O$285,MATCH(B12,[1]DATA!$C$10:$C$285,0)) -> V.07.01.03 | BU12: V.07.01.03 | BW12: 3 | BX12: 3 | CA12: 01/09/2018 | CB12: 0.05 | CC12: 01/09/2018 | CV12: - B1 - ĐH | CX12: x | CY12: x | CZ12: 01/09/2012 | DA12: 01/09/2012 | DB12: - 09/2011-9/2012: Nhân viên kỹ thuật CTCP SX TM DV TV An Lạc | DC12: DONG LUC\HO VAN HOA.pdf
A13: 07 | B13: Đặng Thái Sơn | C13: X | F13: X | G13: Nam | H13: =LEFT(L13,2) -> 06 | I13: =MID(L13,4,2) -> 08 | J13: =RIGHT(L13,4) -> 1984 | K13: Kiên Giang | L13: 06/08/1984 | M13: Khoa Động lực | O13: 024761501 | P13: 20/12/2013 | Q13: CA TPHCM | R13: Kinh | S13: Thiên chúa | U13: Xã Tân An, Huyện Tân Hiệp, Tỉnh Kiên Giang | V13: Tổ 22 Ấp Đình, xã Tân Phú Trung, Củ Chi | X13: 0937681703 | Y13: thaisonltt@gmail.com | Z13: 7910171254 | AB13: 01/09/2009 | AC13: Sở GDĐT TPHCM | AD13: 01/09/2009 | AE13: Hợp đồng không thời hạn | AG13: 01/09/2009 | AH13: Giảng viên | AS13: 12/12 | AT13: THPT | AU13: Thạc sỹ | AV13: =INDEX([1]DATA!$W$10:$W$285,MATCH(B13,[1]DATA!$C$10:$C$285,0)) -> Thạc sĩ | AW13: =INDEX([1]DATA!$X$10:$X$285,MATCH(B13,[1]DATA!$C$10:$C$285,0)) -> Kỹ thuật Ô tô, máy kéo | AX13: Kỹ thuật ô tô, máy kéo | BB13: SP Bậc 2 - Chứng chỉ nghề bậc 3/7 | BC13: - BD GV chính | BD13: Bậc 2 (2003) | BE13: Công nghệ Ô tô | BF13: 3 | BH13: =INDEX([1]DATA!$Z$10:$Z$285,MATCH(B13,[1]DATA!$C$10:$C$285,0)) | BI13: Thạc sỹ | BJ13: Trung cấp | BM13: UD CNTT CB | BQ13: B1 | BS13: B1 | BT13: =INDEX([1]DATA!$O$10:$O$285,MATCH(B13,[1]DATA!$C$10:$C$285,0)) -> V.07.01.03 | BU13: V.07.01.03 | BW13: 4 | BX13: 3.33 | CA13: 01/09/2018 | CV13: Toeic 520 | CX13: x | CY13: x | CZ13: 01/09/2009 | DA13: 01/09/2009 | DC13: DONG LUC\DANG THAI SON.pdf | DD13: DONG LUC\DANG THAI SON - B1.pdf | DE13: DONG LUC\DANG THAI SON TIN HOC.jpg
A14: 08 | B14: Hoàng Phúc Bảo | C14: X | F14: X | G14: Nam | H14: =LEFT(L14,2) -> 28 | I14: =MID(L14,4,2) -> 01 | J14: =RIGHT(L14,4) -> 1984 | K14: TPHCM | L14: 28/01/1984 | M14: Khoa Động lực | O14: 079084011850 | P14: 23/07/2018 | Q14: Cục cảnh sát đăng ký quản lý cư trú | R14: Kinh | S14: Không | U14: Tỉnh Tiền Giang | V14: 20/2 Phạm Văn Hùng, Phường 10, Quận 8, TPHCM | X14: 0968774325 | Y14: hoangphucbaockd@gmail.com | Z14: 7914159576 | AB14: 01/09/2013 | AC14: Sở GDĐT TPHCM | AD14: 01/09/2013 | AE14: Hợp đồng không thời hạn | AG14: 01/09/2013 | AH14: Giảng viên | AS14: 12/12 | AT14: THPT | AU14: Đại học | AV14: =INDEX([1]DATA!$W$10:$W$285,MATCH(B14,[1]DATA!$C$10:$C$285,0)) -> Đại học | AW14: =INDEX([1]DATA!$X$10:$X$285,MATCH(B14,[1]DATA!$C$10:$C$285,0)) -> Cơ khí Động lực | AX14: Cơ khí động lực | BB14: SP Bậc 2 - Chứng chỉ nghề bậc 3/7 | BD14: ĐHSPKT | BE14: Công nghệ Ô tô | BF14: 3 | BH14: =INDEX([1]DATA!$Z$10:$Z$285,MATCH(B14,[1]DATA!$C$10:$C$285,0)) | BI14: Đại học | BM14: A | BN14: A | BQ14: A2 | BS14: A2 | BT14: =INDEX([1]DATA!$O$10:$O$285,MATCH(B14,[1]DATA!$C$10:$C$285,0)) -> V.07.01.03 | BU14: V.07.01.03 | BW14: 2 | BX14: 2.67 | CA14: 01/09/2016 | CV14: TOEIC 400 | CX14: x | CZ14: 01/09/2013 | DA14: 01/09/2013 | DB14: - 7/2010-9/2013: Nhân viên kỹ thuật DNTN Vinh Quang | DC14: DONG LUC\HOANG PHUC BAO.pdf | DD14: DONG LUC\HOANG PHUC BAO 3.pdf
A15: 09 | B15: Kiều Trung Tín | C15: X | F15: X | G15: Nam | H15: =LEFT(L15,2) -> 08 | I15: =MID(L15,4,2) -> 04 | J15: =RIGHT(L15,4) -> 1982 | K15: TPHCM | L15: 08/04/1982 | M15: Khoa Động lực | O15: 023493630 | P15: 15/06/2012 | Q15: CA.TPHCM | R15: Kinh | S15: Không | U15: Xã Bình Chánh, Huyện Bình Chánh, Thành phố Hồ Chí Minh | V15: C12/23 ấp 3 xã Bình Chánh, huyện Bình Chánh, TPHCM | X15: 01226148847 | Y15: ttin182@yahoo.com.vn | Z15: 0204354426 | AB15: 01/09/2010 | AC15: Sở GDĐT TPHCM | AD15: 01/09/2010 | AE15: Hợp đồng không thời hạn | AG15: 01/03/2009 | AH15: Giảng viên | AS15: 12/12 | AT15: THPT | AU15: Đại học | AV15: =INDEX([1]DATA!$W$10:$W$285,MATCH(B15,[1]DATA!$C$10:$C$285,0)) -> Kỹ sư | AW15: =INDEX([1]DATA!$X$10:$X$285,MATCH(B15,[1]DATA!$C$10:$C$285,0)) -> Kỹ thuật Ô tô - Máy động lực | AX15: Kỹ thuật Ô tô - Máy động lực | BB15: - SP dạy nghề - Chứng chỉ nghề bậc 3/7 | BC15: - BD GV chính | BD15: CĐSP | BF15: 3/7 | BH15: =INDEX([1]DATA!$Z$10:$Z$285,MATCH(B15,[1]DATA!$C$10:$C$285,0)) | BI15: Đại học | BM15: CĐ | BN15: Cao Đẳng | BQ15: A2 | BS15: A2 | BT15: =INDEX([1]DATA!$O$10:$O$285,MATCH(B15,[1]DATA!$C$10:$C$285,0)) -> V.07.01.03 | BU15: V.07.01.03 | BV15: 01/09/2011 | BW15: 3 | BX15: 3 | BY15: 01/09/2017 | CA15: 01/09/2017 | CB15: 9% | CC15: 01/05/2019 | CV15: TOEFL 433 | CX15: x | CZ15: 01/03/2009 | DA15: 01/09/2010 | DC15: DONG LUC\KIEU TRUNG TIN.pdf
A16: 10 | B16: Nguyễn Minh Thái | C16: X | F16: X | G16: Nam | H16: =LEFT(L16,2) -> 02 | I16: =MID(L16,4,2) -> 09 | J16: =RIGHT(L16,4) -> 1984 | K16: TPHCM | L16: 02/09/1984 | M16: Khoa Động lực | O16: 023727322 | P16: 29/07/2013 | Q16: CA THPCM | R16: Kinh | S16: Không | U16: Xã Tân Thới Nhì, Huyện Hóc Môn, Thành phố Hồ Chí Minh | V16: 66/1B ấp Dân Thắng 1, xã Tân Thới Nhì, huyện Hóc Môn, TPHCM | X16: 0904444491 | Y16: nguyenminhthailtt@gmail.com | Z16: 7910171253 | AB16: 01/09/2009 | AC16: Sở GDĐT TPHCM | AD16: 01/09/2009 | AE16: Hợp đồng không thời hạn | AG16: 01/09/2009 | AH16: Giảng viên | AS16: 12/12 | AT16: THPT | AU16: Đại học | AV16: =INDEX([1]DATA!$W$10:$W$285,MATCH(B16,[1]DATA!$C$10:$C$285,0)) -> Kỹ sư | AW16: =INDEX([1]DATA!$X$10:$X$285,MATCH(B16,[1]DATA!$C$10:$C$285,0)) -> Cơ khí động lực | AX16: Cơ khí động lực | BB16: SP Bậc 2 - Chứng chỉ nghề bậc 3/7 | BC16: - BD GV chính | BD16: ĐHSPKT | BE16: Công nghệ Ô tô | BF16: 3 | BH16: =INDEX([1]DATA!$Z$10:$Z$285,MATCH(B16,[1]DATA!$C$10:$C$285,0)) | BI16: Đại học | BM16: UD CNTT CB | BQ16: B1 | BT16: =INDEX([1]DATA!$O$10:$O$285,MATCH(B16,[1]DATA!$C$10:$C$285,0)) -> V.07.01.03 | BU16: V.07.01.03 | BW16: 4 | BX16: 3.33 | CA16: 01/09/2018 | CV16: B1 | CX16: x | CY16: x | CZ16: 01/09/2009 | DA16: 01/09/2009 | DC16: DONG LUC\NGUYEN MINH THAI.pdf | DD16: DONG LUC\NGUYEN MINH THAI TIN HOC.jpg
A17: 11 | B17: Nguyễn Thái Bình | C17: X | F17: X | G17: Nam | H17: =LEFT(L17,2) -> 02 | I17: =MID(L17,4,2) -> 01 | J17: =RIGHT(L17,4) -> 1973 | K17: TPHCM | L17: 02/01/1973 | M17: Khoa Động lực | O17: 022958396 | P17: 18/03/2010 | Q17: CA TPHCM | R17: Kinh | S17: Không | U17: Phường Tăng Nhơn Phú A, Quận 9, Thành phố Hồ Chí Minh | V17: 637 Lê Văn Việt, KP5, Tăng Nhơn Phú A, Q.9 | X17: 0906414482 | Y17: binhnguyenthai60@gmail.com | Z17: 7910171256 | AB17: 01/09/2009 | AC17: Sở GDĐT TPHCM | AD17: 01/09/2009 | AE17: Hợp đồng không thời hạn | AG17: 01/09/2009 | AH17: Giảng viên | AS17: 12/12 | AT17: THPT | AU17: Thạc sỹ | AV17: =INDEX([1]DATA!$W$10:$W$285,MATCH(B17,[1]DATA!$C$10:$C$285,0)) -> Thạc sĩ | AW17: =INDEX([1]DATA!$X$10:$X$285,MATCH(B17,[1]DATA!$C$10:$C$285,0)) -> Kỹ thuật ô tô, máy kéo | AX17: Kỹ thuật ô tô, máy kéo | BB17: SP Bậc 2 - Chứng chỉ nghề bậc 3/7 | BC17: - BD GV chính | BD17: ĐHSPKT | BE17: Công nghệ Ô tô | BF17: 3 | BH17: =INDEX([1]DATA!$Z$10:$Z$285,MATCH(B17,[1]DATA!$C$10:$C$285,0)) -> Sơ cấp | BI17: Thạc sỹ | BJ17: Sơ cấp | BM17: B | BN17: Trình độ B | BQ17: C1 | BT17: =INDEX([1]DATA!$O$10:$O$285,MATCH(B17,[1]DATA!$C$10:$C$285,0)) -> V.07.01.03 | BU17: V.07.01.03 | BW17: 4 | BX17: 3.33 | CA17: 01/09/2018 | CV17: Đại học Tiếng Anh | CX17: x | CY17: x | CZ17: 01/09/2009 | DA17: 01/09/2009 | DC17: DONG LUC\NGUYEN THAI BINH.pdf
A18: 12 | B18: Nguyễn Thành Đức | C18: X | F18: X | G18: Nam | H18: =LEFT(L18,2) -> 14 | I18: =MID(L18,4,2) -> 10 | J18: =RIGHT(L18,4) -> 1978 | K18: Đồng Tháp | L18: 14/10/1978 | M18: Khoa Động lực | O18: 024520146 | P18: 16/09/2014 | Q18: CA TPHCM | R18: Kinh | S18: Không | U18: Tỉnh Ðồng Tháp | V18: 10/13 Kênh Nước Đen, P.Bình Hưng Hòa A, Q.Bình Tân | X18: 0903170567 | Y18: ng_th_duc@yahoo.com.vn | Z18: 7909078911 | AB18: 01/09/2008 | AC18: Sở GDĐT TPHCM | AD18: 01/09/2008 | AE18: Hợp đồng không thời hạn | AG18: 01/09/2008 | AH18: Giảng viên | AS18: 12/12 | AT18: THPT | AU18: Thạc sỹ | AV18: =INDEX([1]DATA!$W$10:$W$285,MATCH(B18,[1]DATA!$C$10:$C$285,0)) -> Thạc sĩ | AW18: =INDEX([1]DATA!$X$10:$X$285,MATCH(B18,[1]DATA!$C$10:$C$285,0)) -> Kỹ thuật Cơ khí Động lực | AX18: Kỹ thuật Cơ khí Động lực | BB18: SP Bậc 2 - Chứng chỉ nghề bậc 3/7 | BD18: ĐHSPKT | BF18: 3/7 | BH18: =INDEX([1]DATA!$Z$10:$Z$285,MATCH(B18,[1]DATA!$C$10:$C$285,0)) | BI18: Thạc sỹ | BM18: UD CNTT CB | BQ18: B1 | BT18: =INDEX([1]DATA!$O$10:$O$285,MATCH(B18,[1]DATA!$C$10:$C$285,0)) -> V.07.01.03 | BU18: V.07.01.03 | BW18: 4 | BX18: 3.33 | CA18: 01/09/2018 | CV18: B1 | CX18: x | CY18: x | CZ18: 01/09/2008 | DA18: 01/09/2008 | DC18: DONG LUC\NGUYEN THANH DUC.pdf | DD18: DONG LUC\NGUYEN THANH DUC 3.pdf | DE18: DONG LUC\NGUYEN THANH DUC TIN HOC.jpg
A19: 13 | B19: Nguyễn Thanh Hùng | C19: X | F19: X | G19: Nam | H19: =LEFT(L19,2) -> 03 | I19: =MID(L19,4,2) -> 09 | J19: =RIGHT(L19,4) -> 1982 | K19: CA. TP.HCM | L19: 03/09/1982 | M19: Khoa Động lực | O19: 079082002097 | P19: 13/06/2016 | Q19: CA. TPHCM | R19: Kinh | S19: Không | U19: Thành phố Hồ Chí Minh | V19: 020 Lô Y CC Ngô Gia Tự, Phường 2, Quận 10, TP.HCM | X19: 0938958210 | Y19: thanhhungspkt05@gmail.com | Z19: 7910002854 | AB19: 01/10/2012 | AC19: Sở GDĐT TPHCM | AD19: 01/10/2012 | AE19: Hợp đồng không thời hạn | AG19: 01/10/2012 | AH19: Giảng viên | AS19: 12/12 | AT19: THPT | AU19: Thạc sỹ | AV19: =INDEX([1]DATA!$W$10:$W$285,MATCH(B19,[1]DATA!$C$10:$C$285,0)) -> Thạc sĩ | AW19: =INDEX([1]DATA!$X$10:$X$285,MATCH(B19,[1]DATA!$C$10:$C$285,0)) -> Kỹ thuật ô tô máy kéo | AX19: Kỹ thuật ô tô, máy kéo | BB19: Bồi dưỡng NVSP cho GV ĐH, CĐ | BC19: SP Bậc 2 - Chứng chỉ nghề bậc 3/7 - BD GV chính | BD19: ĐHSPKT | BE19: Công nghệ Ô tô | BF19: 3 | BH19: =INDEX([1]DATA!$Z$10:$Z$285,MATCH(B19,[1]DATA!$C$10:$C$285,0)) | BI19: Thạc sỹ | BM19: UD CNTT CB | BN19: Ứng dụng CNTT cơ bản | BQ19: B2 | BS19: B2 | BT19: =INDEX([1]DATA!$O$10:$O$285,MATCH(B19,[1]DATA!$C$10:$C$285,0)) -> V.07.01.03 | BU19: V.07.01.03 | BW19: 3 | BX19: 3 | CA19: 01/10/2018 | CB19: 5% | CC19: 01/10/2018 | CV19: TOEIC 600 | CX19: x | CY19: x | CZ19: 01/10/2012 | DA19: 01/10/2012 | DB19: - 2/2010-9/2012: Thợ máy CTCP Đầu tư & Thương mại AMC | DC19: DONG LUC\NGUYEN THANH HUNG.pdf
A20: 14 | B20: Phan Anh Tuấn Kiệt | C20: X | F20: X | G20: Nam | H20: =LEFT(L20,2) -> 28 | I20: =MID(L20,4,2) -> 10 | J20: =RIGHT(L20,4) -> 1983 | K20: TPHCM | L20: 28/10/1983 | M20: Khoa Động lực | O20: 079083003103 | P20: 15/07/2016 | Q20: Cục cảnh sát đăng ký quản lý cư trú | R20: Kinh | S20: Thiên chúa | U20: Tỉnh Bình Ðịnh | V20: 16/1 Cách Mạng, P.Tân Thành, Q.Tân Phú | X20: 0938250452 | Y20: kiettool07@yahoo.com | Z20: 7908079140 | AB20: 01/09/2007 | AC20: Sở GDĐT TPHCM | AD20: 01/09/2007 | AE20: Hợp đồng không thời hạn | AG20: 01/09/2007 | AH20: Giảng viên | AS20: 12/12 | AT20: THPT | AU20: Thạc sỹ | AV20: =INDEX([1]DATA!$W$10:$W$285,MATCH(B20,[1]DATA!$C$10:$C$285,0)) -> Thạc sĩ | AW20: =INDEX([1]DATA!$X$10:$X$285,MATCH(B20,[1]DATA!$C$10:$C$285,0)) -> Kỹ thuật Cơ khí động lực | AX20: Kỹ thuật Cơ khí Động lực | BB20: SP Bậc 2 - Chứng chỉ nghề bậc 3/7 | BC20: - BD GV chính | BD20: ĐHSPKT | BF20: 3/7 | BH20: =INDEX([1]DATA!$Z$10:$Z$285,MATCH(B20,[1]DATA!$C$10:$C$285,0)) -> Sơ cấp | BI20: Thạc sỹ | BJ20: Trung cấp | BM20: UD CNTT CB | BN20: TH UDCB | BQ20: B1 | BT20: =INDEX([1]DATA!$O$10:$O$285,MATCH(B20,[1]DATA!$C$10:$C$285,0)) -> V.07.01.03 | BU20: V.07.01.03 | BW20: 5 | BX20: 3.66 | BY20: 43344 | CA20: 01/09/2018 | CV20: B1 | CX20: x | CY20: x | CZ20: 01/09/2007 | DA20: 01/09/2007 | DC20: DONG LUC\PHAN ANH TUAN KIET.pdf | DD20: DONG LUC\PHAN ANH TUAN KIET 3.pdf
A21: 15 | B21: Trần Minh Tuấn | C21: X | F21: X | G21: Nam | H21: =LEFT(L21,2) -> 17 | I21: =MID(L21,4,2) -> 11 | J21: =RIGHT(L21,4) -> 1986 | K21: Quảng Ngãi | L21: 17/11/1986 | M21: Khoa Động lực | O21: 051086000128 | P21: 12/04/2017 | Q21: Cục cảnh sát đăng ký quản lý cư trú | R21: Kinh | S21: Không | U21: Xã Nghĩa Trung, Huyện Tư Nghĩa, Tỉnh Quảng Ngãi | V21: 151 Đường số 8, Phường 11, Quận Gò Vấp, TPHCM | X21: 0903870724 | Y21: tranminhtuan31@gmail.com | Z21: 7911094457 | AB21: 01/09/2010 | AC21: Sở GDĐT TPHCM | AD21: 01/09/2010 | AE21: Hợp đồng không thời hạn | AG21: 01/09/2010 | AH21: Giảng viên | AS21: 12/12 | AT21: THPT | AU21: Thạc sỹ | AV21: =INDEX([1]DATA!$W$10:$W$285,MATCH(B21,[1]DATA!$C$10:$C$285,0)) -> Thạc sĩ | AW21: =INDEX([1]DATA!$X$10:$X$285,MATCH(B21,[1]DATA!$C$10:$C$285,0)) -> Khai thác và bảo trì ô tô, máy kéo | AX21: Kỹ thuật Cơ khí Động lực | BB21: SP Bậc 2 - Chứng chỉ nghề bậc 3/7 | BD21: ĐHSPKT | BE21: Công nghệ Ô tô | BF21: 3 | BH21: =INDEX([1]DATA!$Z$10:$Z$285,MATCH(B21,[1]DATA!$C$10:$C$285,0)) -> Sơ cấp | BI21: Thạc sỹ | BJ21: Sơ cấp | BM21: UD CNTT CB | BN21: TH UDCB | BQ21: B1 | BT21: =INDEX([1]DATA!$O$10:$O$285,MATCH(B21,[1]DATA!$C$10:$C$285,0)) -> V.07.01.03 | BU21: V.07.01.03 | BW21: 3 | BX21: 3 | CA21: 01/09/2016 | CV21: B1 | CX21: x | CY21: x | CZ21: 01/09/2010 | DA21: 01/09/2010 | DC21: DONG LUC\TRAN MINH TUAN.pdf | DD21: DONG LUC\TRAN MINH TUAN 3.pdf
A22: 16 | B22: Trần Quốc Duy | C22: X | F22: X | G22: Nam | H22: =LEFT(L22,2) -> 11 | I22: =MID(L22,4,2) -> 09 | J22: =RIGHT(L22,4) -> 1985 | K22: TPHCM | L22: 11/09/1985 | M22: Khoa Động lực | O22: 079085009956 | P22: 29/08/2017 | Q22: Cục cảnh sát đăng ký quản lý cư trú | R22: Kinh | S22: Thiên chúa | U22: Tỉnh Ðồng Nai | V22: 74/1/3 Tân Kỳ Tân Quý, Phường Tây Thạnh, Quận Tân Phú, TPHCM | X22: 0935 129 573 | Y22: quocduy_ckoto@yahoo.com.vn | Z22: 7911311169 | AB22: 01/03/2011 | AC22: Sở GDĐT TPHCM | AD22: 14/02/2011 | AE22: Hợp đồng không thời hạn | AG22: 14/02/2011 | AH22: Giảng viên | AS22: 12/12 | AT22: THPT | AU22: Thạc sỹ | AV22: =INDEX([1]DATA!$W$10:$W$285,MATCH(B22,[1]DATA!$C$10:$C$285,0)) -> Thạc sĩ | AW22: =INDEX([1]DATA!$X$10:$X$285,MATCH(B22,[1]DATA!$C$10:$C$285,0)) -> Kỹ thuật Cơ khí động lực | AX22: Kỹ thuật Cơ khí Động lực | BB22: SP Bậc 2 - Chứng chỉ nghề bậc 3/7 | BC22: - BD GV chính | BD22: Bậc 2 (2011) | BE22: Công nghệ Ô tô | BF22: 3 | BH22: =INDEX([1]DATA!$Z$10:$Z$285,MATCH(B22,[1]DATA!$C$10:$C$285,0)) | BI22: Thạc sỹ | BM22: A | BN22: A | BQ22: B1 | BS22: B1 | BT22: =INDEX([1]DATA!$O$10:$O$285,MATCH(B22,[1]DATA!$C$10:$C$285,0)) -> V.07.01.03 | BU22: V.07.01.03 | BW22: 3 | BX22: 3 | CA22: 01/03/2018 | CV22: TOEFL 467 | CX22: x | CY22: x | CZ22: 14/02/2011 | DA22: 14/02/2011 | DC22: DONG LUC\TRAN QUOC DUY.pdf | DD22: DONG LUC\TRAN QUOC DUY 3.pdf
A23: 17 | B23: Trần Thế Sơn | C23: X | F23: X | G23: Nam | H23: =LEFT(L23,2) -> 18 | I23: =MID(L23,4,2) -> 06 | J23: =RIGHT(L23,4) -> 1990 | K23: Đồng Nai | L23: 18/06/1990 | M23: Khoa Động lực | O23: 271927461 | P23: 01/7/2016 | Q23: CA.Đồng Nai | R23: Kinh | S23: Không | U23: Xã La Ngà, Huyện Định Quán, Tỉnh Ðồng Nai | V23: Ấp 4, La Ngà, Định Quán, Đồng Nai | X23: 0974532823 | Z23: #N/A | AB23: 01/10/2018 | AC23: Sở GDĐT TPHCM | AD23: 01/10/2018 | AE23: Hợp đồng không thời hạn | AG23: 01/10/2018 | AH23: Giảng viên | AS23: 12/12 | AT23: THPT | AU23: Đại học | AV23: =INDEX([1]DATA!$W$10:$W$285,MATCH(B23,[1]DATA!$C$10:$C$285,0)) -> Đại học | AW23: =INDEX([1]DATA!$X$10:$X$285,MATCH(B23,[1]DATA!$C$10:$C$285,0)) -> Công nghệ kỹ thuật ô tô | AX23: Công nghệ Kỹ thuật Ô tô | BB23: - NVSP dành cho GV CĐ, ĐH | BC23: - BD GV chính | BD23: - NVSP dành cho GV CĐ, ĐH | BE23: Công nghệ Ô tô | BF23: 3 | BH23: =INDEX([1]DATA!$Z$10:$Z$285,MATCH(B23,[1]DATA!$C$10:$C$285,0)) | BI23: Đại học | BM23: A | BN23: A | BQ23: B1 | BT23: =INDEX([1]DATA!$O$10:$O$285,MATCH(B23,[1]DATA!$C$10:$C$285,0)) -> V.07.01.03 | BU23: V.07.01.03 | BW23: 1 | BX23: 2.34 | CV23: C | CX23: x | CY23: x | CZ23: 01/10/2018 | DA23: 01/10/2018 | DB23: - 07/2015-02/2016: Kỹ sư CTCP SX Oai Hùng - 07/2016-8/2018: NV CT TNHH Mercesdes Benz VN8/2018 | DC23: DONG LUC\TRAN THE SON 3.pdf
A24: 18 | B24: Nguyễn Lương Tâm | C24: X | F24: X | G24: Nam | H24: =LEFT(L24,2) -> 01 | I24: =MID(L24,4,2) -> 10 | J24: =RIGHT(L24,4) -> 1970 | K24: Qui Nhơn | L24: 01/10/1970 | M24: Khoa Động lực | O24: 022093185 | P24: 05/02/2010 | Q24: CA.TPHCM | R24: Kinh | S24: Không | U24: Tỉnh Thừa Thiên - Huế | V24: 143 CMT8, P12, Quận Tân Bình, TPHCM | X24: 0909511055 | Z24: #N/A | AB24: 01/10/2018 | AC24: Sở GDĐT TPHCM | AD24: 01/10/2018 | AE24: Hợp đồng không thời hạn | AG24: 1994 | AH24: Giảng viên | AS24: 12/12 | AT24: THPT | AU24: Đại học | AV24: =INDEX([1]DATA!$W$10:$W$285,MATCH(B24,[1]DATA!$C$10:$C$285,0)) -> Kỹ sư | AW24: =INDEX([1]DATA!$X$10:$X$285,MATCH(B24,[1]DATA!$C$10:$C$285,0)) -> Cơ khí | AX24: Kỹ sư Cơ khí | BB24: NVSP dành cho GV CĐ, ĐH | BC24: - BD GV chính | BD24: NVSP dành cho GV CĐ, ĐH | BE24: Công nghệ Ô tô | BF24: 3 | BH24: =INDEX([1]DATA!$Z$10:$Z$285,MATCH(B24,[1]DATA!$C$10:$C$285,0)) | BI24: Đại học | BM24: UD CNTT CB | BN24: ƯD CNTT cơ bản | BQ24: A2 | BT24: =INDEX([1]DATA!$O$10:$O$285,MATCH(B24,[1]DATA!$C$10:$C$285,0)) -> V.07.01.03 | BU24: V.07.01.03 | BW24: 1 | BX24: 2.34 | CV24: B | CX24: x | CZ24: 01/10/2018 | DA24: 01/10/2018 | DB24: - 10/2012-10/2017: Trưởng phòng kỹ thuật CTCP SX TM DV TV An Lạc | DC24: DONG LUC\NGUYEN LUONG TAM 3.pdf
A25: 19 | B25: Trần Văn Đông | C25: X | F25: X | G25: Nam | H25: =LEFT(L25,2) -> 12 | I25: =MID(L25,4,2) -> 12 | J25: =RIGHT(L25,4) -> 1990 | K25: Bình Định | L25: 12/12/1990 | M25: Khoa Động lực | O25: 215223184 | P25: 29/01/2011 | Q25: CA.Bình Định | R25: Kinh | S25: Không | U25: Xã Mỹ An, Huyện Phù Mỹ, Tỉnh Bình Ðịnh | V25: 100/08 Quang Trung, P. Tăng Nhơn Phú B, Quận 9, TPHCM | X25: 0964345549 | Z25: #N/A | AB25: 01/01/2019 | AC25: Sở GDĐT TPHCM | AD25: 01/01/2019 | AE25: Tập sự | AG25: 01/01/2019 | AH25: Giảng viên | AS25: 12/12 | AT25: THPT | AU25: Thạc sỹ | AV25: =INDEX([1]DATA!$W$10:$W$285,MATCH(B25,[1]DATA!$C$10:$C$285,0)) -> Thạc sĩ | AW25: =INDEX([1]DATA!$X$10:$X$285,MATCH(B25,[1]DATA!$C$10:$C$285,0)) -> Kỹ thuật Cơ khí Động lực | AX25: Kỹ thuật Cơ khí Động lực | BB25: NVSP dành cho GV CĐ, ĐH | BC25: =- BD GV chính -> #NAME? | BD25: NVSP dành cho GV CĐ, ĐH | BH25: =INDEX([1]DATA!$Z$10:$Z$285,MATCH(B25,[1]DATA!$C$10:$C$285,0)) | BI25: Thạc sỹ | BM25: UD CNTT CB | BN25: UD CNTT CB | BQ25: A2 | BT25: =INDEX([1]DATA!$O$10:$O$285,MATCH(B25,[1]DATA!$C$10:$C$285,0)) -> V.07.01.03 | BU25: V.07.01.03 | BW25: 2 | BX25: 2.67 | CV25: B | CX25: x | CY25: x | CZ25: 01/01/2019 | DA25: 01/01/2019 | DB25: - 6/2016-01/2019: Trưởng phòng kỹ thuật CTCP SX TM DV TV An Lạc | DC25: DONG LUC\TRAN VAN DONG 3.pdf
A26: 20 | B26: Tạ Minh Cường | C26: X | F26: X | G26: Nam | H26: =LEFT(L26,2) -> 01 | I26: =MID(L26,4,2) -> 07 | J26: =RIGHT(L26,4) -> 1965 | K26: Tân Hiệp, Kiên Giang | L26: 01/07/1965 | M26: Khoa Điện - Điện tử | O26: 091065000076 | P26: 12/06/2019 | Q26: Cục Cảnh sát QLHC về TTXH | R26: Kinh | S26: Thiên chúa | U26: Xã Trực Hùng, Huyện Trực Ninh, Tỉnh Nam Ðịnh | V26: 73/9 Nguyễn Thượng Hiền, P5, Bình Thạnh | X26: 0903043765 | Y26: taminhcuong@gmail.com | Z26: 5396009947 | AB26: 01/09/2003 | AC26: Sở GDĐT TPHCM | AD26: 01/09/2003 | AE26: Biên chế | AG26: 08/03/1992 | AH26: Trưởng Khoa | AI26: - Phó Trưởng Khoa - Phụ trách khoa | AJ26: 0.35 | AK26: 01/01/2014 01/05/2019 | AS26: 12/12 | AT26: THPT | AU26: Thạc sỹ | AV26: =INDEX([1]DATA!$W$10:$W$285,MATCH(B26,[1]DATA!$C$10:$C$285,0)) -> Thạc sĩ | AW26: =INDEX([1]DATA!$X$10:$X$285,MATCH(B26,[1]DATA!$C$10:$C$285,0)) -> Thiết bị mạng và nhà máy điện | AX26: Thiết bị, mạng và nhà máy điện | BB26: Chứng chỉ nghề bậc 3/7 | BC26: - BD Kiến thức quốc phòng và an ninh đối tượng 3 - BD GV chính | BD26: KSGD | BF26: 3/7a | BH26: =INDEX([1]DATA!$Z$10:$Z$285,MATCH(B26,[1]DATA!$C$10:$C$285,0)) -> Sơ cấp | BI26: Thạc sỹ | BJ26: Trung cấp | BL26: CBQL các Khoa, Phòng, Ban trường ÐH | BM26: B | BN26: Trình độ B (1998) | BQ26: B1 | BT26: =INDEX([1]DATA!$O$10:$O$285,MATCH(B26,[1]DATA!$C$10:$C$285,0)) -> V.07.01.03 | BU26: V.07.01.03 | BW26: 6 | BX26: 3.99 | CA26: 01/09/2017 | CV26: B1 | CW26: 1/44 | CX26: x | CY26: x | CZ26: 08/03/1992 | DA26: 01/09/2003 | DC26: DIEN DIEN TU\TA MINH CUONG.pdf
A27: 21 | B27: Huỳnh Ngọc Mai | C27: X | F27: X | G27: Nam | H27: =LEFT(L27,2) -> 09 | I27: =MID(L27,4,2) -> 04 | J27: =RIGHT(L27,4) -> 1972 | K27: Sài Gòn | L27: 09/04/1972 | M27: Khoa Điện - Điện tử | O27: 023230246 | P27: 21/08/2009 | Q27: CA TPHCM | R27: Kinh | S27: Phật | U27: Phường An Khánh, Quận 2, Thành phố Hồ Chí Minh | V27: 395/2 Tân Thới Hiệp 21, Tổ 19, KP1, P.Tân Thới Hiệp, Q.12 | X27: 0908155383 | Y27: huynhngocmailtt@gmail.com | Z27: 0296241665 | AB27: 18/05/1996 | AC27: Sở GDĐT TPHCM | AD27: 18/05/1996 | AE27: Biên chế | AG27: 18/05/1996 | AH27: Phó Trưởng Khoa | AI27: - Trưởng Bộ môn - Phó Trưởng Khoa | AJ27: 0.25 0.35 | AK27: - 01/09/2015 - 10/06/2019 | AP27: 01/04/2009 | AQ27: X | AS27: 12/12 | AT27: THPT | AU27: Thạc sỹ | AV27: =INDEX([1]DATA!$W$10:$W$285,MATCH(B27,[1]DATA!$C$10:$C$285,0)) -> Thạc sĩ | AW27: =INDEX([1]DATA!$X$10:$X$285,MATCH(B27,[1]DATA!$C$10:$C$285,0)) -> Tự động hóa | AX27: Tự động hoá | BB27: SP Bậc 2 - Chứng chỉ nghề bậc 3/7 | BC27: - BD GV chính | BD27: ĐHSPKT | BF27: 3/7 | BH27: =INDEX([1]DATA!$Z$10:$Z$285,MATCH(B27,[1]DATA!$C$10:$C$285,0)) -> Sơ cấp | BI27: Thạc sỹ | BJ27: Trung cấp | BM27: ĐH | BN27: Đại học | BQ27: A2 | BT27: =INDEX([1]DATA!$O$10:$O$285,MATCH(B27,[1]DATA!$C$10:$C$285,0)) -> V.07.01.03 | BU27: V.07.01.03 | BV27: 18/05/1998 | BW27: 9 | BX27: 4.98 | BY27: 01/05/2017 | CA27: 01/05/2017 | CB27: 21% | CC27: 01/05/2019 | CV27: B | CX27: x | CY27: x | CZ27: 18/05/1996 | DA27: 18/05/1996 | DC27: DIEN DIEN TU\HUYNH NGOC MAI.pdf
A28: 22 | B28: Quách Minh Thử | C28: X | F28: X | G28: Nam | H28: =LEFT(L28,2) -> 14 | I28: =MID(L28,4,2) -> 05 | J28: =RIGHT(L28,4) -> 1979 | K28: Long Định - Bình Đại - Bến Tre | L28: 14/05/1979 | M28: Khoa Điện - Điện tử | O28: 024610718 | P28: 07/08/2006 | Q28: CA TPHCM | R28: Kinh | S28: Không | U28: Xã Long Định, Huyện Bình Đại, Tỉnh Bến Tre | V28: 11/31/10 KP3, đường Tân Thới Hiệp 08, Phường Tân Thới Hiệp, Quận 12 | X28: 0979701817 | Y28: thuquachminhlytc@gmail.com | Z28: 0206414708 | AB28: 01/09/2006 | AC28: Sở GDĐT TPHCM | AD28: 01/09/2006 | AE28: Hợp đồng không thời hạn | AG28: 01/09/2006 | AH28: Trưởng Bộ môn | AI28: Trưởng Bộ môn | AK28: 01/09/2015 | AS28: 12/12 | AT28: THPT | AU28: Thạc sỹ | AV28: =INDEX([1]DATA!$W$10:$W$285,MATCH(B28,[1]DATA!$C$10:$C$285,0)) -> Thạc sĩ | AW28: =INDEX([1]DATA!$X$10:$X$285,MATCH(B28,[1]DATA!$C$10:$C$285,0)) -> Thiết bị mạng và nhà máy điện | AX28: Thiết bị, mạng và nhà máy điện | BB28: SP Bậc 2 - Chứng chỉ nghề bậc 3/7 | BD28: ĐHSPKT | BF28: 3/7 | BH28: =INDEX([1]DATA!$Z$10:$Z$285,MATCH(B28,[1]DATA!$C$10:$C$285,0)) -> Sơ cấp | BI28: Thạc sỹ | BJ28: Trung cấp | BM28: UD CNTT CB | BN28: TH UDCB | BQ28: B1 | BT28: =INDEX([1]DATA!$O$10:$O$285,MATCH(B28,[1]DATA!$C$10:$C$285,0)) -> V.07.01.03 | BU28: V.07.01.03 | BW28: 5 | BX28: 3.66 | CA28: 01/09/2017 | CV28: B1 | CX28: x | CY28: x | CZ28: 01/09/2006 | DA28: 01/09/2006 | DC28: DIEN DIEN TU\QUACH MINH THU.pdf | DD28: DIEN DIEN TU\QUACH MINH THU 3.pdf
A29: 23 | B29: Võ Cường | C29: X | F29: X | G29: Nam | H29: =LEFT(L29,2) -> 16 | I29: =MID(L29,4,2) -> 11 | J29: =RIGHT(L29,4) -> 1966 | K29: Thành phố Hồ Chí Minh | L29: 16/11/1966 | M29: Khoa Điện - Điện tử | O29: 079066001159 | P29: 12/04/2016 | Q29: CA TPHCM | R29: Kinh | S29: Phật | U29: Huyện Phú Vang, Tỉnh Thừa Thiên - Huế | V29: 512A C/c Gia Phú, P. Bình Hưng Hòa, Q. Bình Tân | X29: 0903634753 | Y29: mailboxcuong@gmail.com | Z29: 0202201604 | AB29: 01/09/2002 | AC29: Sở GDĐT TPHCM | AD29: 01/09/2002 | AE29: Biên chế | AG29: 01/09/2002 | AH29: Trưởng Bộ môn | AI29: Trưởng Bộ môn | AK29: 01/09/2015 | AS29: 12/12 | AT29: THPT | AU29: Thạc sỹ | AV29: =INDEX([1]DATA!$W$10:$W$285,MATCH(B29,[1]DATA!$C$10:$C$285,0)) -> Thạc sĩ | AW29: =INDEX([1]DATA!$X$10:$X$285,MATCH(B29,[1]DATA!$C$10:$C$285,0)) -> Kỹ thuật Cơ Điện tử | AX29: Kỹ thuật điện và điện tử | BB29: SP Bậc 2 | BC29: - BD GV chính | BD29: ĐHSPKT | BE29: Điện tử công nghiệp | BF29: 3 | BH29: =INDEX([1]DATA!$Z$10:$Z$285,MATCH(B29,[1]DATA!$C$10:$C$285,0)) -> Trung cấp | BI29: Thạc sỹ | BJ29: Trung cấp | BM29: UD CNTT CB | BN29: TH UDCB | BQ29: B1 | BT29: =INDEX([1]DATA!$O$10:$O$285,MATCH(B29,[1]DATA!$C$10:$C$285,0)) -> V.07.01.03 | BU29: V.07.01.03 | BW29: 6 | BX29: 3.99 | CA29: 01/09/2016 | CV29: B1 | CX29: x | CY29: x | CZ29: 01/09/2002 | DA29: 01/09/2002 | DC29: DIEN DIEN TU\VO CUONG.pdf | DD29: DIEN DIEN TU\VO CUONG 1.pdf | DE29: DIEN DIEN TU\VO CUONG 3.pdf
A30: 24 | B30: Cao Văn Tuấn | C30: X | F30: X | G30: Nam | H30: =LEFT(L30,2) -> 02 | I30: =MID(L30,4,2) -> 12 | J30: =RIGHT(L30,4) -> 1988 | K30: Quảng Ngãi | L30: 02/12/1988 | M30: Khoa Điện - Điện tử | O30: 051088000077 | P30: 10/2/2017 | Q30: CA TPHCM | R30: Kinh | S30: Thiên chúa | U30: Xã Đức Minh, Huyện Mộ Đức, Tỉnh Quảng Ngãi | V30: 242/2/5 Bà Hom, Phường 13, Quận 6, TPHCM | X30: 0907907093 | Z30: #N/A | AB30: 01/04/2018 | AC30: Sở GDĐT TPHCM | AD30: 01/4/2018 | AE30: Hợp đồng không thời hạn | AG30: 01/4/2018 | AH30: Giảng viên | AS30: THPT | AT30: 12/12 | AU30: Thạc sỹ | AV30: =INDEX([1]DATA!$W$10:$W$285,MATCH(B30,[1]DATA!$C$10:$C$285,0)) -> Thạc sĩ | AW30: =INDEX([1]DATA!$X$10:$X$285,MATCH(B30,[1]DATA!$C$10:$C$285,0)) -> Kỹ thuật điện | AX30: Kỹ thuật điện | BB30: NVSP dành cho GV CĐ, ĐH | BC30: - BD GV chính | BD30: NVSP dành cho GV CĐ, ĐH | BF30: 3/7a | BH30: =INDEX([1]DATA!$Z$10:$Z$285,MATCH(B30,[1]DATA!$C$10:$C$285,0)) | BI30: Thạc sỹ | BM30: UD CNTT CB | BN30: TH UDCB | BQ30: B1 | BT30: =INDEX([1]DATA!$O$10:$O$285,MATCH(B30,[1]DATA!$C$10:$C$285,0)) -> V.07.01.03 | BU30: V.07.01.03 | BV30: 01/04/2019 | BW30: 2 | BX30: 2.67 | BY30: 01/04/2019 | CA30: 01/04/2019 | CV30: B | CX30: x | CY30: x | CZ30: 01/4/2018 | DA30: 01/4/2018 | DB30: - 01/12/2013-30/03/2018: Phó Giám đốc kỹ thuật sản xuất CT TNHH SX - TM Ngọc Nguyễn | DC30: DIEN DIEN TU\CAO VAN TUAN.pdf
A31: 25 | B31: Đặng Đức Minh | C31: X | F31: X | G31: Nam | H31: =LEFT(L31,2) -> 10 | I31: =MID(L31,4,2) -> 06 | J31: =RIGHT(L31,4) -> 1974 | K31: Hà Nội | L31: 10/06/1974 | M31: Khoa Điện - Điện tử | O31: 022765460 | P31: 18/08/2009 | Q31: CA TPHCM | R31: Kinh | S31: Không | U31: Xã Phổ Ninh, Huyện Đức Phổ, Tỉnh Quảng Ngãi | V31: 25 Cư xá Nguyễn Cảnh Chân, P Nguyễn Cư Trinh, Q1 | X31: 0989212633 | Z31: 0203318105 | AB31: 01/09/2003 | AC31: Sở GDĐT TPHCM | AD31: 01/09/2003 | AE31: Biên chế | AG31: 01/09/2003 | AH31: Giảng viên | AS31: 12/12 | AT31: THPT | AU31: Thạc sỹ | AV31: =INDEX([1]DATA!$W$10:$W$285,MATCH(B31,[1]DATA!$C$10:$C$285,0)) -> Thạc sĩ | AW31: =INDEX([1]DATA!$X$10:$X$285,MATCH(B31,[1]DATA!$C$10:$C$285,0)) -> Kỹ thuật điện tử | AX31: Kỹ thuật điện tử | BB31: - SP Bậc 2 - Chứng chỉ nghề bậc 5/7 | BC31: - BD GV chính | BD31: ĐH SPKT | BF31: 5/7 | BH31: =INDEX([1]DATA!$Z$10:$Z$285,MATCH(B31,[1]DATA!$C$10:$C$285,0)) -> Sơ cấp | BI31: Thạc sỹ | BJ31: Sơ cấp | BM31: B | BN31: Trình độ B | BQ31: B1 | BT31: =INDEX([1]DATA!$O$10:$O$285,MATCH(B31,[1]DATA!$C$10:$C$285,0)) -> V.07.01.03 | BU31: V.07.01.03 | BW31: 6 | BX31: 3.99 | CA31: 01/09/2017 | CV31: B1 | CX31: x | CY31: x | CZ31: 01/09/2003 | DA31: 01/09/2003 | DC31: DIEN DIEN TU\DANG DUC MINH.pdf | DD31: DIEN DIEN TU\DANG DUC MINH B1.jpg
A32: 26 | B32: Đỗ Huỳnh Thanh Phong | C32: X | F32: X | G32: Nam | H32: =LEFT(L32,2) -> 02 | I32: =MID(L32,4,2) -> 02 | J32: =RIGHT(L32,4) -> 1983 | K32: Bến Tre | L32: 02/02/1983 | M32: Khoa Điện - Điện tử | O32: 025764174 | P32: 22/05/2013 | Q32: CA TPHCM | R32: Kinh | S32: Không | U32: Phường 7, Thành phố Mỹ Tho, Tỉnh Tiền Giang | V32: 08 Hiền Vương, Phú Thạnh, Tân Phú, TPHCM | X32: 0937 365 910 | Y32: thanhphong20082008@yahoo.com.vn | Z32: 7911094452 | AB32: 01/09/2010 | AC32: Sở GDĐT TPHCM | AD32: 01/09/2010 | AE32: Hợp đồng không thời hạn | AG32: 01/09/2010 | AH32: Giảng viên | AS32: 12/12 | AT32: THPT | AU32: Thạc sỹ | AV32: =INDEX([1]DATA!$W$10:$W$285,MATCH(B32,[1]DATA!$C$10:$C$285,0)) -> Thạc sĩ | AW32: =INDEX([1]DATA!$X$10:$X$285,MATCH(B32,[1]DATA!$C$10:$C$285,0)) -> Kỹ thuật điện | AX32: Kỹ thuật điện | BB32: SP Bậc 2 - Chứng chỉ nghề bậc 3/7 | BC32: - BD GV chính | BD32: ĐHSPKT | BF32: 3/7 | BH32: =INDEX([1]DATA!$Z$10:$Z$285,MATCH(B32,[1]DATA!$C$10:$C$285,0)) -> Sơ cấp | BI32: Thạc sỹ | BJ32: Sơ cấp | BM32: UD CNTT CB | BN32: TH UDCB | BQ32: B1 | BT32: =INDEX([1]DATA!$O$10:$O$285,MATCH(B32,[1]DATA!$C$10:$C$285,0)) -> V.07.01.03 | BU32: V.07.01.03 | BW32: 3 | BX32: 3 | CA32: 01/09/2017 | CV32: B1 | CX32: x | CY32: x | CZ32: 01/09/2010 | DA32: 01/09/2010 | DC32: DIEN DIEN TU\DO HUYNH THANH PHONG.pdf | DD32: DIEN DIEN TU\DO HUYNH THANH PHONG 3.pdf
A33: 27 | B33: Lê Thế Huân | C33: X | F33: X | G33: Nam | H33: =LEFT(L33,2) -> 23 | I33: =MID(L33,4,2) -> 08 | J33: =RIGHT(L33,4) -> 1965 | K33: TPHCM | L33: 23/08/1965 | M33: Khoa Điện - Điện tử | O33: 021710558 | P33: 16/12/2003 | Q33: CA TPHCM | R33: Kinh | S33: Phật | U33: Quận Hải An, Thành phố Hải Phòng | V33: 453/25 Nguyễn Kiệm, P9, Q.Phú Nhuận | X33: 0985956872 | Y33: thehuanle@gmail.com | Z33: 0203318109 | AB33: 01/09/2003 | AC33: Sở GDĐT TPHCM | AD33: 01/09/2003 | AE33: Biên chế | AG33: 01/09/2003 | AH33: Giảng viên | AS33: 12/12 | AT33: THPT | AU33: Đại học | AV33: =INDEX([1]DATA!$W$10:$W$285,MATCH(B33,[1]DATA!$C$10:$C$285,0)) -> Đại học | AW33: =INDEX([1]DATA!$X$10:$X$285,MATCH(B33,[1]DATA!$C$10:$C$285,0)) -> Điện khí hóa và cung cấp điện | AX33: Điện khí hóa và cung cấp điện | BB33: Chứng chỉ nghề bậc 3/7 | BC33: - BD GV chính | BD33: KSGD | BF33: 3/7 | BH33: =INDEX([1]DATA!$Z$10:$Z$285,MATCH(B33,[1]DATA!$C$10:$C$285,0)) -> Sơ cấp | BI33: Đại học | BJ33: Sơ cấp | BM33: UD CNTT CB | BN33: TH UDCB | BQ33: A2 | BT33: =INDEX([1]DATA!$O$10:$O$285,MATCH(B33,[1]DATA!$C$10:$C$285,0)) -> V.07.01.03 | BU33: V.07.01.03 | BW33: 5 | BX33: 3.66 | CA33: 01/09/2016 | CV33: B (2019) | CX33: x | CY33: x | CZ33: 01/09/2003 | DA33: 01/09/2003 | DC33: DIEN DIEN TU\LE THE HUAN 3.pdf | DD33: DIEN DIEN TU\LE THE HUAN A2.jpg
A34: 28 | B34: Lê Tiến Đạt | C34: X | F34: X | G34: Nam | H34: =LEFT(L34,2) -> 13 | I34: =MID(L34,4,2) -> 03 | J34: =RIGHT(L34,4) -> 1976 | K34: Đồng Nai | L34: 13/03/1976 | M34: Khoa Điện - Điện tử | O34: 022999157 | P34: 14/01/2005 | Q34: CA.TPHCM | R34: Kinh | S34: Thiên chúa | U34: Tỉnh Hà Nam | V34: 453/47 KA Lê Văn Sĩ, P12, Q3 | X34: 0909888219 | Z34: 0203318106 | AB34: 01/09/2003 | AC34: Sở GDĐT TPHCM | AD34: 01/09/2003 | AE34: Biên chế | AG34: 01/09/2003 | AH34: Giảng viên | AS34: 12/12 | AT34: THPT | AU34: Thạc sỹ | AV34: =INDEX([1]DATA!$W$10:$W$285,MATCH(B34,[1]DATA!$C$10:$C$285,0)) -> Thạc sĩ | AW34: =INDEX([1]DATA!$X$10:$X$285,MATCH(B34,[1]DATA!$C$10:$C$285,0)) -> Kỹ thuật Điều khiển và Tự động hóa | AX34: Kỹ thuật điều khiển và Tự động hóa | BB34: SP Bậc 2 - Chứng chỉ nghề bậc 3/7 | BC34: - BD GV chính | BD34: ĐHSPKT | BF34: 3/7 | BH34: =INDEX([1]DATA!$Z$10:$Z$285,MATCH(B34,[1]DATA!$C$10:$C$285,0)) | BI34: Thạc sỹ | BM34: UD CNTT CB | BN34: UD CNTT CB | BQ34: B1 | BT34: =INDEX([1]DATA!$O$10:$O$285,MATCH(B34,[1]DATA!$C$10:$C$285,0)) -> V.07.01.03 | BU34: V.07.01.03 | BW34: 6 | BX34: 3.99 | CA34: 01/09/2017 | CV34: B | CX34: x | CY34: x | CZ34: 01/09/2003 | DA34: 01/09/2003 | DC34: DIEN DIEN TU\LE TIEN DAT.pdf | DD34: DIEN DIEN TU\LE TIEN DAT 3.pdf | DE34: DIEN DIEN TU\LE TIEN DAT B1.jpg
A35: 29 | B35: Mạnh Lê Hoàn | C35: X | F35: X | G35: Nam | H35: =LEFT(L35,2) -> 14 | I35: =MID(L35,4,2) -> 10 | J35: =RIGHT(L35,4) -> 1979 | K35: Phú Yên | L35: 14/10/1979 | M35: Khoa Điện - Điện tử | O35: 023205612 | P35: 23/03/2008 | Q35: CA TPHCM | R35: Kinh | S35: Không | U35: Huyện Đồng Xuân, Tỉnh Phú Yên | V35: 200/41 Hoàng Hoa Thám P5, Q.Bình Thạnh | X35: 01272777707 | Y35: manhlehoan@gmail.com | Z35: #N/A | AB35: 01/09/2003 | AC35: Sở GDĐT TPHCM | AD35: 18/07/2007 | AE35: Biên chế | AG35: 31/08/2004 | AH35: Giảng viên | AS35: 12/12 | AT35: THPT | AU35: Thạc sỹ | AV35: =INDEX([1]DATA!$W$10:$W$285,MATCH(B35,[1]DATA!$C$10:$C$285,0)) -> Thạc sĩ | AW35: =INDEX([1]DATA!$X$10:$X$285,MATCH(B35,[1]DATA!$C$10:$C$285,0)) -> Kỹ thuật điều khiển và Tự động hóa | AX35: Kỹ thuật điều khiển và Tự động hóa | BB35: LLDH & GD Sư phạm dạy nghề Chứng chỉ nghề bậc 3/7 | BD35: Sư phạm dạy nghề | BF35: 3/7 | BH35: =INDEX([1]DATA!$Z$10:$Z$285,MATCH(B35,[1]DATA!$C$10:$C$285,0)) | BI35: Thạc sỹ | BQ35: B1 | BT35: =INDEX([1]DATA!$O$10:$O$285,MATCH(B35,[1]DATA!$C$10:$C$285,0)) -> V.07.01.03 | BU35: V.07.01.03 | BW35: 5 | BX35: 3.66 | CA35: 01/09/2016 | CV35: B1 | CX35: x | CY35: x | CZ35: 31/08/2004 | DA35: 18/07/2007 | DC35: DIEN DIEN TU\MANH LE HOAN.pdf
A36: 30 | B36: Ngô Hoàng Anh | C36: X | F36: X | G36: Nam | H36: =LEFT(L36,2) -> 20 | I36: =MID(L36,4,2) -> 10 | J36: =RIGHT(L36,4) -> 1976 | K36: Quảng Hoà - Quảng Trạch - Quảng Bình | L36: 20/10/1976 | M36: Khoa Điện - Điện tử | O36: 024951998 | P36: 10/01/2009 | Q36: CA. TPHCM | R36: Kinh | S36: Không | U36: Xã Quảng Hòa, Huyện Quảng Trạch, Tỉnh Quảng Bình | V36: 51 Đường số 6, P. Bình An, Q.2 | X36: 0903966016 | Y36: thshoanganh@gmail.com | Z36: 0201155205 | AB36: 01/09/2001 | AC36: Sở GDĐT TPHCM | AD36: 01/09/2000 | AE36: Biên chế | AG36: 01/09/2000 | AH36: Giảng viên | AS36: 12/12 | AT36: THPT | AU36: Thạc sỹ | AV36: =INDEX([1]DATA!$W$10:$W$285,MATCH(B36,[1]DATA!$C$10:$C$285,0)) -> Thạc sĩ | AW36: =INDEX([1]DATA!$X$10:$X$285,MATCH(B36,[1]DATA!$C$10:$C$285,0)) -> Thiết bị, mạng và nhà máy Điện | AX36: Thiết bị, mạng và nhà máy điện | BB36: SP Bậc 2 - Chứng chỉ nghề bậc 3/7 | BD36: ĐHSPKT | BF36: 3/7 | BH36: =INDEX([1]DATA!$Z$10:$Z$285,MATCH(B36,[1]DATA!$C$10:$C$285,0)) -> Sơ cấp | BI36: Thạc sỹ | BJ36: Sơ cấp | BM36: UD CNTT CB | BN36: TH UDCB | BQ36: A2 | BT36: =INDEX([1]DATA!$O$10:$O$285,MATCH(B36,[1]DATA!$C$10:$C$285,0)) -> V.07.01.03 | BU36: V.07.01.03 | BW36: 6 | BX36: 3.99 | CA36: 01/09/2016 | CV36: B | CX36: x | CY36: x | CZ36: 01/09/2000 | DA36: 01/09/2000 | DC36: DIEN DIEN TU\NGO HOANG ANH.pdf | DD36: DIEN DIEN TU\NGO HOANG ANH 3.pdf
A37: 31 | B37: Ngô Phong Cường | C37: X | F37: X | G37: Nam | H37: =LEFT(L37,2) -> 20 | I37: =MID(L37,4,2) -> 09 | J37: =RIGHT(L37,4) -> 1968 | K37: Thừa Thiên Huế | L37: 20/09/1968 | M37: Khoa Điện - Điện tử | O37: 046068000245 | P37: 06/02/2018 | Q37: Cục Cảnh sát Đăng ký quản lý cư trú | R37: Kinh | S37: Không | U37: Huyện Hương Thủy, Tỉnh Thừa Thiên - Huế | V37: 737/46 Lạc Long Quân, Phường 10, Quận Tân Bình, TPHCM | X37: 0918196341 | Y37: phongcuong04@yahoo.com.vn | Z37: 0204124288 | AB37: 01/09/2007 | AC37: Sở GDĐT TPHCM | AD37: 01/09/2007 | AE37: Hợp đồng không thời hạn | AG37: 01/09/2007 | AH37: Giảng viên | AS37: 12/12 | AT37: THPT | AU37: Thạc sỹ | AV37: =INDEX([1]DATA!$W$10:$W$285,MATCH(B37,[1]DATA!$C$10:$C$285,0)) -> Thạc sĩ | AW37: =INDEX([1]DATA!$X$10:$X$285,MATCH(B37,[1]DATA!$C$10:$C$285,0)) -> Kỹ thuật Cơ Điện tử | AX37: Kỹ thuật Cơ Điện tử | BB37: SP Bậc 2 - Chứng chỉ nghề bậc 3/7 | BD37: ĐHSPKT | BF37: 3/7 | BH37: =INDEX([1]DATA!$Z$10:$Z$285,MATCH(B37,[1]DATA!$C$10:$C$285,0)) -> Sơ cấp | BI37: Thạc sỹ | BJ37: Sơ cấp | BM37: UD CNTT CB | BN37: UD CNTT CB | BQ37: B1 | BT37: =INDEX([1]DATA!$O$10:$O$285,MATCH(B37,[1]DATA!$C$10:$C$285,0)) -> V.07.01.03 | BU37: V.07.01.03 | BW37: 5 | BX37: 3.66 | CA37: 01/12/2018 | CV37: B1 | CX37: x | CY37: x | CZ37: 01/09/2007 | DA37: 01/09/2007 | DC37: DIEN DIEN TU\NGO PHONG CUONG.pdf | DD37: DIEN DIEN TU\NGO PHONG CUONG 3.pdf
A38: 32 | B38: Nguyễn Anh Tăng | C38: X | F38: X | G38: Nam | H38: =LEFT(L38,2) -> 31 | I38: =MID(L38,4,2) -> 08 | J38: =RIGHT(L38,4) -> 1967 | K38: TPHCM | L38: 31/08/1967 | M38: Khoa Điện - Điện tử | O38: 023624194 | P38: 19/03/2013 | Q38: CA TPHCM | R38: Kinh | S38: Không | U38: Xã Đại Hòa, Huyện Đại Lộc, Tỉnh Quảng Nam | V38: 350/18/46 Lê Đức Thọ, Phường 6, Quận Gò Vấp, TPHCM | X38: 0916675678 | Y38: nguyenanhtang@yahoo.com | Z38: 0201155204 | AB38: 01/09/2001 | AC38: Sở GDĐT TPHCM | AD38: 01/09/2001 | AE38: Biên chế | AG38: 01/09/2001 | AH38: Giảng viên | AS38: 12/12 | AT38: THPT | AU38: Thạc sỹ | AV38: =INDEX([1]DATA!$W$10:$W$285,MATCH(B38,[1]DATA!$C$10:$C$285,0)) -> Thạc sĩ | AW38: =INDEX([1]DATA!$X$10:$X$285,MATCH(B38,[1]DATA!$C$10:$C$285,0)) -> Mạng và hệ thống điện | AX38: Mạng và hệ thống điện | BB38: SP Bậc 2 - Chứng chỉ nghề bậc 3/7 | BC38: - BD GV chính | BD38: ĐHSPKT | BF38: 3/7 | BH38: =INDEX([1]DATA!$Z$10:$Z$285,MATCH(B38,[1]DATA!$C$10:$C$285,0)) -> Sơ cấp | BI38: Thạc sỹ | BJ38: Sơ cấp | BM38: UD CNTT CB | BN38: TH UDCB | BQ38: B2 | BS38: B2 | BT38: =INDEX([1]DATA!$O$10:$O$285,MATCH(B38,[1]DATA!$C$10:$C$285,0)) -> V.07.01.03 | BU38: V.07.01.03 | BW38: 7 | BX38: 4.32 | CA38: 01/09/2018 | CV38: - C - Toeic 625 | CX38: x | CY38: x | CZ38: 01/09/2001 | DA38: 01/09/2001 | DC38: DIEN DIEN TU\NGUYEN ANH TANG.pdf | DD38: DIEN DIEN TU\NGUYEN ANH TANG 3.pdf | DE38: DIEN DIEN TU\NGUYEN ANH TANG 3 2.pdf
A39: 33 | B39: Nguyễn Hồng Đức | C39: X | F39: X | G39: Nam | H39: =LEFT(L39,2) -> 21 | I39: =MID(L39,4,2) -> 02 | J39: =RIGHT(L39,4) -> 1971 | K39: Sai gon | L39: 21/02/1971 | M39: Khoa Điện - Điện tử | O39: 022228240 | P39: 09/08/2005 | Q39: CA TPHCM | R39: Kinh | S39: Không | U39: Xã Bình Phú, Huyện Cai Lậy, Tỉnh Tiền Giang | V39: 219/3/1 Lê Quang Định, P7, Bình Thạnh | X39: 0903833923 | Y39: hongduc2102@yahoo.com | Z39: 0296241670 | AB39: 01/01/1996 | AC39: Sở GDĐT TPHCM | AD39: 31/12/1990 | AE39: Biên chế | AG39: 30/12/1990 | AH39: Giảng viên | AS39: 12/12 | AT39: THPT | AU39: Đại học | AV39: =INDEX([1]DATA!$W$10:$W$285,MATCH(B39,[1]DATA!$C$10:$C$285,0)) -> Kỹ sư | AW39: =INDEX([1]DATA!$X$10:$X$285,MATCH(B39,[1]DATA!$C$10:$C$285,0)) -> Điện công nghiệp | AX39: Điện công nghiệp | BB39: SP Bậc 2 - Chứng chỉ nghề bậc 3/7 | BC39: - BV GV chính | BD39: ĐHSPKT | BF39: 3/7 | BH39: =INDEX([1]DATA!$Z$10:$Z$285,MATCH(B39,[1]DATA!$C$10:$C$285,0)) -> Sơ cấp | BI39: Đại học | BJ39: Sơ cấp | BM39: UD CNTT CB | BN39: TH UDCB | BQ39: A2 | BT39: =INDEX([1]DATA!$O$10:$O$285,MATCH(B39,[1]DATA!$C$10:$C$285,0)) -> V.07.01.03 | BU39: V.07.01.03 | BW39: 9 | BX39: 4.98 | BY39: 01/01/2019 | BZ39: 7% | CA39: 01/01/2019 | CV39: B (2019) | CX39: x | CY39: x | CZ39: 30/12/1990 | DA39: 31/12/1990 | DC39: DIEN DIEN TU\NGUYEN HONG DUC 3.pdf | DD39: DIEN DIEN TU\NGUYEN HONG DUC 3 1.pdf
A40: 34 | B40: Nguyễn Minh Đức | C40: X | F40: X | G40: Nam | H40: =LEFT(L40,2) -> 19 | I40: =MID(L40,4,2) -> 02 | J40: =RIGHT(L40,4) -> 1960 | K40: Đà Lạt | L40: 19/02/1960 | M40: Khoa Điện - Điện tử | O40: 068060000066 | P40: 05/01/2019 | Q40: Cục Cảnh sát Đăng ký quản lý cư trú | R40: Kinh | S40: Thiên chúa | U40: Huyện Lương Tài, Tỉnh Bắc Ninh | V40: 438 Điện Biên Phủ, P17, Bình Thạnh | X40: 0908 042 421 | Y40: nguyenminh_do@yahoo.com | Z40: #N/A | AB40: 01/10/1987 | AC40: Sở GDĐT TPHCM | AD40: 01/10/1987 | AE40: Biên chế | AG40: 01/10/1987 | AH40: Giảng viên | AS40: 12/12 | AT40: THPT | AU40: Đại học | AX40: Điện tử công nghiệp | BB40: Chứng chỉ nghề bậc 3/7 | BD40: KSGD | BF40: THCN | BH40: =INDEX([1]DATA!$Z$10:$Z$285,MATCH(B40,[1]DATA!$C$10:$C$285,0)) -> Sơ cấp | BI40: Đại học | BJ40: Sơ cấp | BM40: UD CNTT CB | BN40: TH UDCB | BQ40: A2 | BT40: =INDEX([1]DATA!$O$10:$O$285,MATCH(B40,[1]DATA!$C$10:$C$285,0)) -> V.07.01.03 | BU40: V.07.01.03 | BW40: 9 | BX40: 4.98 | BZ40: 12 | CA40: 01/10/2018 | CV40: B | CX40: x | CY40: x | CZ40: 01/10/1987 | DA40: 01/10/1987 | DC40: DIEN DIEN TU\NGUYEN MINH DUC A.pdf | DD40: DIEN DIEN TU\NGUYEN MINH DUC A 3.pdf
A41: 35 | B41: Nguyễn Minh Đức | C41: X | F41: X | G41: Nam | H41: =LEFT(L41,2) -> 03 | I41: =MID(L41,4,2) -> 12 | J41: =RIGHT(L41,4) -> 1966 | K41: Gia Định | L41: 03/12/1966 | M41: Khoa Điện - Điện tử | O41: 021684792 | P41: 27/05/2015 | Q41: CA TPHCM | R41: Kinh | S41: Thiên chúa | U41: Huyện Lương Tài, Tỉnh Bắc Ninh | V41: 511/6 Tổ 115, Đường Thống Nhất, Phường 16, Quận Gò Vấp, TPHCM | X41: 0988896877 | Y41: ducsavie2003@yahoo.com | Z41: #N/A | AB41: 01/09/1998 | AC41: Sở GDĐT TPHCM | AD41: 01/09/1998 | AE41: Biên chế | AG41: 01/09/1998 | AH41: Giảng viên | AS41: 12/12 | AT41: THPT | AU41: Đại học | AX41: Điều khiển tự động | BB41: - Sư phạm dạy nghề - Chứng chỉ nghề bậc 3/7 | BD41: Sư phạm dạy nghề | BF41: 3/7 | BH41: =INDEX([1]DATA!$Z$10:$Z$285,MATCH(B41,[1]DATA!$C$10:$C$285,0)) -> Sơ cấp | BI41: Đại học | BJ41: Sơ cấp | BM41: UD CNTT CB | BN41: TH UDCB | BQ41: B1 | BT41: =INDEX([1]DATA!$O$10:$O$285,MATCH(B41,[1]DATA!$C$10:$C$285,0)) -> V.07.01.03 | BU41: V.07.01.03 | BW41: 8 | BX41: 4.65 | CA41: 01/10/2016 | CV41: Trung cấp - B(2019) | CX41: x | CY41: x | CZ41: 01/09/1998 | DA41: 01/09/1998 | DC41: DIEN DIEN TU\NGUYEN MINH DUC B.pdf | DD41: DIEN DIEN TU\NGUYEN MINH DUC B 3.pdf
A42: 36 | B42: Nguyễn Minh Đức Cường | C42: X | F42: X | G42: Nam | H42: =LEFT(L42,2) -> 19 | I42: =MID(L42,4,2) -> 01 | J42: =RIGHT(L42,4) -> 1985 | K42: Kiên Giang | L42: 19/01/1985 | M42: Khoa Điện - Điện tử | O42: 025633696 | P42: 20/06/2012 | Q42: CA. TPHCM | R42: Kinh | S42: Thiên chúa | U42: Quận 3, Thành phố Hồ Chí Minh | V42: 10/6A ấp Mỹ Hòa 3, xã Tân Xuân, huyện Hóc Môn, TPHCM | X42: 0988847874 | Y42: duccuong852002@yahoo.com | Z42: 7911094459 | AB42: 01/09/2010 | AC42: Sở GDĐT TPHCM | AD42: 01/09/2010 | AE42: Hợp đồng không thời hạn | AG42: 01/09/2010 | AH42: Giảng viên | AS42: 12/12 | AT42: THPT | AU42: Thạc sỹ | AV42: =INDEX([1]DATA!$W$10:$W$285,MATCH(B42,[1]DATA!$C$10:$C$285,0)) -> Thạc sĩ | AW42: =INDEX([1]DATA!$X$10:$X$285,MATCH(B42,[1]DATA!$C$10:$C$285,0)) -> Kỹ thuật Điện | AX42: Kỹ thuật điện | BB42: SP Bậc 2 - Chứng chỉ nghề bậc 3/7 | BC42: - BD GV chính | BD42: ĐHSPKT | BF42: 3/7 | BH42: =INDEX([1]DATA!$Z$10:$Z$285,MATCH(B42,[1]DATA!$C$10:$C$285,0)) -> Sơ cấp | BI42: Thạc sỹ | BJ42: Trung cấp | BM42: UD CNTT CB | BN42: TH UDCB | BQ42: B1 | BT42: =INDEX([1]DATA!$O$10:$O$285,MATCH(B42,[1]DATA!$C$10:$C$285,0)) -> V.07.01.03 | BU42: V.07.01.03 | BW42: 3 | BX42: 3 | CA42: 01/09/2017 | CV42: B1 | CX42: x | CY42: x | CZ42: 01/09/2010 | DA42: 01/09/2010 | DC42: DIEN DIEN TU\NGUYEN MINH DUC CUONG.pdf
A43: 37 | B43: Nguyễn Thị Ngọc Hiền | C43: X | F43: X | G43: Nữ | H43: =LEFT(L43,2) -> 22 | I43: =MID(L43,4,2) -> 10 | J43: =RIGHT(L43,4) -> 1978 | K43: Xã Giao Long, Châu Thành, Bến Tre | L43: 22/10/1978 | M43: Khoa Điện - Điện tử | O43: 024346476 | P43: 16/03/2005 | Q43: CA TPHCM | R43: Kinh | S43: Không | U43: Xã Qưới Sơn, Huyện Châu Thành, Tỉnh Bến Tre | V43: 51/10/12 Cao Thắng, P3, Q3 | X43: 0919422710 | Y43: ngochien782003@yahoo.com | Z43: 0203318107 | AB43: 01/09/2003 | AC43: Sở GDĐT TPHCM | AD43: 01/09/2003 | AE43: Biên chế | AG43: 01/09/2003 | AH43: Giảng viên | AS43: 12/12 | AT43: THPT | AU43: Đại học | AV43: =INDEX([1]DATA!$W$10:$W$285,MATCH(B43,[1]DATA!$C$10:$C$285,0)) -> Đại học | AW43: =INDEX([1]DATA!$X$10:$X$285,MATCH(B43,[1]DATA!$C$10:$C$285,0)) -> Vật Lý | AX43: Vật lý | BB43: SP Bậc 2 - Chứng chỉ nghề bậc 3/7 | BD43: Bậc 2 (2005) | BF43: 3/7 | BH43: =INDEX([1]DATA!$Z$10:$Z$285,MATCH(B43,[1]DATA!$C$10:$C$285,0)) -> Sơ cấp | BI43: Đại học | BJ43: Sơ cấp | BM43: UD CNTT CB | BN43: TH UDCB | BQ43: C1 | BT43: =INDEX([1]DATA!$O$10:$O$285,MATCH(B43,[1]DATA!$C$10:$C$285,0)) -> V.07.01.03 | BU43: V.07.01.03 | BW43: 6 | BX43: 3.99 | CA43: 01/09/2017 | CV43: Đại học | CX43: x | CY43: x | CZ43: 01/09/2003 | DA43: 01/09/2003 | DC43: DIEN DIEN TU\NGUYEN THI NGOC HIEN.pdf | DD43: DIEN DIEN TU\NGUYEN THI NGOC HIEN 3.pdf
A44: 38 | B44: Nguyễn Thị Tố Nga | C44: X | F44: X | G44: Nữ | H44: =LEFT(L44,2) -> 02 | I44: =MID(L44,4,2) -> 01 | J44: =RIGHT(L44,4) -> 1980 | K44: Biên Hòa | L44: 02/01/1980 | M44: Khoa Điện - Điện tử | O44: 025602565 | P44: 15/05/2012 | Q44: CA. TPHCM | R44: Kinh | S44: Không | U44: Nam Định | V44: 159/97/5 Trần Văn Đang, P11, Q3 | X44: 0984540244 | Y44: tongaltt@yahoo.com | Z44: 0203318103 | AB44: 01/09/2003 | AC44: Sở GDĐT TPHCM | AD44: 01/09/2003 | AE44: Biên chế | AG44: 01/09/2003 | AH44: Giảng viên | AS44: 12/12 | AT44: THPT | AU44: Thạc sỹ | AV44: =INDEX([1]DATA!$W$10:$W$285,MATCH(B44,[1]DATA!$C$10:$C$285,0)) -> Thạc sĩ | AW44: =INDEX([1]DATA!$X$10:$X$285,MATCH(B44,[1]DATA!$C$10:$C$285,0)) -> Tự động hóa | AX44: Tự động hoá | BB44: SP Bậc 2 - Chứng chỉ nghề bậc 5/7 | BC44: - BD GV chính | BD44: ĐHSPKT | BF44: 5/7 | BH44: =INDEX([1]DATA!$Z$10:$Z$285,MATCH(B44,[1]DATA!$C$10:$C$285,0)) -> Sơ cấp | BI44: Thạc sỹ | BJ44: Sơ cấp | BM44: B | BN44: B | BQ44: B1 | BT44: =INDEX([1]DATA!$O$10:$O$285,MATCH(B44,[1]DATA!$C$10:$C$285,0)) -> V.07.01.03 | BU44: V.07.01.03 | BW44: 6 | BX44: 3.99 | CA44: 01/09/2017 | CV44: B | CX44: x | CY44: x | CZ44: 01/09/2003 | DA44: 01/09/2003 | DC44: DIEN DIEN TU\NGUYEN THI TO NGA.pdf | DD44: DIEN DIEN TU\NGUYEN THI TO NGA 1.pdf | DE44: DIEN DIEN TU\NGUYEN THI TO NGA B1.jpg
A45: 39 | B45: Nguyễn Thùy Linh | C45: X | F45: X | G45: Nữ | H45: =LEFT(L45,2) -> 03 | I45: =MID(L45,4,2) -> 02 | J45: =RIGHT(L45,4) -> 1986 | K45: TPHCM | L45: 03/02/1986 | M45: Khoa Điện - Điện tử | O45: 079186007086 | P45: 03/04/2017 | Q45: Cục Cảnh sát đăng ký quản lý cư trú | R45: Kinh | S45: Không | U45: Xã Yên Trung, Huyện Ý Yên, Tỉnh Nam Ðịnh | V45: 238/15 hoàng Văn Thụ, Phường 4, Quận Tân Bình, TPHCM | X45: 0909323207 | Z45: 7910171247 | AB45: 01/09/2009 | AC45: Sở GDĐT TPHCM | AD45: 01/09/2009 | AE45: Hợp đồng không thời hạn | AG45: 01/09/2009 | AH45: Giảng viên | AS45: 12/12 | AT45: THPT | AU45: Thạc sỹ | AV45: =INDEX([1]DATA!$W$10:$W$285,MATCH(B45,[1]DATA!$C$10:$C$285,0)) -> Thạc sĩ | AW45: =INDEX([1]DATA!$X$10:$X$285,MATCH(B45,[1]DATA!$C$10:$C$285,0)) -> Kỹ thuật Điện | AX45: Kỹ thuật điện | BB45: SP Bậc 2 - Chứng chỉ nghề bậc 3/7 | BC45: - BD GV chính | BD45: ĐHSPKT | BE45: Điện công nghiệp | BF45: 3/7 | BH45: =INDEX([1]DATA!$Z$10:$Z$285,MATCH(B45,[1]DATA!$C$10:$C$285,0)) -> Sơ cấp | BI45: Thạc sỹ | BJ45: Sơ cấp | BM45: UD CNTT CB | BN45: TH UDCB | BQ45: B1 | BT45: =INDEX([1]DATA!$O$10:$O$285,MATCH(B45,[1]DATA!$C$10:$C$285,0)) -> V.07.01.03 | BU45: V.07.01.03 | BW45: 3 | BX45: 3 | CA45: 01/09/2016 | CV45: B1 | CX45: x | CY45: x | CZ45: 01/09/2009 | DA45: 01/09/2009 | DC45: DIEN DIEN TU\NGUYEN THUY LINH.pdf | DD45: DIEN DIEN TU\NGUYEN THUY LINH 3.pdf
A46: 40 | B46: Nguyễn Trần Thanh Nhàn | C46: X | F46: X | G46: Nữ | H46: =LEFT(L46,2) -> 15 | I46: =MID(L46,4,2) -> 07 | J46: =RIGHT(L46,4) -> 1979 | K46: TP.HCM | L46: 15/07/1979 | M46: Khoa Điện - Điện tử | O46: 023273100 | P46: 15/11/2011 | Q46: CA TPHCM | R46: Kinh | S46: Không | U46: Tỉnh Nam Ðịnh | V46: 166/21 Hồ Bá Kiện, Phường 15, Quận 10 | X46: 0908832047 | Y46: hainhan66@yahoo.com | Z46: 0202201605 | AB46: 01/09/2002 | AC46: Sở GDĐT TPHCM | AD46: 01/09/2002 | AE46: Biên chế | AG46: 01/09/2002 | AH46: Giảng viên | AS46: 12/12 | AT46: THPT | AU46: Đại học | AV46: =INDEX([1]DATA!$W$10:$W$285,MATCH(B46,[1]DATA!$C$10:$C$285,0)) -> Kỹ sư | AW46: =INDEX([1]DATA!$X$10:$X$285,MATCH(B46,[1]DATA!$C$10:$C$285,0)) -> Kỹ thuật điện - Điện tử | AX46: Điện - điện tử | BB46: SP Bậc 2 - Chứng chỉ nghề bậc 3/7 | BD46: ĐHSPKT | BF46: 3/7 | BH46: =INDEX([1]DATA!$Z$10:$Z$285,MATCH(B46,[1]DATA!$C$10:$C$285,0)) -> Sơ cấp | BI46: Đại học | BJ46: Sơ cấp | BM46: A | BN46: Trình độ A | BQ46: A2 | BT46: =INDEX([1]DATA!$O$10:$O$285,MATCH(B46,[1]DATA!$C$10:$C$285,0)) -> V.07.01.03 | BU46: V.07.01.03 | BW46: 6 | BX46: 3.99 | CA46: 01/09/2018 | CV46: Tiếng anh B | CX46: x | CY46: x | CZ46: 01/09/2002 | DA46: 01/09/2002 | DC46: DIEN DIEN TU\NGUYEN TRAN THANH NHAN.pdf
A47: 41 | B47: Nguyễn Văn Yên | C47: X | F47: X | G47: Nam | H47: =LEFT(L47,2) -> 25 | I47: =MID(L47,4,2) -> 06 | J47: =RIGHT(L47,4) -> 1973 | K47: TPHCM | L47: 25/06/1973 | M47: Khoa Điện - Điện tử | O47: 079073005167 | P47: 27/04/2017 | Q47: Cục Cảnh sát đăng ký quản lý cư trú | R47: Kinh | S47: Không | U47: Xã Trung Lập Thượng, Huyện Củ Chi, Thành phố Hồ Chí Minh | V47: Tổ 7, ấp Vân Hàn, Xã Trung Lập Thượng, Củ Chi, TPHCM | X47: 0918059147 | Y47: ngvanyenltt@yahoo.com | Z47: 0299118225 | AB47: 01/09/1999 | AC47: Sở GDĐT TPHCM | AD47: 01/09/1999 | AE47: Biên chế | AG47: 01/08/2010 | AH47: Giảng viên | AP47: 19/05/2009 | AQ47: X | AS47: 12/12 | AT47: THPT | AU47: Thạc sỹ | AV47: =INDEX([1]DATA!$W$10:$W$285,MATCH(B47,[1]DATA!$C$10:$C$285,0)) -> Thạc sĩ | AW47: =INDEX([1]DATA!$X$10:$X$285,MATCH(B47,[1]DATA!$C$10:$C$285,0)) -> Thiết bị mạng và nhà máy điện | AX47: Thiết bị, mạng và nhà máy điện | BB47: SP Bậc 2 - Chứng chỉ nghề bậc 3/7 | BC47: - BD GV chính | BD47: Sư phạm dạy nghề | BF47: 3/7 | BH47: =INDEX([1]DATA!$Z$10:$Z$285,MATCH(B47,[1]DATA!$C$10:$C$285,0)) -> Sơ cấp | BI47: Thạc sỹ | BJ47: Trung cấp | BM47: UD CNTT CB | BN47: TH UDCB | BQ47: B1 | BT47: =INDEX([1]DATA!$O$10:$O$285,MATCH(B47,[1]DATA!$C$10:$C$285,0)) -> V.07.01.03 | BU47: V.07.01.03 | BW47: 8 | BX47: 4.65 | CA47: 01/09/2016 | CV47: C | CX47: x | CY47: x | CZ47: 01/08/2010 | DA47: 01/09/1999 | DC47: DIEN DIEN TU\NGUYEN VAN YEN.pdf | DD47: DIEN DIEN TU\NGUYEN VAN YEN 3.pdf
A48: 42 | B48: Tăng Cẩm Huê | C48: X | F48: X | G48: Nữ | H48: =LEFT(L48,2) -> 07 | I48: =MID(L48,4,2) -> 11 | J48: =RIGHT(L48,4) -> 1977 | K48: Trung Quốc | L48: 07/11/1977 | M48: Khoa Điện - Điện tử | O48: 023179583 | P48: 12/11/2008 | Q48: CA TPHCM | R48: Hoa | S48: Không | U48: Trung Quốc | V48: 689 Âu Cơ, P.Tân Thành, Q.Tân Phú | X48: 0906649728 | Y48: 2engjinhua@yahoo.com | Z48: 0201036366 | AB48: 01/09/2002 | AC48: Sở GDĐT TPHCM | AD48: 01/09/2002 | AE48: Biên chế | AG48: 01/09/2002 | AH48: Giảng viên | AS48: 12/12 | AT48: THPT | AU48: Đại học | AV48: =INDEX([1]DATA!$W$10:$W$285,MATCH(B48,[1]DATA!$C$10:$C$285,0)) -> Đại học | AW48: =INDEX([1]DATA!$X$10:$X$285,MATCH(B48,[1]DATA!$C$10:$C$285,0)) -> Kỹ thuật Điện - Điện tử | AX48: Kỹ thuật điện và điện tử | BB48: SP Bậc 2 - Chứng chỉ nghề bậc 3/7 | BD48: ĐHSPKT | BF48: 3/7 | BH48: =INDEX([1]DATA!$Z$10:$Z$285,MATCH(B48,[1]DATA!$C$10:$C$285,0)) -> Sơ cấp | BI48: Đại học | BJ48: Sơ cấp | BM48: UD CNTT CB | BN48: TH UDCB | BQ48: A2 | BT48: =INDEX([1]DATA!$O$10:$O$285,MATCH(B48,[1]DATA!$C$10:$C$285,0)) -> V.07.01.03 | BU48: V.07.01.03 | BW48: 6 | BX48: 3.99 | CA48: 01/09/2018 | CV48: Tiếng anh B | CX48: x | CY48: x | CZ48: 01/09/2002 | DA48: 01/09/2002 | DB48: - 01/2001-8/2002: NV CT Điện tử Tiến Đạt | DC48: DIEN DIEN TU\TANG CAM HUE.pdf | DD48: chưa thấyCC Tin học
A49: 43 | B49: Trần Công Tiến | C49: X | F49: X | G49: Nam | H49: =LEFT(L49,2) -> 10 | I49: =MID(L49,4,2) -> 08 | J49: =RIGHT(L49,4) -> 1972 | K49: TPHCM | L49: 10/08/1972 | M49: Khoa Điện - Điện tử | O49: 079072000577 | P49: 05/02/2016 | Q49: CA TPHCM | R49: Kinh | S49: Không | U49: Xã Thạnh Trị, Huyện Gò Công Tây, Tỉnh Tiền Giang | V49: 51/10/12 Cao Thắng, P3, Q3 | X49: 0913710780 | Y49: trancongtien72@yahoo.com | Z49: 0296241664 | AB49: 18/05/1996 | AC49: Sở GDĐT TPHCM | AD49: 18/05/1996 | AE49: Biên chế | AG49: 02/09/1995 | AH49: Giảng viên | AS49: 12/12 | AT49: THPT | AU49: Đại học | AV49: =INDEX([1]DATA!$W$10:$W$285,MATCH(B49,[1]DATA!$C$10:$C$285,0)) -> Kỹ sư | AW49: =INDEX([1]DATA!$X$10:$X$285,MATCH(B49,[1]DATA!$C$10:$C$285,0)) -> Kỹ thuật điện - Điện tử | AX49: Kỹ thuật điện và điện tử | BB49: SP Bậc 2 - Chứng chỉ nghề bậc 3/7 | BD49: ĐHSPKT | BF49: 3/7 | BH49: =INDEX([1]DATA!$Z$10:$Z$285,MATCH(B49,[1]DATA!$C$10:$C$285,0)) -> Sơ cấp | BI49: Đại học | BJ49: Sơ cấp | BM49: B | BN49: TH UDCB | BQ49: A2 | BT49: =INDEX([1]DATA!$O$10:$O$285,MATCH(B49,[1]DATA!$C$10:$C$285,0)) -> V.07.01.03 | BU49: V.07.01.03 | BV49: 18/05/1998 | BW49: 9 | BX49: 4.98 | BY49: 01/05/2017 | CA49: 01/05/2017 | CB49: 21% | CC49: 01/05/2019 | CV49: B (2019) | CX49: x | CY49: x | CZ49: 02/09/1995 | DA49: 18/05/1996 | DC49: DIEN DIEN TU\TRAN CONG TIEN.pdf
A50: 44 | B50: Trần Hiếu Trinh | C50: X | F50: X | G50: Nữ | H50: =LEFT(L50,2) -> 17 | I50: =MID(L50,4,2) -> 12 | J50: =RIGHT(L50,4) -> 1977 | K50: Thành phố Hồ Chí Minh | L50: 17/12/1977 | M50: Khoa Điện - Điện tử | O50: 023070412 | P50: 04/05/2011 | Q50: CA TPHCM | R50: Kinh | S50: Không | U50: Tỉnh Long An | V50: 17/8/7 Đường số 2, KP 22, Phường Bình Hưng Hòa A, Quận Bình Tân, TPHCM | X50: 0973705860 | Y50: htrinhltt@yahoo.com | Z50: 0203318104 | AB50: 01/09/2003 | AC50: Sở GDĐT TPHCM | AD50: 01/09/2003 | AE50: Biên chế | AG50: 01/09/2003 | AH50: Giảng viên | AS50: 12/12 | AT50: THPT | AU50: Đại học | AV50: =INDEX([1]DATA!$W$10:$W$285,MATCH(B50,[1]DATA!$C$10:$C$285,0)) -> Đại học | AW50: =INDEX([1]DATA!$X$10:$X$285,MATCH(B50,[1]DATA!$C$10:$C$285,0)) -> Vật lý điện tử | AX50: Vật lý điện tử | BB50: SP Bậc 2 | BD50: Bậc 2 (2005) | BF50: 3/7a | BH50: =INDEX([1]DATA!$Z$10:$Z$285,MATCH(B50,[1]DATA!$C$10:$C$285,0)) -> Sơ cấp | BI50: Đại học | BJ50: Sơ cấp | BM50: UD CNTT CB | BN50: UD CNTT CB | BQ50: A2 | BT50: =INDEX([1]DATA!$O$10:$O$285,MATCH(B50,[1]DATA!$C$10:$C$285,0)) -> V.07.01.03 | BU50: V.07.01.03 | BW50: 6 | BX50: 3.99 | CA50: 01/09/2017 | CV50: B | CX50: x | CY50: x | CZ50: 01/09/2003 | DA50: 01/09/2003 | DC50: DIEN DIEN TU\TRAN HIEU TRINH.pdf | DD50: DIEN DIEN TU\TRAN HIEU TRINH 1.pdf
A51: 45 | B51: Trần Nam Anh | C51: X | F51: X | G51: Nam | H51: =LEFT(L51,2) -> 13 | I51: =MID(L51,4,2) -> 04 | J51: =RIGHT(L51,4) -> 1989 | K51: TPHCM | L51: 13/04/1989 | M51: Khoa Điện - Điện tử | O51: 024255580 | P51: 31/03/2011 | Q51: CA TPHCM | R51: Kinh | S51: Không | U51: Xã An Nhơn Tây, Huyện Củ Chi, Thành phố Hồ Chí Minh | V51: Số 1233, Tỉnh lộ 7, Ấp Xóm Trại, Xã An Nhơn Tây, Huyện Củ Chi, Thành phố Hồ Chí Minh | X51: 0934051615 | Z51: #N/A | AB51: 01/04/2018 | AC51: Sở GDĐT TPHCM | AD51: 01/4/2018 | AE51: Hợp đồng không thời hạn | AG51: 0/01/2015 | AH51: Giảng viên | AS51: THPT | AT51: 12/12 | AU51: Thạc sỹ | AV51: =INDEX([1]DATA!$W$10:$W$285,MATCH(B51,[1]DATA!$C$10:$C$285,0)) -> Đại học | AW51: =INDEX([1]DATA!$X$10:$X$285,MATCH(B51,[1]DATA!$C$10:$C$285,0)) -> Công nghệ Kỹ thuật Điện - Điện tử | AX51: - Kỹ thuật Điện - Công nghệ kỹ thuật điện - điện tử | BB51: Sư phạm dạy nghề | BC51: - BD GV chính | BD51: Sư phạm dạy nghề | BF51: 3/7a | BH51: =INDEX([1]DATA!$Z$10:$Z$285,MATCH(B51,[1]DATA!$C$10:$C$285,0)) | BI51: - Thạc sỹ - Đại học | BM51: UD CNTT CB | BN51: TH UDCB | BQ51: B1 | BT51: =INDEX([1]DATA!$O$10:$O$285,MATCH(B51,[1]DATA!$C$10:$C$285,0)) -> V.07.01.03 | BU51: V.07.01.03 | BV51: 01/04/2019 | BW51: 1 | BX51: 2.34 | BY51: 01/04/2019 | CA51: 01/04/2019 | CV51: B1 | CX51: x | CY51: x | CZ51: 01/4/2018 | DA51: 01/4/2018 | DB51: - 01/01/2017-30/03/2018: Nhân viên kỹ thuật CT TNHH MTV Savihomes | DC51: DIEN DIEN TU\TRAN NAM ANH 3 1.pdf | DD51: DIEN DIEN TU\TRAN NAM ANH 3 1.pdf | DE51: DIEN DIEN TU\TRAN NAM ANH 3 2.pdf | DF51: DIEN DIEN TU\TRAN NAM ANH 3 3.pdf | DH51: DIEN DIEN TU\TRAN NAM ANH 3 4.pdf | DI51: DIEN DIEN TU\TRAN NAM ANH 3 5.pdf
A52: 46 | B52: Trần Nguyên Bảo Trân | C52: X | F52: X | G52: Nam | H52: =LEFT(L52,2) -> 02 | I52: =MID(L52,4,2) -> 04 | J52: =RIGHT(L52,4) -> 1977 | K52: Thừa Thiên Huế | L52: 02/04/1977 | M52: Khoa Điện - Điện tử | O52: 046077000191 | P52: 25/09/2017 | Q52: Cục Cảnh sát đăng ký quản lý cư trú | R52: Kinh | S52: Phật | U52: Tỉnh Thừa Thiên - Huế | V52: 34/3 Đường Cống Lở, Phường 15, Quận Tân Bình, TPHCM | X52: 0908225475 | Z52: 0203083819 | AB52: 01/09/2015 | AC52: Sở GDĐT TPHCM | AD52: 01/09/2015 | AE52: Hợp đồng không thời hạn | AG52: 01/09/2015 | AH52: Giảng viên | AS52: 12/12 | AT52: THPT | AU52: Thạc sỹ | AV52: =INDEX([1]DATA!$W$10:$W$285,MATCH(B52,[1]DATA!$C$10:$C$285,0)) -> Thạc sĩ | AW52: =INDEX([1]DATA!$X$10:$X$285,MATCH(B52,[1]DATA!$C$10:$C$285,0)) -> Điều khiển học kỹ thuật | AX52: Điều khiển học kỹ thuật | BB52: - Sư phạm dạy nghề - Chứng chỉ nghề bậc 3/7 | BC52: - BD GV chính | BD52: Sư phạm dạy nghề | BF52: 3/7a | BH52: =INDEX([1]DATA!$Z$10:$Z$285,MATCH(B52,[1]DATA!$C$10:$C$285,0)) -> Sơ cấp | BI52: Thạc sỹ | BJ52: Sơ cấp | BM52: A | BN52: Trình độ A | BQ52: B1 | BT52: =INDEX([1]DATA!$O$10:$O$285,MATCH(B52,[1]DATA!$C$10:$C$285,0)) -> V.07.01.03 | BU52: V.07.01.03 | BW52: 2 | BX52: 2.67 | CA52: 01/09/2016 | CV52: C | CX52: x | CY52: x | CZ52: 01/09/2015 | DA52: 01/09/2015 | DC52: DIEN DIEN TU\TRAN NGUYEN BAO TRAN.pdf
A53: 47 | B53: Trần Trung Hiếu | C53: X | F53: X | G53: Nam | H53: =LEFT(L53,2) -> 28 | I53: =MID(L53,4,2) -> 02 | J53: =RIGHT(L53,4) -> 1978 | K53: TP. Hồ Chí Minh | L53: 28/02/1978 | M53: Khoa Điện - Điện tử | O53: 023172993 | P53: 28/04/2009 | Q53: CA TPHCM | R53: Kinh | S53: Không | U53: Phường Tân Thành, Quận Tân Phú, Thành phố Hồ Chí Minh | V53: 05 Ngô Quyền, P.Tân Thành, Q.Tân Phú | X53: 0919490816 | Y53: IRIS_th2006@yahoo.com | Z53: 0202201602 | AB53: 01/09/2002 | AC53: Sở GDĐT TPHCM | AD53: 01/09/2002 | AE53: Biên chế | AG53: 01/09/2002 | AH53: Giảng viên | AS53: 12/12 | AT53: THPT | AU53: Đại học | AV53: =INDEX([1]DATA!$W$10:$W$285,MATCH(B53,[1]DATA!$C$10:$C$285,0)) -> Kỹ sư | AW53: =INDEX([1]DATA!$X$10:$X$285,MATCH(B53,[1]DATA!$C$10:$C$285,0)) -> Điện khí hóa & Cung cấp điện | AX53: Điện khí hóa và cung cấp điện | BB53: SP Bậc 2 - Chứng chỉ nghề bậc 3/7 | BC53: - Thiết kế điện hợp chuẩn nâng cao Building Electrical Design, Accordinh to Recent Standard - Phương pháp nghiên cứu khoa học | BD53: ĐHSPKT | BF53: 3/7 | BH53: =INDEX([1]DATA!$Z$10:$Z$285,MATCH(B53,[1]DATA!$C$10:$C$285,0)) -> Sơ cấp | BI53: Đại học | BJ53: Sơ cấp | BM53: UD CNTT CB | BN53: UD CNTT CB | BQ53: A2 | BT53: =INDEX([1]DATA!$O$10:$O$285,MATCH(B53,[1]DATA!$C$10:$C$285,0)) -> V.07.01.03 | BU53: V.07.01.03 | BW53: 6 | BX53: 3.99 | CA53: 01/09/2018 | CV53: Tiếng anh B | CX53: x | CY53: x | CZ53: 01/09/2002 | DA53: 01/09/2002 | DC53: DIEN DIEN TU\TRAN TRUNG HIEU.pdf
A54: 48 | B54: Vũ Hạnh Chiêu | C54: X | F54: X | G54: Nữ | H54: =LEFT(L54,2) -> 10 | I54: =MID(L54,4,2) -> 03 | J54: =RIGHT(L54,4) -> 1982 | K54: TPHCM | L54: 10/03/1982 | M54: Khoa Điện - Điện tử | O54: 024280248 | P54: 03/11/2005 | Q54: CA.TPHCM | R54: Kinh | S54: Thiên chúa | U54: Thành phố Hải Phòng | V54: 52/12A Nguyễn Sỹ Sách, Phường 15, Quận Tân Bình, TPHCM | X54: 0909305082 | Y54: chieuhanhvu@yahoo.com | Z54: 0205361857 | AB54: 01/09/2005 | AC54: Sở GDĐT TPHCM | AD54: 01/09/2008 | AE54: Hợp đồng không thời hạn | AG54: 01/09/2005 | AH54: Giảng viên | AS54: 12/12 | AT54: THPT | AU54: Thạc sỹ | AV54: =INDEX([1]DATA!$W$10:$W$285,MATCH(B54,[1]DATA!$C$10:$C$285,0)) -> Thạc sĩ | AW54: =INDEX([1]DATA!$X$10:$X$285,MATCH(B54,[1]DATA!$C$10:$C$285,0)) -> Thiết bị mạng và nhà máy điện | AX54: Thiết bị, mạng và nhà máy điện | BB54: - Sư phạm dạy nghề - Chứng chỉ nghề bậc 3/7 | BC54: - BD GV chính | BD54: Sư phạm dạy nghề | BF54: 3/7 | BH54: =INDEX([1]DATA!$Z$10:$Z$285,MATCH(B54,[1]DATA!$C$10:$C$285,0)) -> Sơ cấp | BI54: Thạc sỹ | BJ54: Sơ cấp | BM54: UD CNTT CB | BN54: Tin học UDCB | BQ54: C1 | BT54: =INDEX([1]DATA!$O$10:$O$285,MATCH(B54,[1]DATA!$C$10:$C$285,0)) -> V.07.01.03 | BU54: V.07.01.03 | BW54: 5 | BX54: 3.66 | CA54: 01/09/2018 | CV54: Đại học | CX54: x | CY54: x | CZ54: 01/09/2005 | DA54: 01/09/2008 | DC54: DIEN DIEN TU\VU HANH CHIEU.pdf | DD54: DIEN DIEN TU\VU HANH CHIEU 3.pdf
A55: 49 | B55: Trần Giang Nam | C55: X | F55: X | G55: Nam | H55: =LEFT(L55,2) -> 06 | I55: =MID(L55,4,2) -> 09 | J55: =RIGHT(L55,4) -> 1985 | K55: Củ Chi, TPHCM | L55: 06/09/1985 | M55: Khoa Điện - Điện tử | O55: 079085003003 | P55: 22/05/2018 | Q55: Cục Cảnh sát đăng ký quản lý cư trú | R55: Kinh | S55: Không | U55: Xã An Nhơn Tây, Huyện Củ Chi, Thành phố Hồ Chí Minh | V55: 442/91/51/96A Quốc lộ 1A, P. An Phú Đông, Quận 12, TPHCM | X55: 0903371549 | Z55: #N/A | AB55: 01/01/2019 | AC55: Sở GDĐT TPHCM | AD55: 01/01/2019 | AE55: Tập sự | AG55: 01/01/2019 | AH55: Giảng viên | AS55: 12/12 | AT55: THPT | AU55: Đại học | AV55: =INDEX([1]DATA!$W$10:$W$285,MATCH(B55,[1]DATA!$C$10:$C$285,0)) -> Đại học | AW55: =INDEX([1]DATA!$X$10:$X$285,MATCH(B55,[1]DATA!$C$10:$C$285,0)) -> Công nghệ Điện tử viễn thông | AX55: Điện tử viễn thông | BB55: NVSP dành cho GV TC nghề, CĐ nghề | BD55: NVSP dành cho GV TC nghề, CĐ nghề | BH55: =INDEX([1]DATA!$Z$10:$Z$285,MATCH(B55,[1]DATA!$C$10:$C$285,0)) | BI55: Đại học | BM55: B | BN55: Trình độ B | BQ55: B1 | BT55: =INDEX([1]DATA!$O$10:$O$285,MATCH(B55,[1]DATA!$C$10:$C$285,0)) -> V.07.01.03 | BU55: V.07.01.03 | BW55: 1 | BX55: 2.34 | BY55: 43466 | CV55: B | CX55: x | CY55: x | CZ55: 01/01/2019 | DA55: 01/01/2019 | DB55: - 01/10/2017-30/12/2018: Nhân viên kỹ thuật CT TNHH MTV Savihomes | DC55: DIEN DIEN TU\TRAN GIANG NAM.pdf
A56: 50 | B56: Phạm Hữu Lộc | E56: X | F56: X | G56: Nam | H56: =LEFT(L56,2) -> 25 | I56: =MID(L56,4,2) -> 02 | J56: =RIGHT(L56,4) -> 1966 | K56: Xã Phú Hòa Đông, Huyện Củ Chi, Thành phố Hồ Chí Minh | L56: 25/02/1966 | M56: Khoa Điện - Điện tử | O56: 022874945 | P56: 04/06/2013 | Q56: CA. TPHCM | R56: Kinh | S56: Không | U56: Xã Phú Hòa Đông, Huyện Củ Chi, Thành phố Hồ Chí Minh | V56: 332/70B Đường 26/3, Phường 5, Q. Gò Vấp, TPHCM | X56: 0903828252 | Y56: phamhulocltt@gmail.com | Z56: 0296207891 | AB56: 16/11/1987 | AC56: Sở GDĐT TPHCM | AD56: 01/09/2014 | AE56: Biên chế | AG56: 16/11/1987 | AH56: Hiệu trưởng | AI56: Hiệu trưởng | AK56: 01/09/2014 | AP56: 16/06/2001 | AQ56: X | AS56: 12/12 | AT56: THPT | AU56: - Thạc sỹ - Đại học | AV56: =INDEX([1]DATA!$W$10:$W$285,MATCH(B56,[1]DATA!$C$10:$C$285,0)) -> Thạc sĩ | AW56: =INDEX([1]DATA!$X$10:$X$285,MATCH(B56,[1]DATA!$C$10:$C$285,0)) -> Giáo dục học | AX56: - Giáo dục học - Điện - Điện tử | BB56: - NVSP cho GV ĐH, CĐ | BC56: - NVSP cho GV ĐH, CĐ - BD GV chính - QLNN ngạch CV chính | BH56: =INDEX([1]DATA!$Z$10:$Z$285,MATCH(B56,[1]DATA!$C$10:$C$285,0)) -> Cao cấp | BI56: Thạc sỹ | BJ56: Cao cấp | BK56: CV chính | BL56: BD kỹ năng và nghiệp vụ QL GDNN | BM56: UD CNTT CB | BN56: UD CNTT CB | BQ56: B2 | BT56: =INDEX([1]DATA!$O$10:$O$285,MATCH(B56,[1]DATA!$C$10:$C$285,0)) -> V.07.01.03 | BU56: V.07.01.03 | BW56: 9 | BX56: 4.98 | BZ56: 9 | CA56: 01/08/2018 | CB56: 32% | CC56: 01/12/2018 | CV56: B2 | CX56: x | CY56: x | CZ56: 16/11/1987 | DA56: 01/09/2014
A57: 51 | B57: Lâm Viết Dũng | E57: X | F57: X | G57: Nam | H57: =LEFT(L57,2) -> 26 | I57: =MID(L57,4,2) -> 06 | J57: =RIGHT(L57,4) -> 1976 | K57: Xã Phú Hòa Đông, Huyện Củ Chi, Thành phố Hồ Chí Minh | L57: 26/06/1976 | M57: Khoa Điện - Điện tử | O57: 079076001426 | P57: 25/04/2016 | Q57: Cục cảnh sát đăng ký quản lý cư trú | R57: Kinh | S57: Không | U57: Xã Phú Hòa Đông, Huyện Củ Chi, Thành phố Hồ Chí Minh | V57: Số 20 Đường 435 Tổ 52, ấp Phú Lợi, xã Phú Hòa Đông, huyện Củ Chi, TPHCM | X57: 0902484979 | Y57: lamvietdung@lttc.edu.vn | Z57: 0202026053 | AB57: 01/09/2001 | AC57: Sở GDĐT TPHCM | AD57: 15/07/2015 | AE57: Biên chế | AG57: 01/09/2001 | AH57: Trưởng phòng | AI57: Trưởng phòng | AK57: 01/01/2019 | AP57: 19/01/2010 | AQ57: X | AS57: 12/12 | AT57: THPT | AU57: - Thạc sỹ - Đại học | AV57: =INDEX([1]DATA!$W$10:$W$285,MATCH(B57,[1]DATA!$C$10:$C$285,0)) -> Thạc sĩ | AX57: - Quản lý khoa học và công nghệ - Điện - Điện tử | BB57: - SP Bậc 2 - Chứng chỉ nghề bậc 3/7 - CC QLGD - NVSP dành cho GV ĐH, CĐ | BC57: - Chương trình đấu thầu cơ bản - Đào tạo, bồi dưỡng CBQL GDNN - Năm 2018 - BD GV chính | BD57: Bậc 2 (2000) | BF57: 3/7 | BH57: =INDEX([1]DATA!$Z$10:$Z$285,MATCH(B57,[1]DATA!$C$10:$C$285,0)) -> Trung cấp | BI57: Thạc sỹ | BJ57: Trung cấp | BL57: CBQL các Khoa, Phòng, Ban trường ÐH | BM57: A | BN57: A | BQ57: B1 | BT57: =INDEX([1]DATA!$O$10:$O$285,MATCH(B57,[1]DATA!$C$10:$C$285,0)) -> V.07.01.03 | BU57: V.07.01.03 | BW57: 8 | BX57: 4.65 | CA57: 01/09/2017 | CV57: B1 | CX57: x | CY57: x | CZ57: 01/09/2001 | DA57: 15/07/2015 | DC57: KIEM CHUC MON CHUNG\LAM VIET DUNG 31.pdf
