Workbook

Sheet TC 2.6 CHUAN TA
A1: UBND THẢNH PHỐ HỒ CHÍ MINH TRƯỜNG CAO ĐẲNG LÝ TỰ TRỌNG THÀNH PHỐ HỒ CHÍ MINH | AI1: CỘNG HÒA XÃ HỘI CHỦ NGHĨA VIỆT NAM Độc lập - Tự do - Hạnh phúc
A3: THỐNG KÊ TRÌNH ĐỘ NGOẠI NGỮ CỦA GIẢNG VIÊN
A5: STT | B5: Họ tên | C5: GV | D5: NV | E5: kiêm chức | F5: GV + kiêm chức | G5: Giới tính | H5: Ngày sinh | I5: Tháng sinh | J5: Năm sinh | K5: Nơi sinh | L5: Ngày/tháng/năm sinh | M5: Đơn vị | N5: Số hiệu công chức | O5: Số chứng mình nhân dân | P5: Ngày cấp Chứng minh nhân dân | Q5: Nơi cấp chứng minh nhân dân | R5: Dân tộc | S5: Tôn giáo | T5: Quốc tịch | U5: Quê quán | V5: Địa chỉ thường trú | W5: Nơi ở hiện nay | X5: Điện thoại DD | Y5: Email | Z5: Số sổ bảo hiểm xã hội | AA5: Ngày hợp đồng | AB5: Ngày tuyển dụng | AC5: Cơ quan tuyển dụng | AD5: Ngày về cơ quan hiện nay | AE5: Thuộc loại cán bộ | AF5: Công việc hiện nay | AG5: Ngày vào ngành giáo dục | AH5: Chức vụ/ Chức danh hiện tại (công thức) | AI5: Chức vụ/ Chức danh hiện tại | AJ5: Hệ số phụ cấp chức vụ | AK5: Ngày bổ nhiệm chức vụ hiện tại | AL5: Lần bổ nhiệm | AM5: Chức vụ CQ kiêm nhiệm | AN5: Chức vụ CQ cao nhất đã qua | AO5: Ngày vào đảng | AP5: Ngày vào đảng chính thức | AQ5: Đảng viên (công thức) | AR5: Chức vụ Đảng hiện tại | AS5: Học vấn phổ thông | AT5: Đã tốt nghiệp | AU5: Trình độ chuyên môn cao nhất (công thức) | AV5: (Ẩn) | AW5: Chuyên ngành đào tạo (Ẩn) | AX5: Chuyên ngành đào tạo | AY5: Nơi đào tạo | AZ5: Hình thức đào tạo | BA5: Năm tốt nghiệp | BB5: Chứng chỉ bồi dưỡng nghiệp vụ | BC5: Chứng chỉ khác | BD5: (Ẩn) | BE5: Kỹ năng nghề quốc gia | BF5: Bậc | BG5: Trình độ chuẩn | BH5: Trình độ lý luận chính trị (Ẩn) | BI5: Trình độ chuyên môn cao nhất | BJ5: Trình độ lý luận chính trị | BK5: Trình độ quản lý nhà nước | BL5: Trình độ quản lý giáo dục | BM5: Trình độ tin học (công thức) | BN5: Trình độ tin học | BO5: Trình độ IC3 | BP5: Ngoại ngữ | BQ5: Trình độ ngoại ngữ | BR5: Nơi cấp CC Ngoại ngữ | BS5: Theo khung NLNN 6 bậc | BT5: (Ẩn) | BU5: Ngạch công chức | BV5: Ngày bổ nhiệm vào ngạch | BW5: Bậc lương | BX5: Hệ số lương | BY5: Hưởng lương từ ngày | BZ5: % phụ cấp thâm niên vượt khung | CA5: Mốc tính lương lần sau | CB5: Phụ cấp thâm niên nghề nghiệp (%) | CC5: Ngày hưởng pc thâm niên nghề | CD5: Chênh lệch bảo lưu lương | CE5: Phụ cấp ưu đãi(%) | CF5: Hệ số phụ cấp khu vực | CG5: Phụ cấp đặc biệt(%) | CH5: Hệ số phụ cấp lưu động | CI5: Phụ cấp kiêm nhiệm(%) | CJ5: Phụ cấp thu hút(%) | CK5: Hệ số phụ cấp độc hại nguy hiểm | CL5: Phụ cấp đặc thù(%) | CM5: Hệ số phụ cấp trách nhiệm | CN5: Hệ số phụ cấp khác | CO5: Phụ cấp công vụ (%) | CP5: Trừ Bảo hiểm thất nghiệp | CQ5: 85% (thử việc) | CR5: Tột khung | CS5: Ngày nghỉ việc | CT5: Lý do nghỉ việc | CU5: Ghi chú | CV5: Trình độ ngoại ngữ | CW5: CHƯA ĐỦ CHUẨN | CX5: Thời điểm cấp chứng chỉ | CY5: Ghi chú
A6: 01 | B6: 02 | L6: 03 | M6: 04 | AU6: 05 | AX6: 06 | BQ6: 07 | CX6: 08 | CY6: 09
A7: 01 | B7: Nguyễn Anh Tuấn | C7: X | F7: X | G7: Nam | H7: =LEFT(L7,2) -> 06 | I7: =MID(L7,4,2) -> 11 | J7: =RIGHT(L7,4) -> 1981 | K7: TP.HCM | L7: 06/11/1981 | M7: Khoa Động lực | O7: 079081001334 | P7: 27/04/2016 | Q7: Cục cảnh sát đăng ký quản lý cư trú | R7: Kinh | S7: Không | U7: Thành phố Hồ Chí Minh | V7: 95 Rạch Cát, Bến Lức, P7, Q8 | X7: 0903660165 | Y7: anhtuanspkt@gmail.com | Z7: 0205363670 | AB7: 01/09/2005 | AC7: Sở GDĐT TPHCM | AD7: 01/09/2005 | AE7: Hợp đồng không thời hạn | AG7: 01/09/2005 | AH7: Trưởng Khoa | AI7: Trưởng Khoa | AK7: 01/08/2015 | AS7: 12/12 | AT7: THPT | AU7: Tiến sỹ | AV7: =INDEX([1]DATA!$W$10:$W$285,MATCH(B7,[1]DATA!$C$10:$C$285,0)) -> Tiến sĩ | AW7: =INDEX([1]DATA!$X$10:$X$285,MATCH(B7,[1]DATA!$C$10:$C$285,0)) -> Kỹ thuật Cơ khí Động lực | AX7: Kỹ thuật Cơ khí động lực | AY7: - Trường ĐH GTVT - Trường ĐH Hàng Hải Việt Nam | BB7: SP Bậc 2 - Chứng chỉ nghề bậc 3/7 - NVSP cho GV ĐH, CĐ | BC7: - Bồi dưỡng CDNN giảng viên cao cấp (hạng I) - BD GV chính | BD7: - ĐHSPKT - Bậc 2 - NVSP dành cho GV CĐ, ĐH | BE7: Nghề Công nghệ Ô tô | BF7: 3 | BH7: =INDEX([1]DATA!$Z$10:$Z$285,MATCH(B7,[1]DATA!$C$10:$C$285,0)) -> Trung cấp | BI7: - Tiến sỹ - Đại học | BJ7: Trung cấp | BL7: CBQL các Khoa, Phòng, Ban trường ÐH | BM7: UD CNTT CB | BN7: UD CNTT CB | BQ7: C1 | BT7: =INDEX([1]DATA!$O$10:$O$285,MATCH(B7,[1]DATA!$C$10:$C$285,0)) -> V.07.01.03 | BU7: V.07.01.03 | BW7: 6 | BX7: 3.99 | BY7: 01/09/2018 | CA7: 01/09/2018 | CV7: - B2 - Đại học | CW7: 3/19 | CX7: 21/05/2019
A8: 02 | B8: Võ Đắc Thịnh | C8: X | F8: X | G8: Nam | H8: =LEFT(L8,2) -> 16 | I8: =MID(L8,4,2) -> 01 | J8: =RIGHT(L8,4) -> 1979 | K8: Thành phố Hồ Chí Minh | L8: 16/01/1979 | M8: Khoa Động lực | O8: 079079003245 | P8: 18/12/2018 | Q8: Cục cảnh sát đăng ký quản lý cư trú | R8: Kinh | S8: Không | U8: Tỉnh Bình Dương | V8: 204 Tầng 3 Lô G Chung cư Bàu Cát II, Phường 10, Quận Tân Bình, TPHCM | X8: 0903869052 | Y8: vodacthinhoto79@gmail.com | Z8: 0202201607 | AB8: 01/09/2002 | AC8: Sở GDĐT TPHCM | AD8: 01/09/2002 | AE8: Biên chế | AG8: 01/09/2002 | AH8: Phó Trưởng Khoa | AI8: Phó Trưởng Khoa | AK8: 01/08/2015 | AP8: 20/12/2007 | AQ8: X | AS8: 12/12 | AT8: THPT | AU8: Thạc sỹ | AV8: =INDEX([1]DATA!$W$10:$W$285,MATCH(B8,[1]DATA!$C$10:$C$285,0)) -> Thạc sĩ | AW8: =INDEX([1]DATA!$X$10:$X$285,MATCH(B8,[1]DATA!$C$10:$C$285,0)) -> Kỹ thuật Ô tô, máy kéo | AX8: Kỹ thuật ô tô, máy kéo | BB8: SP Bậc 2 - Chứng chỉ nghề bậc 3/7 | BC8: - BD GV chính | BD8: ĐHSPKT | BE8: Nghề Công nghệ Ô tô | BF8: 3 | BH8: =INDEX([1]DATA!$Z$10:$Z$285,MATCH(B8,[1]DATA!$C$10:$C$285,0)) -> Trung cấp | BI8: Thạc sỹ | BJ8: Trung cấp | BL8: CBQL các Khoa, Phòng, Ban trường ÐH | BM8: UD CNTT CB | BN8: UD CNTT CB | BQ8: B1 | BT8: =INDEX([1]DATA!$O$10:$O$285,MATCH(B8,[1]DATA!$C$10:$C$285,0)) -> V.07.01.03 | BU8: V.07.01.03 | BW8: 7 | BX8: 4.32 | BY8: 01/09/2018 | CA8: 01/09/2018 | CV8: B1 Toefl | CX8: 28/08/2012
A9: 03 | B9: Hà Quốc Bảo | C9: X | F9: X | G9: Nam | H9: =LEFT(L9,2) -> 02 | I9: =MID(L9,4,2) -> 02 | J9: =RIGHT(L9,4) -> 1987 | K9: Kiên Giang | L9: 02/02/1987 | M9: Khoa Động lực | O9: 024578348 | P9: 11/08/2006 | Q9: CA. TPHCM | R9: Kinh | S9: Thiên chúa | U9: Tỉnh Thái Bình | V9: 114/34 Phú Thọ Hòa, P. Phú Thọ Hòa, Q. Tân Phú | X9: 0933651943 | Y9: haquocbao22@yahoo.com.vn | Z9: 7914159577 | AB9: 01/09/2013 | AC9: Sở GDĐT TPHCM | AD9: 01/09/2013 | AE9: Hợp đồng không thời hạn | AG9: 01/09/2013 | AH9: Trưởng Bộ môn | AI9: Trưởng bộ môn Điện ô tô | AK9: 01/01/2019 | AS9: 12/12 | AT9: THPT | AU9: Thạc sỹ | AV9: =INDEX([1]DATA!$W$10:$W$285,MATCH(B9,[1]DATA!$C$10:$C$285,0)) -> Thạc sĩ | AW9: =INDEX([1]DATA!$X$10:$X$285,MATCH(B9,[1]DATA!$C$10:$C$285,0)) -> Kỹ thuật Cơ khí Động lực | AX9: Kỹ thuật Cơ khí Động lực | BB9: SP Bậc 2 - Chứng chỉ nghề bậc 3/7 | BC9: - BD GV chính | BD9: ĐHSPKT | BF9: 3/7 | BH9: =INDEX([1]DATA!$Z$10:$Z$285,MATCH(B9,[1]DATA!$C$10:$C$285,0)) | BI9: Thạc sỹ | BM9: A | BN9: A | BQ9: B1 | BT9: =INDEX([1]DATA!$O$10:$O$285,MATCH(B9,[1]DATA!$C$10:$C$285,0)) -> V.07.01.03 | BU9: V.07.01.03 | BW9: 2 | BX9: 2.67 | CA9: 01/09/2016 | CV9: B1 | CX9: 30/08/2015
A10: 04 | B10: Nguyễn Hữu Mạnh | C10: X | F10: X | G10: Nam | H10: =LEFT(L10,2) -> 04 | I10: =MID(L10,4,2) -> 03 | J10: =RIGHT(L10,4) -> 1980 | K10: Lào Cai | L10: 04/03/1980 | M10: Khoa Động lực | O10: 023655683 | P10: 26/06/2013 | Q10: CA TPHCM | R10: Kinh | S10: Không | U10: Xã An Quí, Huyện Quỳnh Phụ, Tỉnh Thái Bình | V10: 428 Hoàng Hữu Nam, KP Giãn Dân, phường Long Thạnh Mỹ, Q9 | X10: 0983888291 | Y10: manhnguyenckd@gmail.com | Z10: 0206414710 | AB10: 01/09/2006 | AC10: Sở GDĐT TPHCM | AD10: 01/09/2006 | AE10: Hợp đồng không thời hạn | AG10: 01/09/2006 | AH10: Trưởng Bộ môn | AI10: Trưởng Bộ môn | AK10: 01/09/2015 | AS10: 12/12 | AT10: THPT | AU10: - Thạc sỹ - Đại học | AV10: =INDEX([1]DATA!$W$10:$W$285,MATCH(B10,[1]DATA!$C$10:$C$285,0)) -> Thạc sĩ | AW10: =INDEX([1]DATA!$X$10:$X$285,MATCH(B10,[1]DATA!$C$10:$C$285,0)) -> Kỹ thuật Cơ khí Động lực | AX10: - Kỹ thuật Cơ khí Động lực - Ngôn ngữ Anh | BB10: SP Bậc 2 - Chứng chỉ nghề bậc 3/7 | BC10: - BD GV chính | BD10: ĐHSPKT | BF10: 3/7 | BH10: =INDEX([1]DATA!$Z$10:$Z$285,MATCH(B10,[1]DATA!$C$10:$C$285,0)) -> Sơ cấp | BI10: Thạc sỹ | BJ10: Trung cấp | BM10: B | BN10: Trình độ B (2004) | BQ10: C1 | BT10: =INDEX([1]DATA!$O$10:$O$285,MATCH(B10,[1]DATA!$C$10:$C$285,0)) -> V.07.01.03 | BU10: V.07.01.03 | BW10: 5 | BX10: 3.66 | CA10: 01/09/2018 | CV10: B1 | CX10: 25/03/2019
A11: 05 | B11: Triệu Phú Nguyên | C11: X | F11: X | G11: Nam | H11: =LEFT(L11,2) -> 12 | I11: =MID(L11,4,2) -> 03 | J11: =RIGHT(L11,4) -> 1980 | K11: TPHCM | L11: 12/03/1980 | M11: Khoa Động lực | O11: 023523303 | P11: 18/04/2008 | Q11: CA TPHCM | R11: Hoa | S11: Không | U11: Trung Quốc | V11: 121A/13A Hậu Giang, P5, Q6 | X11: 0908368347 | Y11: nguyentrieuphu@yahoo.com | Z11: 7909078910 | AB11: 01/09/2008 | AC11: Sở GDĐT TPHCM | AD11: 01/09/2008 | AE11: Hợp đồng không thời hạn | AG11: 01/09/2008 | AH11: Trưởng Bộ môn | AI11: Trưởng Bộ môn | AK11: 01/12/2017 | AS11: 12/12 | AT11: THPT | AU11: Thạc sỹ | AV11: =INDEX([1]DATA!$W$10:$W$285,MATCH(B11,[1]DATA!$C$10:$C$285,0)) -> Thạc sĩ | AW11: =INDEX([1]DATA!$X$10:$X$285,MATCH(B11,[1]DATA!$C$10:$C$285,0)) -> Kỹ sư Cơ khí động lực | AX11: Kỹ thuật Cơ khí Động lực | BB11: SP Bậc 2 - Chứng chỉ nghề bậc 3/7 | BC11: - BD GV chính | BD11: ĐHSPKT | BF11: 3/7 | BH11: =INDEX([1]DATA!$Z$10:$Z$285,MATCH(B11,[1]DATA!$C$10:$C$285,0)) -> Sơ cấp | BI11: Thạc sỹ | BJ11: Trung cấp | BM11: A | BN11: Trình độ A | BQ11: B1 | BT11: =INDEX([1]DATA!$O$10:$O$285,MATCH(B11,[1]DATA!$C$10:$C$285,0)) -> V.07.01.03 | BU11: V.07.01.03 | BW11: 4 | BX11: 3.33 | CA11: 01/09/2016 | CV11: B1 | CX11: 09/05/2013
A12: 06 | B12: Hồ Văn Hóa | C12: X | F12: X | G12: Nam | H12: =LEFT(L12,2) -> 29 | I12: =MID(L12,4,2) -> 06 | J12: =RIGHT(L12,4) -> 1987 | K12: TPHCM | L12: 29/06/1987 | M12: Khoa Động lực | O12: 024292308 | P12: 14/07/2004 | Q12: CA. TPHCM | R12: Kinh | S12: Không | U12: Xã Bình Mỹ, Huyện Củ Chi, Thành phố Hồ Chí Minh | V12: Tổ 8, ấp 7, xã Bình Mỹ, Huyện Củ Chi, TP.HCM | X12: 0906660312 | Y12: vanhoaspkt@gmail.com | Z12: #N/A | AB12: 01/09/2012 | AC12: Sở GDĐT TPHCM | AD12: 20/08/2012 | AE12: Hợp đồng không thời hạn | AG12: 20/08/2012 | AH12: Giảng viên | AS12: 12/12 | AT12: THPT | AU12: - Thạc sỹ | AV12: =INDEX([1]DATA!$W$10:$W$285,MATCH(B12,[1]DATA!$C$10:$C$285,0)) -> Thạc sĩ | AW12: =INDEX([1]DATA!$X$10:$X$285,MATCH(B12,[1]DATA!$C$10:$C$285,0)) -> Kỹ sư Cơ khí Động lực | AX12: - Kỹ thuật Cơ khí động lực | BB12: SP Bậc 2 - Chứng chỉ nghề bậc 3/7 | BD12: ĐHSPKT | BE12: Công nghệ Ô tô | BF12: 3 | BH12: =INDEX([1]DATA!$Z$10:$Z$285,MATCH(B12,[1]DATA!$C$10:$C$285,0)) -> Sơ cấp | BI12: - Thạc sỹ - Đại học | BJ12: Sơ cấp | BM12: B | BN12: Trình độ B | BQ12: B1 | BT12: =INDEX([1]DATA!$O$10:$O$285,MATCH(B12,[1]DATA!$C$10:$C$285,0)) -> V.07.01.03 | BU12: V.07.01.03 | BW12: 3 | BX12: 3 | CA12: 01/09/2018 | CB12: 0.05 | CC12: 01/09/2018 | CV12: - B1 | CX12: 28/08/2013
A13: 07 | B13: Đặng Thái Sơn | C13: X | F13: X | G13: Nam | H13: =LEFT(L13,2) -> 06 | I13: =MID(L13,4,2) -> 08 | J13: =RIGHT(L13,4) -> 1984 | K13: Kiên Giang | L13: 06/08/1984 | M13: Khoa Động lực | O13: 024761501 | P13: 20/12/2013 | Q13: CA TPHCM | R13: Kinh | S13: Thiên chúa | U13: Xã Tân An, Huyện Tân Hiệp, Tỉnh Kiên Giang | V13: Tổ 22 Ấp Đình, xã Tân Phú Trung, Củ Chi | X13: 0937681703 | Y13: thaisonltt@gmail.com | Z13: 7910171254 | AB13: 01/09/2009 | AC13: Sở GDĐT TPHCM | AD13: 01/09/2009 | AE13: Hợp đồng không thời hạn | AG13: 01/09/2009 | AH13: Giảng viên | AS13: 12/12 | AT13: THPT | AU13: Thạc sỹ | AV13: =INDEX([1]DATA!$W$10:$W$285,MATCH(B13,[1]DATA!$C$10:$C$285,0)) -> Thạc sĩ | AW13: =INDEX([1]DATA!$X$10:$X$285,MATCH(B13,[1]DATA!$C$10:$C$285,0)) -> Kỹ thuật Ô tô, máy kéo | AX13: Kỹ thuật ô tô, máy kéo | BB13: SP Bậc 2 - Chứng chỉ nghề bậc 3/7 | BC13: - BD GV chính | BD13: Bậc 2 (2003) | BE13: Công nghệ Ô tô | BF13: 3 | BH13: =INDEX([1]DATA!$Z$10:$Z$285,MATCH(B13,[1]DATA!$C$10:$C$285,0)) | BI13: Thạc sỹ | BJ13: Trung cấp | BQ13: B1 | BS13: B1 | BT13: =INDEX([1]DATA!$O$10:$O$285,MATCH(B13,[1]DATA!$C$10:$C$285,0)) -> V.07.01.03 | BU13: V.07.01.03 | BW13: 4 | BX13: 3.33 | CA13: 01/09/2018 | CV13: Toeic 520 | CX13: 09/12/2012
A14: 08 | B14: Hoàng Phúc Bảo | C14: X | F14: X | G14: Nam | H14: =LEFT(L14,2) -> 28 | I14: =MID(L14,4,2) -> 01 | J14: =RIGHT(L14,4) -> 1984 | K14: TPHCM | L14: 28/01/1984 | M14: Khoa Động lực | O14: 079084011850 | P14: 23/07/2018 | Q14: Cục cảnh sát đăng ký quản lý cư trú | R14: Kinh | S14: Không | U14: Tỉnh Tiền Giang | V14: 20/2 Phạm Văn Hùng, Phường 10, Quận 8, TPHCM | X14: 0968774325 | Y14: hoangphucbaockd@gmail.com | Z14: 7914159576 | AB14: 01/09/2013 | AC14: Sở GDĐT TPHCM | AD14: 01/09/2013 | AE14: Hợp đồng không thời hạn | AG14: 01/09/2013 | AH14: Giảng viên | AS14: 12/12 | AT14: THPT | AU14: Đại học | AV14: =INDEX([1]DATA!$W$10:$W$285,MATCH(B14,[1]DATA!$C$10:$C$285,0)) -> Đại học | AW14: =INDEX([1]DATA!$X$10:$X$285,MATCH(B14,[1]DATA!$C$10:$C$285,0)) -> Cơ khí Động lực | AX14: Cơ khí động lực | BB14: SP Bậc 2 - Chứng chỉ nghề bậc 3/7 | BD14: ĐHSPKT | BE14: Công nghệ Ô tô | BF14: 3 | BH14: =INDEX([1]DATA!$Z$10:$Z$285,MATCH(B14,[1]DATA!$C$10:$C$285,0)) | BI14: Đại học | BM14: A | BN14: A | BQ14: A2 | BS14: A2 | BT14: =INDEX([1]DATA!$O$10:$O$285,MATCH(B14,[1]DATA!$C$10:$C$285,0)) -> V.07.01.03 | BU14: V.07.01.03 | BW14: 2 | BX14: 2.67 | CA14: 01/09/2016 | CV14: TOEIC 400 | CX14: 2016
A15: 09 | B15: Kiều Trung Tín | C15: X | F15: X | G15: Nam | H15: =LEFT(L15,2) -> 08 | I15: =MID(L15,4,2) -> 04 | J15: =RIGHT(L15,4) -> 1982 | K15: TPHCM | L15: 08/04/1982 | M15: Khoa Động lực | O15: 023493630 | P15: 15/06/2012 | Q15: CA.TPHCM | R15: Kinh | S15: Không | U15: Xã Bình Chánh, Huyện Bình Chánh, Thành phố Hồ Chí Minh | V15: C12/23 ấp 3 xã Bình Chánh, huyện Bình Chánh, TPHCM | X15: 01226148847 | Y15: ttin182@yahoo.com.vn | Z15: 0204354426 | AB15: 01/09/2010 | AC15: Sở GDĐT TPHCM | AD15: 01/09/2010 | AE15: Hợp đồng không thời hạn | AG15: 01/03/2009 | AH15: Giảng viên | AS15: 12/12 | AT15: THPT | AU15: Đại học | AV15: =INDEX([1]DATA!$W$10:$W$285,MATCH(B15,[1]DATA!$C$10:$C$285,0)) -> Kỹ sư | AW15: =INDEX([1]DATA!$X$10:$X$285,MATCH(B15,[1]DATA!$C$10:$C$285,0)) -> Kỹ thuật Ô tô - Máy động lực | AX15: Kỹ thuật Ô tô - Máy động lực | BB15: - SP dạy nghề - Chứng chỉ nghề bậc 3/7 | BC15: - BD GV chính | BD15: CĐSP | BF15: 3/7 | BH15: =INDEX([1]DATA!$Z$10:$Z$285,MATCH(B15,[1]DATA!$C$10:$C$285,0)) | BI15: Đại học | BM15: CĐ | BN15: Cao Đẳng | BQ15: A2 | BS15: A2 | BT15: =INDEX([1]DATA!$O$10:$O$285,MATCH(B15,[1]DATA!$C$10:$C$285,0)) -> V.07.01.03 | BU15: V.07.01.03 | BV15: 01/09/2011 | BW15: 3 | BX15: 3 | BY15: 01/09/2017 | CA15: 01/09/2017 | CB15: 9% | CC15: 01/05/2019 | CV15: TOEFL 433 | CX15: 25/05/2014
A16: 10 | B16: Nguyễn Minh Thái | C16: X | F16: X | G16: Nam | H16: =LEFT(L16,2) -> 02 | I16: =MID(L16,4,2) -> 09 | J16: =RIGHT(L16,4) -> 1984 | K16: TPHCM | L16: 02/09/1984 | M16: Khoa Động lực | O16: 023727322 | P16: 29/07/2013 | Q16: CA THPCM | R16: Kinh | S16: Không | U16: Xã Tân Thới Nhì, Huyện Hóc Môn, Thành phố Hồ Chí Minh | V16: 66/1B ấp Dân Thắng 1, xã Tân Thới Nhì, huyện Hóc Môn, TPHCM | X16: 0904444491 | Y16: nguyenminhthailtt@gmail.com | Z16: 7910171253 | AB16: 01/09/2009 | AC16: Sở GDĐT TPHCM | AD16: 01/09/2009 | AE16: Hợp đồng không thời hạn | AG16: 01/09/2009 | AH16: Giảng viên | AS16: 12/12 | AT16: THPT | AU16: Đại học | AV16: =INDEX([1]DATA!$W$10:$W$285,MATCH(B16,[1]DATA!$C$10:$C$285,0)) -> Kỹ sư | AW16: =INDEX([1]DATA!$X$10:$X$285,MATCH(B16,[1]DATA!$C$10:$C$285,0)) -> Cơ khí động lực | AX16: Cơ khí động lực | BB16: SP Bậc 2 - Chứng chỉ nghề bậc 3/7 | BC16: - BD GV chính | BD16: ĐHSPKT | BE16: Công nghệ Ô tô | BF16: 3 | BH16: =INDEX([1]DATA!$Z$10:$Z$285,MATCH(B16,[1]DATA!$C$10:$C$285,0)) | BI16: Đại học | BQ16: B1 | BT16: =INDEX([1]DATA!$O$10:$O$285,MATCH(B16,[1]DATA!$C$10:$C$285,0)) -> V.07.01.03 | BU16: V.07.01.03 | BW16: 4 | BX16: 3.33 | CA16: 01/09/2018 | CV16: B1 | CX16: 29/01/2018
A17: 11 | B17: Nguyễn Thái Bình | C17: X | F17: X | G17: Nam | H17: =LEFT(L17,2) -> 02 | I17: =MID(L17,4,2) -> 01 | J17: =RIGHT(L17,4) -> 1973 | K17: TPHCM | L17: 02/01/1973 | M17: Khoa Động lực | O17: 022958396 | P17: 18/03/2010 | Q17: CA TPHCM | R17: Kinh | S17: Không | U17: Phường Tăng Nhơn Phú A, Quận 9, Thành phố Hồ Chí Minh | V17: 637 Lê Văn Việt, KP5, Tăng Nhơn Phú A, Q.9 | X17: 0906414482 | Y17: binhnguyenthai60@gmail.com | Z17: 7910171256 | AB17: 01/09/2009 | AC17: Sở GDĐT TPHCM | AD17: 01/09/2009 | AE17: Hợp đồng không thời hạn | AG17: 01/09/2009 | AH17: Giảng viên | AS17: 12/12 | AT17: THPT | AU17: Thạc sỹ | AV17: =INDEX([1]DATA!$W$10:$W$285,MATCH(B17,[1]DATA!$C$10:$C$285,0)) -> Thạc sĩ | AW17: =INDEX([1]DATA!$X$10:$X$285,MATCH(B17,[1]DATA!$C$10:$C$285,0)) -> Kỹ thuật ô tô, máy kéo | AX17: Kỹ thuật ô tô, máy kéo | BB17: SP Bậc 2 - Chứng chỉ nghề bậc 3/7 | BC17: - BD GV chính | BD17: ĐHSPKT | BE17: Công nghệ Ô tô | BF17: 3 | BH17: =INDEX([1]DATA!$Z$10:$Z$285,MATCH(B17,[1]DATA!$C$10:$C$285,0)) -> Sơ cấp | BI17: Thạc sỹ | BJ17: Sơ cấp | BM17: B | BN17: Trình độ B | BQ17: C1 | BT17: =INDEX([1]DATA!$O$10:$O$285,MATCH(B17,[1]DATA!$C$10:$C$285,0)) -> V.07.01.03 | BU17: V.07.01.03 | BW17: 4 | BX17: 3.33 | CA17: 01/09/2018 | CV17: Đại học Tiếng Anh | CX17: 15/02/2002
A18: 12 | B18: Nguyễn Thành Đức | C18: X | F18: X | G18: Nam | H18: =LEFT(L18,2) -> 14 | I18: =MID(L18,4,2) -> 10 | J18: =RIGHT(L18,4) -> 1978 | K18: Đồng Tháp | L18: 14/10/1978 | M18: Khoa Động lực | O18: 024520146 | P18: 16/09/2014 | Q18: CA TPHCM | R18: Kinh | S18: Không | U18: Tỉnh Ðồng Tháp | V18: 10/13 Kênh Nước Đen, P.Bình Hưng Hòa A, Q.Bình Tân | X18: 0903170567 | Y18: ng_th_duc@yahoo.com.vn | Z18: 7909078911 | AB18: 01/09/2008 | AC18: Sở GDĐT TPHCM | AD18: 01/09/2008 | AE18: Hợp đồng không thời hạn | AG18: 01/09/2008 | AH18: Giảng viên | AS18: 12/12 | AT18: THPT | AU18: Thạc sỹ | AV18: =INDEX([1]DATA!$W$10:$W$285,MATCH(B18,[1]DATA!$C$10:$C$285,0)) -> Thạc sĩ | AW18: =INDEX([1]DATA!$X$10:$X$285,MATCH(B18,[1]DATA!$C$10:$C$285,0)) -> Kỹ thuật Cơ khí Động lực | AX18: Kỹ thuật Cơ khí Động lực | BB18: SP Bậc 2 - Chứng chỉ nghề bậc 3/7 | BD18: ĐHSPKT | BF18: 3/7 | BH18: =INDEX([1]DATA!$Z$10:$Z$285,MATCH(B18,[1]DATA!$C$10:$C$285,0)) | BI18: Thạc sỹ | BQ18: B1 | BT18: =INDEX([1]DATA!$O$10:$O$285,MATCH(B18,[1]DATA!$C$10:$C$285,0)) -> V.07.01.03 | BU18: V.07.01.03 | BW18: 4 | BX18: 3.33 | CA18: 01/09/2018 | CV18: B1 | CX18: 09/05/2013
A19: 13 | B19: Nguyễn Thanh Hùng | C19: X | F19: X | G19: Nam | H19: =LEFT(L19,2) -> 03 | I19: =MID(L19,4,2) -> 09 | J19: =RIGHT(L19,4) -> 1982 | K19: CA. TP.HCM | L19: 03/09/1982 | M19: Khoa Động lực | O19: 079082002097 | P19: 13/06/2016 | Q19: CA. TPHCM | R19: Kinh | S19: Không | U19: Thành phố Hồ Chí Minh | V19: 020 Lô Y CC Ngô Gia Tự, Phường 2, Quận 10, TP.HCM | X19: 0938958210 | Y19: thanhhungspkt05@gmail.com | Z19: 7910002854 | AB19: 01/10/2012 | AC19: Sở GDĐT TPHCM | AD19: 01/10/2012 | AE19: Hợp đồng không thời hạn | AG19: 01/10/2012 | AH19: Giảng viên | AS19: 12/12 | AT19: THPT | AU19: Thạc sỹ | AV19: =INDEX([1]DATA!$W$10:$W$285,MATCH(B19,[1]DATA!$C$10:$C$285,0)) -> Thạc sĩ | AW19: =INDEX([1]DATA!$X$10:$X$285,MATCH(B19,[1]DATA!$C$10:$C$285,0)) -> Kỹ thuật ô tô máy kéo | AX19: Kỹ thuật ô tô, máy kéo | BB19: Bồi dưỡng NVSP cho GV ĐH, CĐ | BC19: SP Bậc 2 - Chứng chỉ nghề bậc 3/7 - BD GV chính | BD19: ĐHSPKT | BE19: Công nghệ Ô tô | BF19: 3 | BH19: =INDEX([1]DATA!$Z$10:$Z$285,MATCH(B19,[1]DATA!$C$10:$C$285,0)) | BI19: Thạc sỹ | BM19: UD CNTT CB | BN19: Ứng dụng CNTT cơ bản | BQ19: B2 | BS19: B2 | BT19: =INDEX([1]DATA!$O$10:$O$285,MATCH(B19,[1]DATA!$C$10:$C$285,0)) -> V.07.01.03 | BU19: V.07.01.03 | BW19: 3 | BX19: 3 | CA19: 01/10/2018 | CB19: 5% | CC19: 01/10/2018 | CV19: TOEIC 600 | CX19: 25/01/2019
A20: 14 | B20: Phan Anh Tuấn Kiệt | C20: X | F20: X | G20: Nam | H20: =LEFT(L20,2) -> 28 | I20: =MID(L20,4,2) -> 10 | J20: =RIGHT(L20,4) -> 1983 | K20: TPHCM | L20: 28/10/1983 | M20: Khoa Động lực | O20: 079083003103 | P20: 15/07/2016 | Q20: Cục cảnh sát đăng ký quản lý cư trú | R20: Kinh | S20: Thiên chúa | U20: Tỉnh Bình Ðịnh | V20: 16/1 Cách Mạng, P.Tân Thành, Q.Tân Phú | X20: 0938250452 | Y20: kiettool07@yahoo.com | Z20: 7908079140 | AB20: 01/09/2007 | AC20: Sở GDĐT TPHCM | AD20: 01/09/2007 | AE20: Hợp đồng không thời hạn | AG20: 01/09/2007 | AH20: Giảng viên | AS20: 12/12 | AT20: THPT | AU20: Thạc sỹ | AV20: =INDEX([1]DATA!$W$10:$W$285,MATCH(B20,[1]DATA!$C$10:$C$285,0)) -> Thạc sĩ | AW20: =INDEX([1]DATA!$X$10:$X$285,MATCH(B20,[1]DATA!$C$10:$C$285,0)) -> Kỹ thuật Cơ khí động lực | AX20: Kỹ thuật Cơ khí Động lực | BB20: SP Bậc 2 - Chứng chỉ nghề bậc 3/7 | BC20: - BD GV chính | BD20: ĐHSPKT | BF20: 3/7 | BH20: =INDEX([1]DATA!$Z$10:$Z$285,MATCH(B20,[1]DATA!$C$10:$C$285,0)) -> Sơ cấp | BI20: Thạc sỹ | BJ20: Trung cấp | BM20: UD CNTT CB | BN20: TH UDCB | BQ20: B1 | BT20: =INDEX([1]DATA!$O$10:$O$285,MATCH(B20,[1]DATA!$C$10:$C$285,0)) -> V.07.01.03 | BU20: V.07.01.03 | BW20: 5 | BX20: 3.66 | BY20: 43344 | CA20: 01/09/2018 | CV20: B1 | CX20: 09/05/2013
A21: 15 | B21: Trần Minh Tuấn | C21: X | F21: X | G21: Nam | H21: =LEFT(L21,2) -> 17 | I21: =MID(L21,4,2) -> 11 | J21: =RIGHT(L21,4) -> 1986 | K21: Quảng Ngãi | L21: 17/11/1986 | M21: Khoa Động lực | O21: 051086000128 | P21: 12/04/2017 | Q21: Cục cảnh sát đăng ký quản lý cư trú | R21: Kinh | S21: Không | U21: Xã Nghĩa Trung, Huyện Tư Nghĩa, Tỉnh Quảng Ngãi | V21: 151 Đường số 8, Phường 11, Quận Gò Vấp, TPHCM | X21: 0903870724 | Y21: tranminhtuan31@gmail.com | Z21: 7911094457 | AB21: 01/09/2010 | AC21: Sở GDĐT TPHCM | AD21: 01/09/2010 | AE21: Hợp đồng không thời hạn | AG21: 01/09/2010 | AH21: Giảng viên | AS21: 12/12 | AT21: THPT | AU21: Thạc sỹ | AV21: =INDEX([1]DATA!$W$10:$W$285,MATCH(B21,[1]DATA!$C$10:$C$285,0)) -> Thạc sĩ | AW21: =INDEX([1]DATA!$X$10:$X$285,MATCH(B21,[1]DATA!$C$10:$C$285,0)) -> Khai thác và bảo trì ô tô, máy kéo | AX21: Kỹ thuật Cơ khí Động lực | BB21: SP Bậc 2 - Chứng chỉ nghề bậc 3/7 | BD21: ĐHSPKT | BE21: Công nghệ Ô tô | BF21: 3 | BH21: =INDEX([1]DATA!$Z$10:$Z$285,MATCH(B21,[1]DATA!$C$10:$C$285,0)) -> Sơ cấp | BI21: Thạc sỹ | BJ21: Sơ cấp | BM21: UD CNTT CB | BN21: TH UDCB | BQ21: B1 | BT21: =INDEX([1]DATA!$O$10:$O$285,MATCH(B21,[1]DATA!$C$10:$C$285,0)) -> V.07.01.03 | BU21: V.07.01.03 | BW21: 3 | BX21: 3 | CA21: 01/09/2016 | CV21: B1 | CX21: 08/03/2012
A22: 16 | B22: Trần Quốc Duy | C22: X | F22: X | G22: Nam | H22: =LEFT(L22,2) | I22: =MID(L22,4,2) | J22: =RIGHT(L22,4) | K22: TPHCM | M22: Khoa Động lực | O22: 079085009956 | P22: 29/08/2017 | Q22: Cục cảnh sát đăng ký quản lý cư trú | R22: Kinh | S22: Thiên chúa | U22: Tỉnh Ðồng Nai | V22: 74/1/3 Tân Kỳ Tân Quý, Phường Tây Thạnh, Quận Tân Phú, TPHCM | X22: 0935 129 573 | Y22: quocduy_ckoto@yahoo.com.vn | Z22: 7911311169 | AB22: 01/03/2011 | AC22: Sở GDĐT TPHCM | AD22: 14/02/2011 | AE22: Hợp đồng không thời hạn | AG22: 14/02/2011 | AH22: Giảng viên | AS22: 12/12 | AT22: THPT | AU22: Thạc sỹ | AV22: =INDEX([1]DATA!$W$10:$W$285,MATCH(B22,[1]DATA!$C$10:$C$285,0)) -> Thạc sĩ | AW22: =INDEX([1]DATA!$X$10:$X$285,MATCH(B22,[1]DATA!$C$10:$C$285,0)) -> Kỹ thuật Cơ khí động lực | AX22: Kỹ thuật Cơ khí Động lực | BB22: SP Bậc 2 - Chứng chỉ nghề bậc 3/7 | BC22: - BD GV chính | BD22: Bậc 2 (2011) | BE22: Công nghệ Ô tô | BF22: 3 | BH22: =INDEX([1]DATA!$Z$10:$Z$285,MATCH(B22,[1]DATA!$C$10:$C$285,0)) | BI22: Thạc sỹ | BM22: A | BN22: A | BQ22: B1 | BS22: B1 | BT22: =INDEX([1]DATA!$O$10:$O$285,MATCH(B22,[1]DATA!$C$10:$C$285,0)) -> V.07.01.03 | BU22: V.07.01.03 | BW22: 3 | BX22: 3 | CA22: 01/03/2018 | CV22: TOEFL 467 | CX22: 11/03/2018
A23: 17 | B23: Trần Thế Sơn | C23: X | F23: X | G23: Nam | H23: =LEFT(L23,2) -> 18 | I23: =MID(L23,4,2) -> 06 | J23: =RIGHT(L23,4) -> 1990 | K23: Đồng Nai | L23: 18/06/1990 | M23: Khoa Động lực | O23: 271927461 | P23: 01/7/2016 | Q23: CA.Đồng Nai | R23: Kinh | S23: Không | U23: Xã La Ngà, Huyện Định Quán, Tỉnh Ðồng Nai | V23: Ấp 4, La Ngà, Định Quán, Đồng Nai | X23: 0974532823 | Z23: #N/A | AB23: 01/10/2018 | AC23: Sở GDĐT TPHCM | AD23: 01/10/2018 | AE23: Hợp đồng không thời hạn | AG23: 01/10/2018 | AH23: Giảng viên | AS23: 12/12 | AT23: THPT | AU23: Đại học | AV23: =INDEX([1]DATA!$W$10:$W$285,MATCH(B23,[1]DATA!$C$10:$C$285,0)) -> Đại học | AW23: =INDEX([1]DATA!$X$10:$X$285,MATCH(B23,[1]DATA!$C$10:$C$285,0)) -> Công nghệ kỹ thuật ô tô | AX23: Công nghệ Kỹ thuật Ô tô | BB23: - NVSP dành cho GV CĐ, ĐH | BC23: - BD GV chính | BD23: - NVSP dành cho GV CĐ, ĐH | BE23: Công nghệ Ô tô | BF23: 3 | BH23: =INDEX([1]DATA!$Z$10:$Z$285,MATCH(B23,[1]DATA!$C$10:$C$285,0)) | BI23: Đại học | BM23: A | BN23: A | BQ23: B1 | BT23: =INDEX([1]DATA!$O$10:$O$285,MATCH(B23,[1]DATA!$C$10:$C$285,0)) -> V.07.01.03 | BU23: V.07.01.03 | BW23: 1 | BX23: 2.34 | CV23: C | CX23: 15/11/2012
A24: 18 | B24: Nguyễn Lương Tâm | C24: X | F24: X | G24: Nam | H24: =LEFT(L24,2) -> 01 | I24: =MID(L24,4,2) -> 10 | J24: =RIGHT(L24,4) -> 1970 | K24: Qui Nhơn | L24: 01/10/1970 | M24: Khoa Động lực | O24: 022093185 | P24: 05/02/2010 | Q24: CA.TPHCM | R24: Kinh | S24: Không | U24: Tỉnh Thừa Thiên - Huế | V24: 143 CMT8, P12, Quận Tân Bình, TPHCM | X24: 0909511055 | Z24: #N/A | AB24: 01/10/2018 | AC24: Sở GDĐT TPHCM | AD24: 01/10/2018 | AE24: Hợp đồng không thời hạn | AG24: 1994 | AH24: Giảng viên | AS24: 12/12 | AT24: THPT | AU24: Đại học | AV24: =INDEX([1]DATA!$W$10:$W$285,MATCH(B24,[1]DATA!$C$10:$C$285,0)) -> Kỹ sư | AW24: =INDEX([1]DATA!$X$10:$X$285,MATCH(B24,[1]DATA!$C$10:$C$285,0)) -> Cơ khí | AX24: Kỹ sư Cơ khí | BB24: NVSP dành cho GV CĐ, ĐH | BC24: - BD GV chính | BD24: NVSP dành cho GV CĐ, ĐH | BE24: Công nghệ Ô tô | BF24: 3 | BH24: =INDEX([1]DATA!$Z$10:$Z$285,MATCH(B24,[1]DATA!$C$10:$C$285,0)) | BI24: Đại học | BM24: UD CNTT CB | BN24: ƯD CNTT cơ bản | BQ24: A2 | BT24: =INDEX([1]DATA!$O$10:$O$285,MATCH(B24,[1]DATA!$C$10:$C$285,0)) -> V.07.01.03 | BU24: V.07.01.03 | BW24: 1 | BX24: 2.34 | CV24: B | CX24: 22/01/2018
A25: 19 | B25: Trần Văn Đông | C25: X | F25: X | G25: Nam | H25: =LEFT(L25,2) -> 12 | I25: =MID(L25,4,2) -> 12 | J25: =RIGHT(L25,4) -> 1990 | K25: Bình Định | L25: 12/12/1990 | M25: Khoa Động lực | O25: 215223184 | P25: 29/01/2011 | Q25: CA.Bình Định | R25: Kinh | S25: Không | U25: Xã Mỹ An, Huyện Phù Mỹ, Tỉnh Bình Ðịnh | V25: 100/08 Quang Trung, P. Tăng Nhơn Phú B, Quận 9, TPHCM | X25: 0964345549 | Z25: #N/A | AB25: 01/01/2019 | AC25: Sở GDĐT TPHCM | AD25: 01/01/2019 | AE25: Tập sự | AG25: 01/01/2019 | AH25: Giảng viên | AS25: 12/12 | AT25: THPT | AU25: Thạc sỹ | AV25: =INDEX([1]DATA!$W$10:$W$285,MATCH(B25,[1]DATA!$C$10:$C$285,0)) -> Thạc sĩ | AW25: =INDEX([1]DATA!$X$10:$X$285,MATCH(B25,[1]DATA!$C$10:$C$285,0)) -> Kỹ thuật Cơ khí Động lực | AX25: Kỹ thuật Cơ khí Động lực | BB25: NVSP dành cho GV CĐ, ĐH | BC25: =- BD GV chính -> #NAME? | BD25: NVSP dành cho GV CĐ, ĐH | BH25: =INDEX([1]DATA!$Z$10:$Z$285,MATCH(B25,[1]DATA!$C$10:$C$285,0)) | BI25: Thạc sỹ | BM25: UD CNTT CB | BN25: UD CNTT CB | BQ25: A2 | BT25: =INDEX([1]DATA!$O$10:$O$285,MATCH(B25,[1]DATA!$C$10:$C$285,0)) -> V.07.01.03 | BU25: V.07.01.03 | BW25: 2 | BX25: 2.67 | CV25: B | CX25: 40379
A26: 20 | B26: Tạ Minh Cường | C26: X | F26: X | G26: Nam | H26: =LEFT(L26,2) -> 01 | I26: =MID(L26,4,2) -> 07 | J26: =RIGHT(L26,4) -> 1965 | K26: Tân Hiệp, Kiên Giang | L26: 01/07/1965 | M26: Khoa Điện - Điện tử | O26: 091065000076 | P26: 12/06/2019 | Q26: Cục Cảnh sát QLHC về TTXH | R26: Kinh | S26: Thiên chúa | U26: Xã Trực Hùng, Huyện Trực Ninh, Tỉnh Nam Ðịnh | V26: 73/9 Nguyễn Thượng Hiền, P5, Bình Thạnh | X26: 0903043765 | Y26: taminhcuong@gmail.com | Z26: 5396009947 | AB26: 01/09/2003 | AC26: Sở GDĐT TPHCM | AD26: 01/09/2003 | AE26: Biên chế | AG26: 08/03/1992 | AH26: Trưởng Khoa | AI26: - Phó Trưởng Khoa - Phụ trách khoa | AJ26: 0.35 | AK26: 01/01/2014 01/05/2019 | AS26: 12/12 | AT26: THPT | AU26: Thạc sỹ | AV26: =INDEX([1]DATA!$W$10:$W$285,MATCH(B26,[1]DATA!$C$10:$C$285,0)) -> Thạc sĩ | AW26: =INDEX([1]DATA!$X$10:$X$285,MATCH(B26,[1]DATA!$C$10:$C$285,0)) -> Thiết bị mạng và nhà máy điện | AX26: Thiết bị, mạng và nhà máy điện | BB26: Chứng chỉ nghề bậc 3/7 | BC26: - BD Kiến thức quốc phòng và an ninh đối tượng 3 - BD GV chính | BD26: KSGD | BF26: 3/7a | BH26: =INDEX([1]DATA!$Z$10:$Z$285,MATCH(B26,[1]DATA!$C$10:$C$285,0)) -> Sơ cấp | BI26: Thạc sỹ | BJ26: Trung cấp | BL26: CBQL các Khoa, Phòng, Ban trường ÐH | BM26: B | BN26: Trình độ B (1998) | BQ26: B1 | BT26: =INDEX([1]DATA!$O$10:$O$285,MATCH(B26,[1]DATA!$C$10:$C$285,0)) -> V.07.01.03 | BU26: V.07.01.03 | BW26: 6 | BX26: 3.99 | CA26: 01/09/2017 | CV26: B1 | CW26: 1/44 | CX26: 2012
A27: 21 | B27: Huỳnh Ngọc Mai | C27: X | F27: X | G27: Nam | H27: =LEFT(L27,2) -> 09 | I27: =MID(L27,4,2) -> 04 | J27: =RIGHT(L27,4) -> 1972 | K27: Sài Gòn | L27: 09/04/1972 | M27: Khoa Điện - Điện tử | O27: 023230246 | P27: 21/08/2009 | Q27: CA TPHCM | R27: Kinh | S27: Phật | U27: Phường An Khánh, Quận 2, Thành phố Hồ Chí Minh | V27: 395/2 Tân Thới Hiệp 21, Tổ 19, KP1, P.Tân Thới Hiệp, Q.12 | X27: 0908155383 | Y27: huynhngocmailtt@gmail.com | Z27: 0296241665 | AB27: 18/05/1996 | AC27: Sở GDĐT TPHCM | AD27: 18/05/1996 | AE27: Biên chế | AG27: 18/05/1996 | AH27: Phó Trưởng Khoa | AI27: - Trưởng Bộ môn - Phó Trưởng Khoa | AJ27: 0.25 0.35 | AK27: - 01/09/2015 - 10/06/2019 | AP27: 01/04/2009 | AQ27: X | AS27: 12/12 | AT27: THPT | AU27: Thạc sỹ | AV27: =INDEX([1]DATA!$W$10:$W$285,MATCH(B27,[1]DATA!$C$10:$C$285,0)) -> Thạc sĩ | AW27: =INDEX([1]DATA!$X$10:$X$285,MATCH(B27,[1]DATA!$C$10:$C$285,0)) -> Tự động hóa | AX27: Tự động hoá | BB27: SP Bậc 2 - Chứng chỉ nghề bậc 3/7 | BC27: - BD GV chính | BD27: ĐHSPKT | BF27: 3/7 | BH27: =INDEX([1]DATA!$Z$10:$Z$285,MATCH(B27,[1]DATA!$C$10:$C$285,0)) -> Sơ cấp | BI27: Thạc sỹ | BJ27: Trung cấp | BM27: ĐH | BN27: Đại học | BQ27: A2 | BT27: =INDEX([1]DATA!$O$10:$O$285,MATCH(B27,[1]DATA!$C$10:$C$285,0)) -> V.07.01.03 | BU27: V.07.01.03 | BV27: 18/05/1998 | BW27: 9 | BX27: 4.98 | BY27: 01/05/2017 | CA27: 01/05/2017 | CB27: 21% | CC27: 01/05/2019 | CV27: B | CX27: 16/12/1997
A28: 22 | B28: Quách Minh Thử | C28: X | F28: X | G28: Nam | H28: =LEFT(L28,2) -> 14 | I28: =MID(L28,4,2) -> 05 | J28: =RIGHT(L28,4) -> 1979 | K28: Long Định - Bình Đại - Bến Tre | L28: 14/05/1979 | M28: Khoa Điện - Điện tử | O28: 024610718 | P28: 07/08/2006 | Q28: CA TPHCM | R28: Kinh | S28: Không | U28: Xã Long Định, Huyện Bình Đại, Tỉnh Bến Tre | V28: 11/31/10 KP3, đường Tân Thới Hiệp 08, Phường Tân Thới Hiệp, Quận 12 | X28: 0979701817 | Y28: thuquachminhlytc@gmail.com | Z28: 0206414708 | AB28: 01/09/2006 | AC28: Sở GDĐT TPHCM | AD28: 01/09/2006 | AE28: Hợp đồng không thời hạn | AG28: 01/09/2006 | AH28: Trưởng Bộ môn | AI28: Trưởng Bộ môn | AK28: 01/09/2015 | AS28: 12/12 | AT28: THPT | AU28: Thạc sỹ | AV28: =INDEX([1]DATA!$W$10:$W$285,MATCH(B28,[1]DATA!$C$10:$C$285,0)) -> Thạc sĩ | AW28: =INDEX([1]DATA!$X$10:$X$285,MATCH(B28,[1]DATA!$C$10:$C$285,0)) -> Thiết bị mạng và nhà máy điện | AX28: Thiết bị, mạng và nhà máy điện | BB28: SP Bậc 2 - Chứng chỉ nghề bậc 3/7 | BD28: ĐHSPKT | BF28: 3/7 | BH28: =INDEX([1]DATA!$Z$10:$Z$285,MATCH(B28,[1]DATA!$C$10:$C$285,0)) -> Sơ cấp | BI28: Thạc sỹ | BJ28: Trung cấp | BM28: UD CNTT CB | BN28: TH UDCB | BQ28: B1 | BT28: =INDEX([1]DATA!$O$10:$O$285,MATCH(B28,[1]DATA!$C$10:$C$285,0)) -> V.07.01.03 | BU28: V.07.01.03 | BW28: 5 | BX28: 3.66 | CA28: 01/09/2017 | CV28: B1 | CX28: 11/04/2012
A29: 23 | B29: Võ Cường | C29: X | F29: X | G29: Nam | H29: =LEFT(L29,2) -> 16 | I29: =MID(L29,4,2) -> 11 | J29: =RIGHT(L29,4) -> 1966 | K29: Thành phố Hồ Chí Minh | L29: 16/11/1966 | M29: Khoa Điện - Điện tử | O29: 079066001159 | P29: 12/04/2016 | Q29: CA TPHCM | R29: Kinh | S29: Phật | U29: Huyện Phú Vang, Tỉnh Thừa Thiên - Huế | V29: 512A C/c Gia Phú, P. Bình Hưng Hòa, Q. Bình Tân | X29: 0903634753 | Y29: mailboxcuong@gmail.com | Z29: 0202201604 | AB29: 01/09/2002 | AC29: Sở GDĐT TPHCM | AD29: 01/09/2002 | AE29: Biên chế | AG29: 01/09/2002 | AH29: Trưởng Bộ môn | AI29: Trưởng Bộ môn | AK29: 01/09/2015 | AS29: 12/12 | AT29: THPT | AU29: Thạc sỹ | AV29: =INDEX([1]DATA!$W$10:$W$285,MATCH(B29,[1]DATA!$C$10:$C$285,0)) -> Thạc sĩ | AW29: =INDEX([1]DATA!$X$10:$X$285,MATCH(B29,[1]DATA!$C$10:$C$285,0)) -> Kỹ thuật Cơ Điện tử | AX29: Kỹ thuật điện và điện tử | BB29: SP Bậc 2 | BC29: - BD GV chính | BD29: ĐHSPKT | BE29: Điện tử công nghiệp | BF29: 3 | BH29: =INDEX([1]DATA!$Z$10:$Z$285,MATCH(B29,[1]DATA!$C$10:$C$285,0)) -> Trung cấp | BI29: Thạc sỹ | BJ29: Trung cấp | BM29: UD CNTT CB | BN29: TH UDCB | BQ29: B1 | BT29: =INDEX([1]DATA!$O$10:$O$285,MATCH(B29,[1]DATA!$C$10:$C$285,0)) -> V.07.01.03 | BU29: V.07.01.03 | BW29: 6 | BX29: 3.99 | CA29: 01/09/2016 | CV29: B1 | CX29: 19/01/2013
A30: 24 | B30: Cao Văn Tuấn | C30: X | F30: X | G30: Nam | H30: =LEFT(L30,2) -> 02 | I30: =MID(L30,4,2) -> 12 | J30: =RIGHT(L30,4) -> 1988 | K30: Quảng Ngãi | L30: 02/12/1988 | M30: Khoa Điện - Điện tử | O30: 051088000077 | P30: 10/2/2017 | Q30: CA TPHCM | R30: Kinh | S30: Thiên chúa | U30: Xã Đức Minh, Huyện Mộ Đức, Tỉnh Quảng Ngãi | V30: 242/2/5 Bà Hom, Phường 13, Quận 6, TPHCM | X30: 0907907093 | Z30: #N/A | AB30: 01/04/2018 | AC30: Sở GDĐT TPHCM | AD30: 01/4/2018 | AE30: Hợp đồng không thời hạn | AG30: 01/4/2018 | AH30: Giảng viên | AS30: THPT | AT30: 12/12 | AU30: Thạc sỹ | AV30: =INDEX([1]DATA!$W$10:$W$285,MATCH(B30,[1]DATA!$C$10:$C$285,0)) -> Thạc sĩ | AW30: =INDEX([1]DATA!$X$10:$X$285,MATCH(B30,[1]DATA!$C$10:$C$285,0)) -> Kỹ thuật điện | AX30: Kỹ thuật điện | BB30: NVSP dành cho GV CĐ, ĐH | BC30: - BD GV chính | BD30: NVSP dành cho GV CĐ, ĐH | BF30: 3/7a | BH30: =INDEX([1]DATA!$Z$10:$Z$285,MATCH(B30,[1]DATA!$C$10:$C$285,0)) | BI30: Thạc sỹ | BM30: UD CNTT CB | BN30: TH UDCB | BQ30: B1 | BT30: =INDEX([1]DATA!$O$10:$O$285,MATCH(B30,[1]DATA!$C$10:$C$285,0)) -> V.07.01.03 | BU30: V.07.01.03 | BV30: 01/04/2019 | BW30: 2 | BX30: 2.67 | BY30: 01/04/2019 | CA30: 01/04/2019 | CV30: B | CX30: 29/01/2016
A31: 25 | B31: Đặng Đức Minh | C31: X | F31: X | G31: Nam | H31: =LEFT(L31,2) -> 10 | I31: =MID(L31,4,2) -> 06 | J31: =RIGHT(L31,4) -> 1974 | K31: Hà Nội | L31: 10/06/1974 | M31: Khoa Điện - Điện tử | O31: 022765460 | P31: 18/08/2009 | Q31: CA TPHCM | R31: Kinh | S31: Không | U31: Xã Phổ Ninh, Huyện Đức Phổ, Tỉnh Quảng Ngãi | V31: 25 Cư xá Nguyễn Cảnh Chân, P Nguyễn Cư Trinh, Q1 | X31: 0989212633 | Z31: 0203318105 | AB31: 01/09/2003 | AC31: Sở GDĐT TPHCM | AD31: 01/09/2003 | AE31: Biên chế | AG31: 01/09/2003 | AH31: Giảng viên | AS31: 12/12 | AT31: THPT | AU31: Thạc sỹ | AV31: =INDEX([1]DATA!$W$10:$W$285,MATCH(B31,[1]DATA!$C$10:$C$285,0)) -> Thạc sĩ | AW31: =INDEX([1]DATA!$X$10:$X$285,MATCH(B31,[1]DATA!$C$10:$C$285,0)) -> Kỹ thuật điện tử | AX31: Kỹ thuật điện tử | BB31: - SP Bậc 2 - Chứng chỉ nghề bậc 5/7 | BC31: - BD GV chính | BD31: ĐH SPKT | BF31: 5/7 | BH31: =INDEX([1]DATA!$Z$10:$Z$285,MATCH(B31,[1]DATA!$C$10:$C$285,0)) -> Sơ cấp | BI31: Thạc sỹ | BJ31: Sơ cấp | BM31: B | BN31: Trình độ B | BQ31: B1 | BT31: =INDEX([1]DATA!$O$10:$O$285,MATCH(B31,[1]DATA!$C$10:$C$285,0)) -> V.07.01.03 | BU31: V.07.01.03 | BW31: 6 | BX31: 3.99 | CA31: 01/09/2017 | CV31: B1 | CX31: 03/10/2013
A32: 26 | B32: Đỗ Huỳnh Thanh Phong | C32: X | F32: X | G32: Nam | H32: =LEFT(L32,2) -> 02 | I32: =MID(L32,4,2) -> 02 | J32: =RIGHT(L32,4) -> 1983 | K32: Bến Tre | L32: 02/02/1983 | M32: Khoa Điện - Điện tử | O32: 025764174 | P32: 22/05/2013 | Q32: CA TPHCM | R32: Kinh | S32: Không | U32: Phường 7, Thành phố Mỹ Tho, Tỉnh Tiền Giang | V32: 08 Hiền Vương, Phú Thạnh, Tân Phú, TPHCM | X32: 0937 365 910 | Y32: thanhphong20082008@yahoo.com.vn | Z32: 7911094452 | AB32: 01/09/2010 | AC32: Sở GDĐT TPHCM | AD32: 01/09/2010 | AE32: Hợp đồng không thời hạn | AG32: 01/09/2010 | AH32: Giảng viên | AS32: 12/12 | AT32: THPT | AU32: Thạc sỹ | AV32: =INDEX([1]DATA!$W$10:$W$285,MATCH(B32,[1]DATA!$C$10:$C$285,0)) -> Thạc sĩ | AW32: =INDEX([1]DATA!$X$10:$X$285,MATCH(B32,[1]DATA!$C$10:$C$285,0)) -> Kỹ thuật điện | AX32: Kỹ thuật điện | BB32: SP Bậc 2 - Chứng chỉ nghề bậc 3/7 | BC32: - BD GV chính | BD32: ĐHSPKT | BF32: 3/7 | BH32: =INDEX([1]DATA!$Z$10:$Z$285,MATCH(B32,[1]DATA!$C$10:$C$285,0)) -> Sơ cấp | BI32: Thạc sỹ | BJ32: Sơ cấp | BM32: UD CNTT CB | BN32: TH UDCB | BQ32: B1 | BT32: =INDEX([1]DATA!$O$10:$O$285,MATCH(B32,[1]DATA!$C$10:$C$285,0)) -> V.07.01.03 | BU32: V.07.01.03 | BW32: 3 | BX32: 3 | CA32: 01/09/2017 | CV32: B1 | CX32: 28/08/2012
A33: 27 | B33: Lê Thế Huân | C33: X | F33: X | G33: Nam | H33: =LEFT(L33,2) -> 23 | I33: =MID(L33,4,2) -> 08 | J33: =RIGHT(L33,4) -> 1965 | K33: TPHCM | L33: 23/08/1965 | M33: Khoa Điện - Điện tử | O33: 021710558 | P33: 16/12/2003 | Q33: CA TPHCM | R33: Kinh | S33: Phật | U33: Quận Hải An, Thành phố Hải Phòng | V33: 453/25 Nguyễn Kiệm, P9, Q.Phú Nhuận | X33: 0985956872 | Y33: thehuanle@gmail.com | Z33: 0203318109 | AB33: 01/09/2003 | AC33: Sở GDĐT TPHCM | AD33: 01/09/2003 | AE33: Biên chế | AG33: 01/09/2003 | AH33: Giảng viên | AS33: 12/12 | AT33: THPT | AU33: Đại học | AV33: =INDEX([1]DATA!$W$10:$W$285,MATCH(B33,[1]DATA!$C$10:$C$285,0)) -> Đại học | AW33: =INDEX([1]DATA!$X$10:$X$285,MATCH(B33,[1]DATA!$C$10:$C$285,0)) -> Điện khí hóa và cung cấp điện | AX33: Điện khí hóa và cung cấp điện | BB33: Chứng chỉ nghề bậc 3/7 | BC33: - BD GV chính | BD33: KSGD | BF33: 3/7 | BH33: =INDEX([1]DATA!$Z$10:$Z$285,MATCH(B33,[1]DATA!$C$10:$C$285,0)) -> Sơ cấp | BI33: Đại học | BJ33: Sơ cấp | BM33: UD CNTT CB | BN33: TH UDCB | BQ33: A2 | BT33: =INDEX([1]DATA!$O$10:$O$285,MATCH(B33,[1]DATA!$C$10:$C$285,0)) -> V.07.01.03 | BU33: V.07.01.03 | BW33: 5 | BX33: 3.66 | CA33: 01/09/2016 | CV33: B (2019) | CX33: 07/05/2019
A34: 28 | B34: Lê Tiến Đạt | C34: X | F34: X | G34: Nam | H34: =LEFT(L34,2) -> 13 | I34: =MID(L34,4,2) -> 03 | J34: =RIGHT(L34,4) -> 1976 | K34: Đồng Nai | L34: 13/03/1976 | M34: Khoa Điện - Điện tử | O34: 022999157 | P34: 14/01/2005 | Q34: CA.TPHCM | R34: Kinh | S34: Thiên chúa | U34: Tỉnh Hà Nam | V34: 453/47 KA Lê Văn Sĩ, P12, Q3 | X34: 0909888219 | Z34: 0203318106 | AB34: 01/09/2003 | AC34: Sở GDĐT TPHCM | AD34: 01/09/2003 | AE34: Biên chế | AG34: 01/09/2003 | AH34: Giảng viên | AS34: 12/12 | AT34: THPT | AU34: Thạc sỹ | AV34: =INDEX([1]DATA!$W$10:$W$285,MATCH(B34,[1]DATA!$C$10:$C$285,0)) -> Thạc sĩ | AW34: =INDEX([1]DATA!$X$10:$X$285,MATCH(B34,[1]DATA!$C$10:$C$285,0)) -> Kỹ thuật Điều khiển và Tự động hóa | AX34: Kỹ thuật điều khiển và Tự động hóa | BB34: SP Bậc 2 - Chứng chỉ nghề bậc 3/7 | BC34: - BD GV chính | BD34: ĐHSPKT | BF34: 3/7 | BH34: =INDEX([1]DATA!$Z$10:$Z$285,MATCH(B34,[1]DATA!$C$10:$C$285,0)) | BI34: Thạc sỹ | BM34: UD CNTT CB | BN34: UD CNTT CB | BQ34: B1 | BT34: =INDEX([1]DATA!$O$10:$O$285,MATCH(B34,[1]DATA!$C$10:$C$285,0)) -> V.07.01.03 | BU34: V.07.01.03 | BW34: 6 | BX34: 3.99 | CA34: 01/09/2017 | CV34: B | CX34: 11/10/2019
A35: 29 | B35: Mạnh Lê Hoàn | C35: X | F35: X | G35: Nam | H35: =LEFT(L35,2) -> 14 | I35: =MID(L35,4,2) -> 10 | J35: =RIGHT(L35,4) -> 1979 | K35: Phú Yên | L35: 14/10/1979 | M35: Khoa Điện - Điện tử | O35: 023205612 | P35: 23/03/2008 | Q35: CA TPHCM | R35: Kinh | S35: Không | U35: Huyện Đồng Xuân, Tỉnh Phú Yên | V35: 200/41 Hoàng Hoa Thám P5, Q.Bình Thạnh | X35: 01272777707 | Y35: manhlehoan@gmail.com | Z35: #N/A | AB35: 01/09/2003 | AC35: Sở GDĐT TPHCM | AD35: 18/07/2007 | AE35: Biên chế | AG35: 31/08/2004 | AH35: Giảng viên | AS35: 12/12 | AT35: THPT | AU35: Thạc sỹ | AV35: =INDEX([1]DATA!$W$10:$W$285,MATCH(B35,[1]DATA!$C$10:$C$285,0)) -> Thạc sĩ | AW35: =INDEX([1]DATA!$X$10:$X$285,MATCH(B35,[1]DATA!$C$10:$C$285,0)) -> Kỹ thuật điều khiển và Tự động hóa | AX35: Kỹ thuật điều khiển và Tự động hóa | BB35: LLDH & GD Sư phạm dạy nghề Chứng chỉ nghề bậc 3/7 | BD35: Sư phạm dạy nghề | BF35: 3/7 | BH35: =INDEX([1]DATA!$Z$10:$Z$285,MATCH(B35,[1]DATA!$C$10:$C$285,0)) | BI35: Thạc sỹ | BQ35: B1 | BT35: =INDEX([1]DATA!$O$10:$O$285,MATCH(B35,[1]DATA!$C$10:$C$285,0)) -> V.07.01.03 | BU35: V.07.01.03 | BW35: 5 | BX35: 3.66 | CA35: 01/09/2016 | CV35: B1 | CX35: 17/04/2002
A36: 30 | B36: Ngô Hoàng Anh | C36: X | F36: X | G36: Nam | H36: =LEFT(L36,2) -> 20 | I36: =MID(L36,4,2) -> 10 | J36: =RIGHT(L36,4) -> 1976 | K36: Quảng Hoà - Quảng Trạch - Quảng Bình | L36: 20/10/1976 | M36: Khoa Điện - Điện tử | O36: 024951998 | P36: 10/01/2009 | Q36: CA. TPHCM | R36: Kinh | S36: Không | U36: Xã Quảng Hòa, Huyện Quảng Trạch, Tỉnh Quảng Bình | V36: 51 Đường số 6, P. Bình An, Q.2 | X36: 0903966016 | Y36: thshoanganh@gmail.com | Z36: 0201155205 | AB36: 01/09/2001 | AC36: Sở GDĐT TPHCM | AD36: 01/09/2000 | AE36: Biên chế | AG36: 01/09/2000 | AH36: Giảng viên | AS36: 12/12 | AT36: THPT | AU36: Thạc sỹ | AV36: =INDEX([1]DATA!$W$10:$W$285,MATCH(B36,[1]DATA!$C$10:$C$285,0)) -> Thạc sĩ | AW36: =INDEX([1]DATA!$X$10:$X$285,MATCH(B36,[1]DATA!$C$10:$C$285,0)) -> Thiết bị, mạng và nhà máy Điện | AX36: Thiết bị, mạng và nhà máy điện | BB36: SP Bậc 2 - Chứng chỉ nghề bậc 3/7 | BD36: ĐHSPKT | BF36: 3/7 | BH36: =INDEX([1]DATA!$Z$10:$Z$285,MATCH(B36,[1]DATA!$C$10:$C$285,0)) -> Sơ cấp | BI36: Thạc sỹ | BJ36: Sơ cấp | BM36: UD CNTT CB | BN36: TH UDCB | BQ36: A2 | BT36: =INDEX([1]DATA!$O$10:$O$285,MATCH(B36,[1]DATA!$C$10:$C$285,0)) -> V.07.01.03 | BU36: V.07.01.03 | BW36: 6 | BX36: 3.99 | CA36: 01/09/2016 | CV36: B | CX36: 20/06/2000
A37: 31 | B37: Ngô Phong Cường | C37: X | F37: X | G37: Nam | H37: =LEFT(L37,2) -> 20 | I37: =MID(L37,4,2) -> 09 | J37: =RIGHT(L37,4) -> 1968 | K37: Thừa Thiên Huế | L37: 20/09/1968 | M37: Khoa Điện - Điện tử | O37: 046068000245 | P37: 06/02/2018 | Q37: Cục Cảnh sát Đăng ký quản lý cư trú | R37: Kinh | S37: Không | U37: Huyện Hương Thủy, Tỉnh Thừa Thiên - Huế | V37: 737/46 Lạc Long Quân, Phường 10, Quận Tân Bình, TPHCM | X37: 0918196341 | Y37: phongcuong04@yahoo.com.vn | Z37: 0204124288 | AB37: 01/09/2007 | AC37: Sở GDĐT TPHCM | AD37: 01/09/2007 | AE37: Hợp đồng không thời hạn | AG37: 01/09/2007 | AH37: Giảng viên | AS37: 12/12 | AT37: THPT | AU37: Thạc sỹ | AV37: =INDEX([1]DATA!$W$10:$W$285,MATCH(B37,[1]DATA!$C$10:$C$285,0)) -> Thạc sĩ | AW37: =INDEX([1]DATA!$X$10:$X$285,MATCH(B37,[1]DATA!$C$10:$C$285,0)) -> Kỹ thuật Cơ Điện tử | AX37: Kỹ thuật Cơ Điện tử | BB37: SP Bậc 2 - Chứng chỉ nghề bậc 3/7 | BD37: ĐHSPKT | BF37: 3/7 | BH37: =INDEX([1]DATA!$Z$10:$Z$285,MATCH(B37,[1]DATA!$C$10:$C$285,0)) -> Sơ cấp | BI37: Thạc sỹ | BJ37: Sơ cấp | BM37: UD CNTT CB | BN37: UD CNTT CB | BQ37: B1 | BT37: =INDEX([1]DATA!$O$10:$O$285,MATCH(B37,[1]DATA!$C$10:$C$285,0)) -> V.07.01.03 | BU37: V.07.01.03 | BW37: 5 | BX37: 3.66 | CA37: 01/12/2018 | CV37: B1 | CX37: 19/01/2013
A38: 32 | B38: Nguyễn Anh Tăng | C38: X | F38: X | G38: Nam | H38: =LEFT(L38,2) -> 31 | I38: =MID(L38,4,2) -> 08 | J38: =RIGHT(L38,4) -> 1967 | K38: TPHCM | L38: 31/08/1967 | M38: Khoa Điện - Điện tử | O38: 023624194 | P38: 19/03/2013 | Q38: CA TPHCM | R38: Kinh | S38: Không | U38: Xã Đại Hòa, Huyện Đại Lộc, Tỉnh Quảng Nam | V38: 350/18/46 Lê Đức Thọ, Phường 6, Quận Gò Vấp, TPHCM | X38: 0916675678 | Y38: nguyenanhtang@yahoo.com | Z38: 0201155204 | AB38: 01/09/2001 | AC38: Sở GDĐT TPHCM | AD38: 01/09/2001 | AE38: Biên chế | AG38: 01/09/2001 | AH38: Giảng viên | AS38: 12/12 | AT38: THPT | AU38: Thạc sỹ | AV38: =INDEX([1]DATA!$W$10:$W$285,MATCH(B38,[1]DATA!$C$10:$C$285,0)) -> Thạc sĩ | AW38: =INDEX([1]DATA!$X$10:$X$285,MATCH(B38,[1]DATA!$C$10:$C$285,0)) -> Mạng và hệ thống điện | AX38: Mạng và hệ thống điện | BB38: SP Bậc 2 - Chứng chỉ nghề bậc 3/7 | BC38: - BD GV chính | BD38: ĐHSPKT | BF38: 3/7 | BH38: =INDEX([1]DATA!$Z$10:$Z$285,MATCH(B38,[1]DATA!$C$10:$C$285,0)) -> Sơ cấp | BI38: Thạc sỹ | BJ38: Sơ cấp | BM38: UD CNTT CB | BN38: TH UDCB | BQ38: B2 | BS38: B2 | BT38: =INDEX([1]DATA!$O$10:$O$285,MATCH(B38,[1]DATA!$C$10:$C$285,0)) -> V.07.01.03 | BU38: V.07.01.03 | BW38: 7 | BX38: 4.32 | CA38: 01/09/2018 | CV38: - C - Toeic 625 | CX38: 24/02/2019
A39: 33 | B39: Nguyễn Hồng Đức | C39: X | F39: X | G39: Nam | H39: =LEFT(L39,2) -> 21 | I39: =MID(L39,4,2) -> 02 | J39: =RIGHT(L39,4) -> 1971 | K39: Sai gon | L39: 21/02/1971 | M39: Khoa Điện - Điện tử | O39: 022228240 | P39: 09/08/2005 | Q39: CA TPHCM | R39: Kinh | S39: Không | U39: Xã Bình Phú, Huyện Cai Lậy, Tỉnh Tiền Giang | V39: 219/3/1 Lê Quang Định, P7, Bình Thạnh | X39: 0903833923 | Y39: hongduc2102@yahoo.com | Z39: 0296241670 | AB39: 01/01/1996 | AC39: Sở GDĐT TPHCM | AD39: 31/12/1990 | AE39: Biên chế | AG39: 30/12/1990 | AH39: Giảng viên | AS39: 12/12 | AT39: THPT | AU39: Đại học | AV39: =INDEX([1]DATA!$W$10:$W$285,MATCH(B39,[1]DATA!$C$10:$C$285,0)) -> Kỹ sư | AW39: =INDEX([1]DATA!$X$10:$X$285,MATCH(B39,[1]DATA!$C$10:$C$285,0)) -> Điện công nghiệp | AX39: Điện công nghiệp | BB39: SP Bậc 2 - Chứng chỉ nghề bậc 3/7 | BC39: - BV GV chính | BD39: ĐHSPKT | BF39: 3/7 | BH39: =INDEX([1]DATA!$Z$10:$Z$285,MATCH(B39,[1]DATA!$C$10:$C$285,0)) -> Sơ cấp | BI39: Đại học | BJ39: Sơ cấp | BM39: UD CNTT CB | BN39: TH UDCB | BQ39: A2 | BT39: =INDEX([1]DATA!$O$10:$O$285,MATCH(B39,[1]DATA!$C$10:$C$285,0)) -> V.07.01.03 | BU39: V.07.01.03 | BW39: 9 | BX39: 4.98 | BY39: 01/01/2019 | BZ39: 7% | CA39: 01/01/2019 | CV39: B (2019) | CX39: 07/05/2019
A40: 34 | B40: Nguyễn Minh Đức | C40: X | F40: X | G40: Nam | H40: =LEFT(L40,2) -> 19 | I40: =MID(L40,4,2) -> 02 | J40: =RIGHT(L40,4) -> 1960 | K40: Đà Lạt | L40: 19/02/1960 | M40: Khoa Điện - Điện tử | O40: 068060000066 | P40: 05/01/2019 | Q40: Cục Cảnh sát Đăng ký quản lý cư trú | R40: Kinh | S40: Thiên chúa | U40: Huyện Lương Tài, Tỉnh Bắc Ninh | V40: 438 Điện Biên Phủ, P17, Bình Thạnh | X40: 0908 042 421 | Y40: nguyenminh_do@yahoo.com | Z40: #N/A | AB40: 01/10/1987 | AC40: Sở GDĐT TPHCM | AD40: 01/10/1987 | AE40: Biên chế | AG40: 01/10/1987 | AH40: Giảng viên | AS40: 12/12 | AT40: THPT | AU40: Đại học | AX40: Điện tử công nghiệp | BB40: Chứng chỉ nghề bậc 3/7 | BD40: KSGD | BF40: THCN | BH40: =INDEX([1]DATA!$Z$10:$Z$285,MATCH(B40,[1]DATA!$C$10:$C$285,0)) -> Sơ cấp | BI40: Đại học | BJ40: Sơ cấp | BM40: UD CNTT CB | BN40: TH UDCB | BQ40: A2 | BT40: =INDEX([1]DATA!$O$10:$O$285,MATCH(B40,[1]DATA!$C$10:$C$285,0)) -> V.07.01.03 | BU40: V.07.01.03 | BW40: 9 | BX40: 4.98 | BZ40: 12 | CA40: 01/10/2018 | CV40: B | CX40: 09/05/1994
A41: 35 | B41: Nguyễn Minh Đức | C41: X | F41: X | G41: Nam | H41: =LEFT(L41,2) -> 03 | I41: =MID(L41,4,2) -> 12 | J41: =RIGHT(L41,4) -> 1966 | K41: Gia Định | L41: 03/12/1966 | M41: Khoa Điện - Điện tử | O41: 021684792 | P41: 27/05/2015 | Q41: CA TPHCM | R41: Kinh | S41: Thiên chúa | U41: Huyện Lương Tài, Tỉnh Bắc Ninh | V41: 511/6 Tổ 115, Đường Thống Nhất, Phường 16, Quận Gò Vấp, TPHCM | X41: 0988896877 | Y41: ducsavie2003@yahoo.com | Z41: #N/A | AB41: 01/09/1998 | AC41: Sở GDĐT TPHCM | AD41: 01/09/1998 | AE41: Biên chế | AG41: 01/09/1998 | AH41: Giảng viên | AS41: 12/12 | AT41: THPT | AU41: Đại học | AX41: Điều khiển tự động | BB41: - Sư phạm dạy nghề - Chứng chỉ nghề bậc 3/7 | BD41: Sư phạm dạy nghề | BF41: 3/7 | BH41: =INDEX([1]DATA!$Z$10:$Z$285,MATCH(B41,[1]DATA!$C$10:$C$285,0)) -> Sơ cấp | BI41: Đại học | BJ41: Sơ cấp | BM41: UD CNTT CB | BN41: TH UDCB | BQ41: B1 | BT41: =INDEX([1]DATA!$O$10:$O$285,MATCH(B41,[1]DATA!$C$10:$C$285,0)) -> V.07.01.03 | BU41: V.07.01.03 | BW41: 8 | BX41: 4.65 | CA41: 01/10/2016 | CV41: Trung cấp - B(2019) | CX41: 07/05/2019
A42: 36 | B42: Nguyễn Minh Đức Cường | C42: X | F42: X | G42: Nam | H42: =LEFT(L42,2) -> 19 | I42: =MID(L42,4,2) -> 01 | J42: =RIGHT(L42,4) -> 1985 | K42: Kiên Giang | L42: 19/01/1985 | M42: Khoa Điện - Điện tử | O42: 025633696 | P42: 20/06/2012 | Q42: CA. TPHCM | R42: Kinh | S42: Thiên chúa | U42: Quận 3, Thành phố Hồ Chí Minh | V42: 10/6A ấp Mỹ Hòa 3, xã Tân Xuân, huyện Hóc Môn, TPHCM | X42: 0988847874 | Y42: duccuong852002@yahoo.com | Z42: 7911094459 | AB42: 01/09/2010 | AC42: Sở GDĐT TPHCM | AD42: 01/09/2010 | AE42: Hợp đồng không thời hạn | AG42: 01/09/2010 | AH42: Giảng viên | AS42: 12/12 | AT42: THPT | AU42: Thạc sỹ | AV42: =INDEX([1]DATA!$W$10:$W$285,MATCH(B42,[1]DATA!$C$10:$C$285,0)) -> Thạc sĩ | AW42: =INDEX([1]DATA!$X$10:$X$285,MATCH(B42,[1]DATA!$C$10:$C$285,0)) -> Kỹ thuật Điện | AX42: Kỹ thuật điện | BB42: SP Bậc 2 - Chứng chỉ nghề bậc 3/7 | BC42: - BD GV chính | BD42: ĐHSPKT | BF42: 3/7 | BH42: =INDEX([1]DATA!$Z$10:$Z$285,MATCH(B42,[1]DATA!$C$10:$C$285,0)) -> Sơ cấp | BI42: Thạc sỹ | BJ42: Trung cấp | BM42: UD CNTT CB | BN42: TH UDCB | BQ42: B1 | BT42: =INDEX([1]DATA!$O$10:$O$285,MATCH(B42,[1]DATA!$C$10:$C$285,0)) -> V.07.01.03 | BU42: V.07.01.03 | BW42: 3 | BX42: 3 | CA42: 01/09/2017 | CV42: B1 | CX42: 28/08/2012
...

Sheet GV TOAN TRUONG (2)
A1: UBND THÀNH PHỐ HỒ CHÍ MINH TRƯỜNG CAO ĐẲNG LÝ TỰ TRỌNG THÀNH PHỐ HỒ CHÍ MINH | BB1: CỘNG HÒA XÃ HỘI CHỦ NGHĨA VIỆT NAM Độc lập - Tự do - Hạnh phúc
A3: DANH SÁCH THỐNG KÊ CHUẨN CHUYÊN MÔN NGHIỆP VỤ CỦA NHÀ GIÁO
A5: STT | B5: Họ tên | C5: GV | D5: NV | E5: kiêm chức | F5: GV + kiêm chức | G5: Giới tính | H5: Ngày sinh | I5: Tháng sinh | J5: Năm sinh | K5: Nơi sinh | L5: Ngày/tháng/năm sinh | M5: Đơn vị | N5: Số hiệu công chức | O5: Số chứng mình nhân dân | P5: Ngày cấp Chứng minh nhân dân | Q5: Nơi cấp chứng minh nhân dân | R5: Dân tộc | S5: Tôn giáo | T5: Quốc tịch | U5: Quê quán | V5: Địa chỉ thường trú | W5: Nơi ở hiện nay | X5: Điện thoại DD | Y5: Email | Z5: Số sổ bảo hiểm xã hội | AA5: Ngày hợp đồng | AB5: Ngày tuyển dụng | AC5: Cơ quan tuyển dụng | AD5: Ngày về cơ quan hiện nay | AE5: Thuộc loại cán bộ | AF5: Công việc hiện nay | AG5: Ngày vào ngành giáo dục | AH5: Chức vụ/ Chức danh hiện tại (công thức) | AI5: Chức vụ/ Chức danh hiện tại | AJ5: Hệ số phụ cấp chức vụ | AK5: Ngày bổ nhiệm chức vụ hiện tại | AL5: Lần bổ nhiệm | AM5: Chức vụ CQ kiêm nhiệm | AN5: Chức vụ CQ cao nhất đã qua | AO5: Ngày vào đảng | AP5: Ngày vào đảng chính thức | AQ5: Đảng viên (công thức) | AR5: Chức vụ Đảng hiện tại | AS5: Học vấn phổ thông | AT5: Đã tốt nghiệp | AU5: Trình độ chuyên môn cao nhất | AV5: (Ẩn) | AW5: Chuyên ngành đào tạo (Ẩn) | AX5: Chuyên ngành đào tạo | AY5: Nơi đào tạo | AZ5: Hình thức đào tạo | BA5: Năm tốt nghiệp | BB5: Chứng chỉ bồi dưỡng nghiệp vụ | BC5: Chứng chỉ khác | BD5: (Ẩn) | BE5: Kỹ năng nghề quốc gia | BF5: Bậc | BG5: Trình độ chuẩn | BH5: Trình độ lý luận chính trị (Ẩn) | BI5: Trình độ chuyên môn cao nhất | BJ5: Trình độ lý luận chính trị | BK5: Trình độ quản lý nhà nước | BL5: Trình độ quản lý giáo dục | BM5: Trình độ tin học | BN5: Trình độ tin học | BO5: Trình độ IC3 | BP5: Ngoại ngữ | BQ5: Trình độ ngoại ngữ | BR5: Nơi cấp CC Ngoại ngữ | BS5: Theo khung NLNN 6 bậc | BT5: (Ẩn) | BU5: Ngạch công chức | BV5: Ngày bổ nhiệm vào ngạch | BW5: Bậc lương | BX5: Hệ số lương | BY5: Hưởng lương từ ngày | BZ5: % phụ cấp thâm niên vượt khung | CA5: Mốc tính lương lần sau | CB5: Phụ cấp thâm niên nghề nghiệp (%) | CC5: Ngày hưởng pc thâm niên nghề | CD5: Chênh lệch bảo lưu lương | CE5: Phụ cấp ưu đãi(%) | CF5: Hệ số phụ cấp khu vực | CG5: Phụ cấp đặc biệt(%) | CH5: Hệ số phụ cấp lưu động | CI5: Phụ cấp kiêm nhiệm(%) | CJ5: Phụ cấp thu hút(%) | CK5: Hệ số phụ cấp độc hại nguy hiểm | CL5: Phụ cấp đặc thù(%) | CM5: Hệ số phụ cấp trách nhiệm | CN5: Hệ số phụ cấp khác | CO5: Phụ cấp công vụ (%) | CP5: Trừ Bảo hiểm thất nghiệp | CQ5: 85% (thử việc) | CR5: Tột khung | CS5: Ngày nghỉ việc | CT5: Lý do nghỉ việc | CU5: Ghi chú | CV5: Trình độ ngoại ngữ | CW5: CHƯA ĐỦ CHUẨN | CX5: GV dạy nghề | CY5: GV dạy các nghề trọng điểm | CZ5: Ngày vào ngành giáo dục | DA5: Ngày về cơ quan hiện nay | DB5: Công tác tại doanh nghiệp | DC5: Link minh chứng
A6: 01 | B6: 02 | L6: 03 | M6: 04 | AU6: 05 | AX6: 06 | BB6: 07 | BM6: 08 | BQ6: 09 | CX6: 10 | CY6: 11 | DB6: 10
A7: 01 | B7: Nguyễn Anh Tuấn | C7: X | F7: X | G7: Nam | H7: =LEFT(L7,2) -> 06 | I7: =MID(L7,4,2) -> 11 | J7: =RIGHT(L7,4) -> 1981 | K7: TP.HCM | L7: 06/11/1981 | M7: Khoa Động lực | O7: 079081001334 | P7: 27/04/2016 | Q7: Cục cảnh sát đăng ký quản lý cư trú | R7: Kinh | S7: Không | U7: Thành phố Hồ Chí Minh | V7: 95 Rạch Cát, Bến Lức, P7, Q8 | X7: 0903660165 | Y7: anhtuanspkt@gmail.com | Z7: 0205363670 | AB7: 01/09/2005 | AC7: Sở GDĐT TPHCM | AD7: 01/09/2005 | AE7: Hợp đồng không thời hạn | AG7: 01/09/2005 | AH7: Trưởng Khoa | AI7: Trưởng Khoa | AK7: 01/08/2015 | AS7: 12/12 | AT7: THPT | AU7: Tiến sỹ | AV7: =INDEX([1]DATA!$W$10:$W$285,MATCH(B7,[1]DATA!$C$10:$C$285,0)) -> Tiến sĩ | AW7: =INDEX([1]DATA!$X$10:$X$285,MATCH(B7,[1]DATA!$C$10:$C$285,0)) -> Kỹ thuật Cơ khí Động lực | AX7: Kỹ thuật Cơ khí động lực | AY7: - Trường ĐH GTVT - Trường ĐH Hàng Hải Việt Nam | BB7: SP Bậc 2 - Chứng chỉ nghề bậc 3/7 - NVSP cho GV ĐH, CĐ | BC7: - Bồi dưỡng CDNN giảng viên cao cấp (hạng I) - BD GV chính | BD7: - ĐHSPKT - Bậc 2 - NVSP dành cho GV CĐ, ĐH | BE7: Nghề Công nghệ Ô tô | BF7: 3 | BH7: =INDEX([1]DATA!$Z$10:$Z$285,MATCH(B7,[1]DATA!$C$10:$C$285,0)) -> Trung cấp | BI7: - Tiến sỹ - Đại học | BJ7: Trung cấp | BL7: CBQL các Khoa, Phòng, Ban trường ÐH | BM7: UD CNTT CB | BN7: UD CNTT CB | BQ7: C1 | BT7: =INDEX([1]DATA!$O$10:$O$285,MATCH(B7,[1]DATA!$C$10:$C$285,0)) -> V.07.01.03 | BU7: V.07.01.03 | BW7: 6 | BX7: 3.99 | BY7: 01/09/2018 | CA7: 01/09/2018 | CV7: - B2 - Đại học | CW7: 3/19 | CX7: x | CY7: x | CZ7: 01/09/2005 | DA7: 01/09/2005 | DC7: DONG LUC\NGUYEN ANH TUAN.pdf | DD7: DONG LUC\NGUYEN ANH TUAN 3.pdf
A8: 02 | B8: Võ Đắc Thịnh | C8: X | F8: X | G8: Nam | H8: =LEFT(L8,2) -> 16 | I8: =MID(L8,4,2) -> 01 | J8: =RIGHT(L8,4) -> 1979 | K8: Thành phố Hồ Chí Minh | L8: 16/01/1979 | M8: Khoa Động lực | O8: 079079003245 | P8: 18/12/2018 | Q8: Cục cảnh sát đăng ký quản lý cư trú | R8: Kinh | S8: Không | U8: Tỉnh Bình Dương | V8: 204 Tầng 3 Lô G Chung cư Bàu Cát II, Phường 10, Quận Tân Bình, TPHCM | X8: 0903869052 | Y8: vodacthinhoto79@gmail.com | Z8: 0202201607 | AB8: 01/09/2002 | AC8: Sở GDĐT TPHCM | AD8: 01/09/2002 | AE8: Biên chế | AG8: 01/09/2002 | AH8: Phó Trưởng Khoa | AI8: Phó Trưởng Khoa | AK8: 01/08/2015 | AP8: 20/12/2007 | AQ8: X | AS8: 12/12 | AT8: THPT | AU8: Thạc sỹ | AV8: =INDEX([1]DATA!$W$10:$W$285,MATCH(B8,[1]DATA!$C$10:$C$285,0)) -> Thạc sĩ | AW8: =INDEX([1]DATA!$X$10:$X$285,MATCH(B8,[1]DATA!$C$10:$C$285,0)) -> Kỹ thuật Ô tô, máy kéo | AX8: Kỹ thuật ô tô, máy kéo | BB8: SP Bậc 2 - Chứng chỉ nghề bậc 3/7 | BC8: - BD GV chính | BD8: ĐHSPKT | BE8: Nghề Công nghệ Ô tô | BF8: 3 | BH8: =INDEX([1]DATA!$Z$10:$Z$285,MATCH(B8,[1]DATA!$C$10:$C$285,0)) -> Trung cấp | BI8: Thạc sỹ | BJ8: Trung cấp | BL8: CBQL các Khoa, Phòng, Ban trường ÐH | BM8: UD CNTT CB | BN8: UD CNTT CB | BQ8: B1 | BT8: =INDEX([1]DATA!$O$10:$O$285,MATCH(B8,[1]DATA!$C$10:$C$285,0)) -> V.07.01.03 | BU8: V.07.01.03 | BW8: 7 | BX8: 4.32 | BY8: 01/09/2018 | CA8: 01/09/2018 | CV8: B1 | CX8: x | CY8: x | CZ8: 01/09/2002 | DA8: 01/09/2002 | DC8: DONG LUC\VO DAC THINH.pdf | DD8: DONG LUC\VO DAC THINH 3.pdf
A9: 03 | B9: Hà Quốc Bảo | C9: X | F9: X | G9: Nam | H9: =LEFT(L9,2) -> 02 | I9: =MID(L9,4,2) -> 02 | J9: =RIGHT(L9,4) -> 1987 | K9: Kiên Giang | L9: 02/02/1987 | M9: Khoa Động lực | O9: 024578348 | P9: 11/08/2006 | Q9: CA. TPHCM | R9: Kinh | S9: Thiên chúa | U9: Tỉnh Thái Bình | V9: 114/34 Phú Thọ Hòa, P. Phú Thọ Hòa, Q. Tân Phú | X9: 0933651943 | Y9: haquocbao22@yahoo.com.vn | Z9: 7914159577 | AB9: 01/09/2013 | AC9: Sở GDĐT TPHCM | AD9: 01/09/2013 | AE9: Hợp đồng không thời hạn | AG9: 01/09/2013 | AH9: Trưởng Bộ môn | AI9: Trưởng bộ môn Điện ô tô | AK9: 01/01/2019 | AS9: 12/12 | AT9: THPT | AU9: Thạc sỹ | AV9: =INDEX([1]DATA!$W$10:$W$285,MATCH(B9,[1]DATA!$C$10:$C$285,0)) -> Thạc sĩ | AW9: =INDEX([1]DATA!$X$10:$X$285,MATCH(B9,[1]DATA!$C$10:$C$285,0)) -> Kỹ thuật Cơ khí Động lực | AX9: Kỹ thuật Cơ khí Động lực | BB9: SP Bậc 2 - Chứng chỉ nghề bậc 3/7 | BC9: - BD GV chính | BD9: ĐHSPKT | BF9: 3/7 | BH9: =INDEX([1]DATA!$Z$10:$Z$285,MATCH(B9,[1]DATA!$C$10:$C$285,0)) | BI9: Thạc sỹ | BM9: A | BN9: A | BQ9: B1 | BT9: =INDEX([1]DATA!$O$10:$O$285,MATCH(B9,[1]DATA!$C$10:$C$285,0)) -> V.07.01.03 | BU9: V.07.01.03 | BW9: 2 | BX9: 2.67 | CA9: 01/09/2016 | CV9: B1 | CX9: x | CY9: x | CZ9: 01/09/2013 | DA9: 01/09/2013 | DB9: 02/11-08/2013: Nhân viên CT TNHH XD TM Ô tô Đức Việt | DC9: DONG LUC\HA QUOC BAO.pdf | DD9: DONG LUC\HA QUOC BAO 3.pdf
A10: 04 | B10: Nguyễn Hữu Mạnh | C10: X | F10: X | G10: Nam | H10: =LEFT(L10,2) -> 04 | I10: =MID(L10,4,2) -> 03 | J10: =RIGHT(L10,4) -> 1980 | K10: Lào Cai | L10: 04/03/1980 | M10: Khoa Động lực | O10: 023655683 | P10: 26/06/2013 | Q10: CA TPHCM | R10: Kinh | S10: Không | U10: Xã An Quí, Huyện Quỳnh Phụ, Tỉnh Thái Bình | V10: 428 Hoàng Hữu Nam, KP Giãn Dân, phường Long Thạnh Mỹ, Q9 | X10: 0983888291 | Y10: manhnguyenckd@gmail.com | Z10: 0206414710 | AB10: 01/09/2006 | AC10: Sở GDĐT TPHCM | AD10: 01/09/2006 | AE10: Hợp đồng không thời hạn | AG10: 01/09/2006 | AH10: Trưởng Bộ môn | AI10: Trưởng Bộ môn | AK10: 01/09/2015 | AS10: 12/12 | AT10: THPT | AU10: - Thạc sỹ - Đại học | AV10: =INDEX([1]DATA!$W$10:$W$285,MATCH(B10,[1]DATA!$C$10:$C$285,0)) -> Thạc sĩ | AW10: =INDEX([1]DATA!$X$10:$X$285,MATCH(B10,[1]DATA!$C$10:$C$285,0)) -> Kỹ thuật Cơ khí Động lực | AX10: - Kỹ thuật Cơ khí Động lực - Ngôn ngữ Anh | BB10: SP Bậc 2 - Chứng chỉ nghề bậc 3/7 | BC10: - BD GV chính | BD10: ĐHSPKT | BF10: 3/7 | BH10: =INDEX([1]DATA!$Z$10:$Z$285,MATCH(B10,[1]DATA!$C$10:$C$285,0)) -> Sơ cấp | BI10: Thạc sỹ | BJ10: Trung cấp | BM10: B | BN10: Trình độ B (2004) | BQ10: C1 | BT10: =INDEX([1]DATA!$O$10:$O$285,MATCH(B10,[1]DATA!$C$10:$C$285,0)) -> V.07.01.03 | BU10: V.07.01.03 | BW10: 5 | BX10: 3.66 | CA10: 01/09/2018 | CV10: B1 | CX10: x | CY10: x | CZ10: 01/09/2006 | DA10: 01/09/2006 | DC10: DONG LUC\NGUYEN HUU MANH.pdf | DD10: DONG LUC\NGUYEN HUU MANH 3.pdf
A11: 05 | B11: Triệu Phú Nguyên | C11: X | F11: X | G11: Nam | H11: =LEFT(L11,2) -> 12 | I11: =MID(L11,4,2) -> 03 | J11: =RIGHT(L11,4) -> 1980 | K11: TPHCM | L11: 12/03/1980 | M11: Khoa Động lực | O11: 023523303 | P11: 18/04/2008 | Q11: CA TPHCM | R11: Hoa | S11: Không | U11: Trung Quốc | V11: 121A/13A Hậu Giang, P5, Q6 | X11: 0908368347 | Y11: nguyentrieuphu@yahoo.com | Z11: 7909078910 | AB11: 01/09/2008 | AC11: Sở GDĐT TPHCM | AD11: 01/09/2008 | AE11: Hợp đồng không thời hạn | AG11: 01/09/2008 | AH11: Trưởng Bộ môn | AI11: Trưởng Bộ môn | AK11: 01/12/2017 | AS11: 12/12 | AT11: THPT | AU11: Thạc sỹ | AV11: =INDEX([1]DATA!$W$10:$W$285,MATCH(B11,[1]DATA!$C$10:$C$285,0)) -> Thạc sĩ | AW11: =INDEX([1]DATA!$X$10:$X$285,MATCH(B11,[1]DATA!$C$10:$C$285,0)) -> Kỹ sư Cơ khí động lực | AX11: Kỹ thuật Cơ khí Động lực | BB11: SP Bậc 2 - Chứng chỉ nghề bậc 3/7 | BC11: - BD GV chính | BD11: ĐHSPKT | BF11: 3/7 | BH11: =INDEX([1]DATA!$Z$10:$Z$285,MATCH(B11,[1]DATA!$C$10:$C$285,0)) -> Sơ cấp | BI11: Thạc sỹ | BJ11: Trung cấp | BM11: A | BN11: Trình độ A | BQ11: B1 | BT11: =INDEX([1]DATA!$O$10:$O$285,MATCH(B11,[1]DATA!$C$10:$C$285,0)) -> V.07.01.03 | BU11: V.07.01.03 | BW11: 4 | BX11: 3.33 | CA11: 01/09/2016 | CV11: B1 | CX11: x | CY11: x | CZ11: 01/09/2008 | DA11: 01/09/2008 | DC11: DONG LUC\TRIEU PHU NGUYEN.pdf
A12: 06 | B12: Hồ Văn Hóa | C12: X | F12: X | G12: Nam | H12: =LEFT(L12,2) -> 29 | I12: =MID(L12,4,2) -> 06 | J12: =RIGHT(L12,4) -> 1987 | K12: TPHCM | L12: 29/06/1987 | M12: Khoa Động lực | O12: 024292308 | P12: 14/07/2004 | Q12: CA. TPHCM | R12: Kinh | S12: Không | U12: Xã Bình Mỹ, Huyện Củ Chi, Thành phố Hồ Chí Minh | V12: Tổ 8, ấp 7, xã Bình Mỹ, Huyện Củ Chi, TP.HCM | X12: 0906660312 | Y12: vanhoaspkt@gmail.com | Z12: #N/A | AB12: 01/09/2012 | AC12: Sở GDĐT TPHCM | AD12: 20/08/2012 | AE12: Hợp đồng không thời hạn | AG12: 20/08/2012 | AH12: Giảng viên | AS12: 12/12 | AT12: THPT | AU12: Thạc sỹ | AV12: =INDEX([1]DATA!$W$10:$W$285,MATCH(B12,[1]DATA!$C$10:$C$285,0)) -> Thạc sĩ | AW12: =INDEX([1]DATA!$X$10:$X$285,MATCH(B12,[1]DATA!$C$10:$C$285,0)) -> Kỹ sư Cơ khí Động lực | AX12: Kỹ thuật Cơ khí động lực | BB12: SP Bậc 2 - Chứng chỉ nghề bậc 3/7 | BD12: ĐHSPKT | BE12: Công nghệ Ô tô | BF12: 3 | BH12: =INDEX([1]DATA!$Z$10:$Z$285,MATCH(B12,[1]DATA!$C$10:$C$285,0)) -> Sơ cấp | BI12: - Thạc sỹ - Đại học | BJ12: Sơ cấp | BM12: B | BN12: Trình độ B | BQ12: B1 | BT12: =INDEX([1]DATA!$O$10:$O$285,MATCH(B12,[1]DATA!$C$10:$C$285,0)) -> V.07.01.03 | BU12: V.07.01.03 | BW12: 3 | BX12: 3 | CA12: 01/09/2018 | CB12: 0.05 | CC12: 01/09/2018 | CV12: - B1 - ĐH | CX12: x | CY12: x | CZ12: 01/09/2012 | DA12: 01/09/2012 | DB12: - 09/2011-9/2012: Nhân viên kỹ thuật CTCP SX TM DV TV An Lạc | DC12: DONG LUC\HO VAN HOA.pdf
